Workbook

Sheet NATIONAL 1
A1: Table 1
A2: PENAWARAN UNIT KEDAI MENGIKUT JENIS DI MALAYSIA | C2: LAPORAN STOK PERNIAGAAN [ existing shops] TAHUN 2000
A3: SUPPLY OF SHOP UNITS BY TYPES IN MALAYSIA
A6: Quarter Year | B6: States | D6: Prewar | E6: 1 - 1 1/2 storey | F6: 2 - 2 1/2 storey | G6: 3 - 3 1/2 storey | H6: 4 - 4 1/2 storey | I6: 5 - 5 1/2 storey | J6: 6-6 1/2 storey | K6: > 6 1/2 storey | L6: Detached | M6: Semi-det. | N6: Cluster | O6: Stratified | P6: TOTAL | R6: SOHO | S6: Servised
E7: Terraced | F7: Terraced | G7: Terraced | H7: Terraced | I7: Terraced | J7: Terraced | K7: Terraced | S7: Apartment
A9: EXISTING STOCK
A11: H1 2016 | B11: WP Kuala Lumpur | D11: 1197 | E11: 757 | F11: 5878 | G11: 7363 | H11: 6801 | I11: 892 | J11: 620 | K11: 258 | L11: 38 | M11: 0 | N11: 0 | O11: 1801 | P11: 25605 | R11: 1380 | S11: 35862
B12: WP Putrajaya | D12: 0 | E12: 0 | F12: 102 | G12: 145 | H12: 67 | I12: 0 | J12: 0 | K12: 0 | L12: 0 | M12: 0 | N12: 0 | O12: 106 | P12: 420 | R12: 0 | S12: 0
B13: WP Labuan | D13: 0 | E13: 26 | F13: 167 | G13: 370 | H13: 8 | I13: 36 | J13: 8 | K13: 2 | L13: 151 | M13: 4 | N13: 0 | O13: 117 | P13: 889 | R13: 0 | S13: 0
B14: Selangor | D14: 1179 | E14: 6933 | F14: 28485 | G14: 23553 | H14: 12595 | I14: 730 | J14: 321 | K14: 488 | L14: 55 | M14: 118 | N14: 0 | O14: 12740 | P14: 87197 | R14: 4371 | S14: 27880
B15: Johor | D15: 2794 | E15: 10893 | F15: 39528 | G15: 13262 | H15: 3842 | I15: 119 | J15: 17 | K15: 3 | L15: 119 | M15: 40 | N15: 0 | O15: 3374 | P15: 73991 | R15: 0 | S15: 12197
B16: Pulau Pinang | D16: 4816 | E16: 1370 | F16: 13455 | G16: 5767 | H16: 732 | I16: 272 | J16: 8 | K16: 0 | L16: 16 | M16: 24 | N16: 0 | O16: 5226 | P16: 31686 | R16: 694 | S16: 1625
B17: Perak | D17: 5798 | E17: 4792 | F17: 30307 | G17: 7609 | H17: 1838 | I17: 101 | J17: 10 | K17: 15 | L17: 291 | M17: 152 | N17: 0 | O17: 2783 | P17: 53696 | R17: 405 | S17: 375
B18: Negeri Sembilan | D18: 1345 | E18: 2670 | F18: 10411 | G18: 3876 | H18: 624 | I18: 121 | J18: 21 | K18: 3 | L18: 48 | M18: 68 | N18: 0 | O18: 323 | P18: 19510 | R18: 104 | S18: 6677
B19: Melaka | D19: 2086 | E19: 2431 | F19: 9090 | G19: 3006 | H19: 654 | I19: 30 | J19: 7 | K19: 0 | L19: 0 | M19: 0 | N19: 0 | O19: 1548 | P19: 18852 | R19: 0 | S19: 1086
B20: Kedah | D20: 1883 | E20: 6291 | F20: 13552 | G20: 3653 | H20: 302 | I20: 10 | J20: 8 | K20: 0 | L20: 780 | M20: 68 | N20: 0 | O20: 337 | P20: 26884 | R20: 0 | S20: 573
B21: Pahang | D21: 782 | E21: 2590 | F21: 11008 | G21: 6020 | H21: 628 | I21: 34 | J21: 0 | K21: 0 | L21: 91 | M21: 12 | N21: 0 | O21: 724 | P21: 21889 | R21: 0 | S21: 2759
B22: Terengganu | D22: 331 | E22: 522 | F22: 3050 | G22: 1381 | H22: 572 | I22: 37 | J22: 10 | K22: 0 | L22: 347 | M22: 70 | N22: 0 | O22: 136 | P22: 6456 | R22: 0 | S22: 0
B23: Kelantan | D23: 409 | E23: 1226 | F23: 4959 | G23: 2066 | H23: 528 | I23: 21 | J23: 2 | K23: 2 | L23: 20 | M23: 0 | N23: 0 | O23: 66 | P23: 9299 | R23: 0 | S23: 75
... B28: MALAYSIA | D28: 23953 | E28: 41994 | F28: 187183 | G28: 97502 | H28: 36012 | I28: 2976 | J28: 1451 | K28: 945 | L28: 2048 | M28: 670 | N28: 0 | O28: 32110 | P28: 426844 | R28: 7161 | S28: 89997
A30: H2 2016 | B30: WP Kuala Lumpur | D30: 1197 | E30: 757 | F30: 5878 | G30: 7363 | H30: 6801 | I30: 892 | J30: 620 | K30: 258 | L30: 38 | M30: 0 | N30: 0 | O30: 1949 | P30: 25753 | R30: 1547 | S30: 38379
B31: WP Putrajaya | D31: 0 | E31: 0 | F31: 102 | G31: 145 | H31: 67 | I31: 0 | J31: 0 | K31: 0 | L31: 0 | M31: 0 | N31: 0 | O31: 106 | P31: 420 | R31: 0 | S31: 0
B32: WP Labuan | D32: 0 | E32: 26 | F32: 167 | G32: 370 | H32: 8 | I32: 36 | J32: 8 | K32: 2 | L32: 151 | M32: 4 | N32: 0 | O32: 117 | P32: 889 | R32: 0 | S32: 0
B33: Selangor | D33: 1179 | E33: 7003 | F33: 28637 | G33: 23602 | H33: 12684 | I33: 730 | J33: 321 | K33: 488 | L33: 55 | M33: 118 | N33: 0 | O33: 12815 | P33: 87632 | R33: 6978 | S33: 29755
B34: Johor | D34: 2794 | E34: 10893 | F34: 39985 | G34: 13670 | H34: 3842 | I34: 119 | J34: 17 | K34: 3 | L34: 119 | M34: 40 | N34: 0 | O34: 3395 | P34: 74877 | R34: 0 | S34: 12623
B35: Pulau Pinang | D35: 4816 | E35: 1379 | F35: 13763 | G35: 5817 | H35: 733 | I35: 273 | J35: 8 | K35: 0 | L35: 18 | M35: 30 | N35: 0 | O35: 5266 | P35: 32103 | R35: 1464 | S35: 1625
B36: Perak | D36: 5798 | E36: 4809 | F36: 30723 | G36: 7842 | H36: 1842 | I36: 101 | J36: 12 | K36: 15 | L36: 291 | M36: 152 | N36: 0 | O36: 2824 | P36: 54409 | R36: 565 | S36: 375
B37: Negeri Sembilan | D37: 1345 | E37: 2720 | F37: 10545 | G37: 3922 | H37: 626 | I37: 121 | J37: 21 | K37: 3 | L37: 48 | M37: 68 | N37: 0 | O37: 323 | P37: 19742 | R37: 104 | S37: 6677
B38: Melaka | D38: 2086 | E38: 2431 | F38: 9090 | G38: 3082 | H38: 674 | I38: 30 | J38: 7 | K38: 0 | L38: 0 | M38: 0 | N38: 0 | O38: 1548 | P38: 18948 | R38: 0 | S38: 1086
B39: Kedah | D39: 1883 | E39: 6291 | F39: 13687 | G39: 3661 | H39: 302 | I39: 10 | J39: 8 | K39: 0 | L39: 780 | M39: 68 | N39: 0 | O39: 337 | P39: 27027 | R39: 0 | S39: 573
B40: Pahang | D40: 782 | E40: 2590 | F40: 11131 | G40: 6255 | H40: 636 | I40: 34 | J40: 0 | K40: 0 | L40: 92 | M40: 12 | N40: 0 | O40: 760 | P40: 22292 | R40: 0 | S40: 2759
B41: Terengganu | D41: 331 | E41: 522 | F41: 3104 | G41: 1464 | H41: 578 | I41: 37 | J41: 10 | K41: 0 | L41: 347 | M41: 70 | N41: 0 | O41: 136 | P41: 6599 | R41: 0 | S41: 0
B42: Kelantan | D42: 409 | E42: 1239 | F42: 5070 | G42: 2139 | H42: 529 | I42: 21 | J42: 2 | K42: 2 | L42: 20 | M42: 0 | N42: 0 | O42: 66 | P42: 9497 | R42: 0 | S42: 75
B43: Perlis | D43: 170 | E43: 654 | F43: 2641 | G43: 598 | H43: 30 | I43: 0 | J43: 0 | K43: 0 | L43: 3 | M43: 0 | N43: 0 | O43: 0 | P43: 4096 | R43: 0 | S43: 0
B44: Sabah | E44: 372 | F44: 8831 | G44: 4953 | H44: 2200 | I44: 528 | J44: 379 | K44: 172 | L44: 28 | M44: 130 | N44: 0 | O44: 595 | P44: 18188 | R44: 152 | S44: 888
B45: Sarawak | D45: 1163 | E45: 489 | F45: 6086 | G45: 15038 | H45: 4688 | I45: 45 | J45: 40 | K45: 2 | L45: 63 | M45: 106 | N45: 0 | O45: 2234 | P45: 29954 | R45: 55 | S45: 0
B47: MALAYSIA | D47: 23953 | E47: 42175 | F47: 189440 | G47: 99921 | H47: 36240 | I47: 2977 | J47: 1453 | K47: 945 | L47: 2053 | M47: 798 | N47: 0 | O47: 32471 | P47: 432426 | R47: 10865 | S47: 94815
A49: H1 2017 | B49: WP Kuala Lumpur | D49: 1197 | E49: 757 | F49: 5878 | G49: 7363 | H49: 6801 | I49: 892 | J49: 620 | K49: 258 | L49: 38 | M49: 0 | N49: 0 | O49: 1949 | P49: 25753 | R49: 1547 | S49: 40315
B50: WP Putrajaya | D50: 0 | E50: 0 | F50: 102 | G50: 145 | H50: 67 | I50: 0 | J50: 0 | K50: 0 | L50: 0 | M50: 0 | N50: 0 | O50: 106 | P50: 420 | R50: 0 | S50: 0
B51: WP Labuan | D51: 0 | E51: 26 | F51: 167 | G51: 370 | H51: 8 | I51: 36 | J51: 8 | K51: 2 | L51: 151 | M51: 4 | N51: 0 | O51: 117 | P51: 889 | R51: 0 | S51: 0
...

Sheet CONTENT
A2: JADUAL PENAWARAN UNIT KEDAI MENGIKUT JENIS H1 2026
A3: SUPPLY OF SHOP UNITS BY TYPES H1 2026
A5: JADUAL | B5: NEGERI
A7: 2 | B7: MALAYSIA
A9: 2.1 | B9: WP KUALA LUMPUR
A11: 2.2 | B11: WP PUTRAJAYA
A13: 2.3 | B13: WP LABUAN
A15: 2.4 | B15: SELANGOR
A17: 2.5 | B17: JOHOR
A19: 2.6 | B19: PULAU PINANG
A21: 2.7 | B21: PERAK
A23: 2.8 | B23: NEGERI SEMBILAN
A25: 2.9 | B25: MELAKA
A27: 2.1 | B27: KEDAH
A29: 2.11 | B29: PAHANG
... A39: 2.16 | B39: SARAWAK

Sheet 2.0
A1: Table 2.0
A2: PENAWARAN UNIT KEDAI MENGIKUT JENIS DI MALAYSIA
A3: SUPPLY OF SHOP UNITS BY TYPES IN MALAYSIA
A5: Quarter Year | B5: States | C5: Prewar | D5: 1 - 1 1/2 storey | E5: 2 - 2 1/2 storey | F5: 3 - 3 1/2 storey | G5: 4 - 4 1/2 storey | H5: 5 - 5 1/2 storey | I5: 6-6 1/2 storey | J5: > 6 1/2 storey | K5: Detached | L5: Semi-det. | M5: Cluster | N5: Stratified | O5: TOTAL | Q5: SOHO | R5: Serviced Apartment
D6: Terraced | E6: Terraced | F6: Terraced | G6: Terraced | H6: Terraced | I6: Terraced | J6: Terraced
A8: EXISTING STOCK
A10: H1 2025 | B10: WP Kuala Lumpur | C10: 1197 | D10: 989 | E10: 6267 | F10: 7826 | G10: 5902 | H10: 1486 | I10: 1571 | J10: 76 | K10: 106 | L10: 40 | M10: 0 | N10: 4996 | O10: 30456 | Q10: 10273 | R10: 143598
B11: WP Putrajaya | C11: 0 | D11: 0 | E11: 125 | F11: 201 | G11: 106 | H11: 0 | I11: 0 | J11: 0 | K11: 0 | L11: 0 | M11: 0 | N11: 106 | O11: 538 | Q11: 0 | R11: 1204
B12: WP Labuan | C12: 0 | D12: 26 | E12: 264 | F12: 390 | G12: 8 | H12: 32 | I12: 8 | J12: 2 | K12: 156 | L12: 4 | M12: 0 | N12: 183 | O12: 1073 | Q12: 0 | R12: 0
B13: Selangor | C13: 716 | D13: 7969 | E13: 36497 | F13: 28125 | G13: 12541 | H13: 1912 | I13: 1266 | J13: 1501 | K13: 312 | L13: 438 | M13: 15 | N13: 19971 | O13: 111263 | Q13: 47914 | R13: 137999
B14: Johor | C14: 2821 | D14: 11759 | E14: 49514 | F14: 20283 | G14: 6142 | H14: 224 | I14: 12 | J14: 344 | K14: 762 | L14: 278 | M14: 0 | N14: 5892 | O14: 98031 | Q14: 3567 | R14: 109425
B15: Pulau Pinang | C15: 4553 | D15: 1082 | E15: 16052 | F15: 7310 | G15: 1957 | H15: 166 | I15: 7 | J15: 3 | K15: 156 | L15: 474 | M15: 0 | N15: 7733 | O15: 39493 | Q15: 4714 | R15: 10751
B16: Perak | C16: 5507 | D16: 5105 | E16: 32626 | F16: 11760 | G16: 1802 | H16: 74 | I16: 288 | J16: 3 | K16: 529 | L16: 154 | M16: 0 | N16: 1075 | O16: 58923 | Q16: 1043 | R16: 1567
B17: Negeri Sembilan | C17: 876 | D17: 3304 | E17: 15652 | F17: 5492 | G17: 1219 | H17: 114 | I17: 18 | J17: 1 | K17: 116 | L17: 66 | M17: 0 | N17: 277 | O17: 27135 | Q17: 104 | R17: 16183
B18: Melaka | C18: 2094 | D18: 2542 | E18: 11427 | F18: 4623 | G18: 2009 | H18: 85 | I18: 106 | J18: 175 | K18: 81 | L18: 46 | M18: 0 | N18: 1411 | O18: 24599 | Q18: 0 | R18: 10820
B19: Kedah | C19: 1847 | D19: 6210 | E19: 18147 | F19: 4376 | G19: 203 | H19: 22 | I19: 8 | J19: 13 | K19: 283 | L19: 76 | M19: 0 | N19: 274 | O19: 31459 | Q19: 0 | R19: 637
B20: Pahang | C20: 782 | D20: 2893 | E20: 13537 | F20: 7134 | G20: 779 | H20: 57 | I20: 1 | J20: 0 | K20: 170 | L20: 56 | M20: 0 | N20: 976 | O20: 26385 | Q20: 0 | R20: 10085
B21: Terengganu | C21: 331 | D21: 637 | E21: 3880 | F21: 1920 | G21: 800 | H21: 120 | I21: 10 | J21: 0 | K21: 482 | L21: 72 | M21: 0 | N21: 270 | O21: 8522 | Q21: 0 | R21: 276
B22: Kelantan | C22: 399 | D22: 2011 | E22: 6824 | F22: 3698 | G22: 801 | H22: 52 | I22: 6 | J22: 2 | K22: 368 | L22: 210 | M22: 0 | N22: 371 | O22: 14742 | Q22: 0 | R22: 1694
... B27: MALAYSIA | C27: 22455 | D27: 46601 | E27: 235025 | F27: 134082 | G27: 45403 | H27: 5500 | I27: 3641 | J27: 2655 | K27: 3845 | L27: 2297 | M27: 203 | N27: 48710 | O27: 550417 | Q27: 68645 | R27: 449129
A29: H2 2025 | B29: WP Kuala Lumpur | C29: 1197 | D29: 989 | E29: 6277 | F29: 8014 | G29: 5919 | H29: 1490 | I29: 1571 | J29: 76 | K29: 106 | L29: 40 | M29: 0 | N29: 5294 | O29: 30973 | Q29: 12266 | R29: 150954
B30: WP Putrajaya | C30: 0 | D30: 0 | E30: 125 | F30: 201 | G30: 106 | H30: 0 | I30: 0 | J30: 0 | K30: 0 | L30: 0 | M30: 0 | N30: 106 | O30: 538 | Q30: 0 | R30: 1204
B31: WP Labuan | C31: 0 | D31: 26 | E31: 264 | F31: 390 | G31: 8 | H31: 32 | I31: 8 | J31: 2 | K31: 156 | L31: 4 | M31: 0 | N31: 183 | O31: 1073 | Q31: 0 | R31: 0
B32: Selangor | C32: 716 | D32: 7981 | E32: 37104 | F32: 28563 | G32: 12696 | H32: 2181 | I32: 1266 | J32: 1501 | K32: 313 | L32: 696 | M32: 15 | N32: 20214 | O32: 113246 | Q32: 51941 | R32: 150385
B33: Johor | C33: 2821 | D33: 11795 | E33: 50255 | F33: 20605 | G33: 6207 | H33: 164 | I33: 12 | J33: 344 | K33: 752 | L33: 276 | M33: 0 | N33: 5529 | O33: 98760 | Q33: 2928 | R33: 109850
B34: Pulau Pinang | C34: 4553 | D34: 1082 | E34: 16252 | F34: 7313 | G34: 1955 | H34: 166 | I34: 7 | J34: 3 | K34: 155 | L34: 474 | M34: 0 | N34: 7955 | O34: 39915 | Q34: 5674 | R34: 10751
B35: Perak | C35: 5507 | D35: 5158 | E35: 32763 | F35: 11755 | G35: 1802 | H35: 74 | I35: 288 | J35: 3 | K35: 528 | L35: 154 | M35: 0 | N35: 1144 | O35: 59176 | Q35: 1043 | R35: 2223
B36: Negeri Sembilan | C36: 876 | D36: 3403 | E36: 16036 | F36: 5637 | G36: 1219 | H36: 173 | I36: 18 | J36: 1 | K36: 71 | L36: 66 | M36: 0 | N36: 277 | O36: 27777 | Q36: 104 | R36: 16744
B37: Melaka | C37: 2094 | D37: 2571 | E37: 11643 | F37: 4692 | G37: 2009 | H37: 85 | I37: 106 | J37: 175 | K37: 81 | L37: 46 | M37: 0 | N37: 1411 | O37: 24913 | Q37: 0 | R37: 12420
B38: Kedah | C38: 1821 | D38: 6305 | E38: 18239 | F38: 4422 | G38: 199 | H38: 22 | I38: 8 | J38: 13 | K38: 285 | L38: 80 | M38: 0 | N38: 274 | O38: 31668 | Q38: 0 | R38: 637
B39: Pahang | C39: 782 | D39: 2924 | E39: 13531 | F39: 7227 | G39: 781 | H39: 57 | I39: 1 | J39: 0 | K39: 140 | L39: 64 | M39: 0 | N39: 986 | O39: 26493 | Q39: 0 | R39: 11707
B40: Terengganu | C40: 331 | D40: 673 | E40: 4078 | F40: 2004 | G40: 832 | H40: 123 | I40: 10 | J40: 0 | K40: 488 | L40: 74 | M40: 0 | N40: 270 | O40: 8883 | Q40: 0 | R40: 276
B41: Kelantan | C41: 399 | D41: 2021 | E41: 6859 | F41: 3800 | G41: 814 | H41: 52 | I41: 6 | J41: 2 | K41: 371 | L41: 210 | M41: 0 | N41: 371 | O41: 14905 | Q41: 0 | R41: 1694
... B46: MALAYSIA | C46: 22429 | D46: 47027 | E46: 238021 | F46: 135853 | G46: 45667 | H46: 5775 | I46: 3695 | J46: 2655 | K46: 3767 | L46: 2557 | M46: 203 | N46: 49792 | O46: 557441 | Q46: 74986 | R46: 474018
A48: H1 2026 | B48: WP Kuala Lumpur | C48: 1197 | D48: 989 | E48: 6277 | F48: 8014 | G48: 5919 | H48: 1490 | I48: 1571 | J48: 76 | K48: 106 | L48: 40 | M48: 0 | N48: 5294 | O48: 30973 | Q48: 12266 | R48: 157032
B49: WP Putrajaya | C49: 0 | D49: 0 | E49: 125 | F49: 201 | G49: 106 | H49: 0 | I49: 0 | J49: 0 | K49: 0 | L49: 0 | M49: 0 | N49: 106 | O49: 538 | Q49: 0 | R49: 1204
B50: WP Labuan | C50: 0 | D50: 26 | E50: 264 | F50: 390 | G50: 8 | H50: 32 | I50: 8 | J50: 2 | K50: 156 | L50: 4 | M50: 0 | N50: 183 | O50: 1073 | Q50: 0 | R50: 0
B51: Selangor | C51: 716 | D51: 8061 | E51: 37910 | F51: 28723 | G51: 12815 | H51: 2245 | I51: 1266 | J51: 1501 | K51: 314 | L51: 546 | M51: 15 | N51: 20383 | O51: 114495 | Q51: 52463 | R51: 162385
B52: Johor | C52: 2821 | D52: 12002 | E52: 50595 | F52: 20930 | G52: 6262 | H52: 164 | I52: 12 | J52: 344 | K52: 754 | L52: 332 | M52: 0 | N52: 5534 | O52: 99750 | Q52: 2928 | R52: 110600
B53: Pulau Pinang | C53: 4553 | D53: 1082 | E53: 16245 | F53: 7327 | G53: 1961 | H53: 166 | I53: 7 | J53: 3 | K53: 159 | L53: 498 | M53: 0 | N53: 8144 | O53: 40145 | Q53: 5674 | R53: 11503
...

Sheet 2.1
A1: Table 2.1
A2: PENAWARAN UNIT KEDAI MENGIKUT JENIS DI KUALA LUMPUR
A3: SUPPLY OF SHOP UNITS BY TYPES IN KUALA LUMPUR
A5: Quarter Year | B5: Mukim | C5: Prewar | D5: 1 - 1 1/2 storey Terraced | E5: 2 - 2 1/2 storey Terraced | F5: 3 - 3 1/2 storey Terraced | G5: 4 - 4 1/2 storey Terraced | H5: 5 - 5 1/2 storey Terraced | I5: 6-6 1/2 storey Terraced | J5: > 6 1/2 storey Terraced | K5: Detached | L5: Semi-det. | M5: Cluster | N5: Stratified | O5: Total | Q5: Soho | R5: Serviced Apartment
A7: EXISTING STOCK
A9: H1 2025 | B9: Bandar Kuala Lumpur | C9: 1197 | D9: 173 | E9: 840 | F9: 911 | G9: 790 | H9: 322 | I9: 100 | J9: 40 | K9: 1 | L9: 0 | M9: 0 | N9: 502 | O9: 4876 | Q9: 3120 | R9: 49532
B10: Petaling Jaya | C10: 0 | D10: 0 | E10: 0 | F10: 0 | G10: 0 | H10: 0 | I10: 0 | J10: 0 | K10: 0 | L10: 0 | M10: 0 | N10: 0 | O10: 0 | Q10: 0 | R10: 96
B11: Ampang | C11: 0 | D11: 7 | E11: 38 | F11: 0 | G11: 840 | H11: 0 | I11: 0 | J11: 0 | K11: 0 | L11: 0 | M11: 0 | N11: 13 | O11: 898 | Q11: 2674 | R11: 2869
B12: Batu | C12: 0 | D12: 510 | E12: 1762 | F12: 1452 | G12: 1736 | H12: 29 | I12: 446 | J12: 0 | K12: 0 | L12: 0 | M12: 0 | N12: 1607 | O12: 7542 | Q12: 1589 | R12: 27978
B13: Cheras | C13: 0 | D13: 25 | E13: 236 | F13: 141 | G13: 8 | H13: 14 | I13: 0 | J13: 0 | K13: 0 | L13: 0 | M13: 0 | N13: 0 | O13: 424 | Q13: 0 | R13: 0
B14: Hulu Kelang | C14: 0 | D14: 0 | E14: 54 | F14: 0 | G14: 0 | H14: 0 | I14: 0 | J14: 0 | K14: 0 | L14: 0 | M14: 0 | N14: 0 | O14: 54 | Q14: 0 | R14: 0
B15: Kuala Lumpur | C15: 0 | D15: 0 | E15: 1096 | F15: 2040 | G15: 721 | H15: 182 | I15: 0 | J15: 0 | K15: 1 | L15: 0 | M15: 0 | N15: 577 | O15: 4617 | Q15: 1213 | R15: 22351
B16: Petaling | C16: 0 | D16: 75 | E16: 1736 | F16: 1577 | G16: 787 | H16: 871 | I16: 195 | J16: 36 | K16: 104 | L16: 26 | M16: 0 | N16: 1349 | O16: 6756 | Q16: 1253 | R16: 26241
B17: Setapak | C17: 0 | D17: 199 | E17: 505 | F17: 1705 | G17: 1020 | H17: 68 | I17: 830 | J17: 0 | K17: 0 | L17: 14 | M17: 0 | N17: 948 | O17: 5289 | Q17: 424 | R17: 14531
B19: KUALA LUMPUR | C19: 1197 | D19: 989 | E19: 6267 | F19: 7826 | G19: 5902 | H19: 1486 | I19: 1571 | J19: 76 | K19: 106 | L19: 40 | M19: 0 | N19: 4996 | O19: 30456 | Q19: 10273 | R19: 143598
A21: H2 2025 | B21: Bandar Kuala Lumpur | C21: 1197 | D21: 173 | E21: 840 | F21: 911 | G21: 790 | H21: 322 | I21: 100 | J21: 40 | K21: 1 | L21: 0 | M21: 0 | N21: 529 | O21: 4903 | Q21: 3793 | R21: 53653
B22: Petaling Jaya | C22: 0 | D22: 0 | E22: 0 | F22: 0 | G22: 0 | H22: 0 | I22: 0 | J22: 0 | K22: 0 | L22: 0 | M22: 0 | N22: 0 | O22: 0 | Q22: 0 | R22: 96
B23: Ampang | C23: 0 | D23: 7 | E23: 38 | F23: 0 | G23: 840 | H23: 0 | I23: 0 | J23: 0 | K23: 0 | L23: 0 | M23: 0 | N23: 13 | O23: 898 | Q23: 2674 | R23: 2811
B24: Batu | C24: 0 | D24: 510 | E24: 1762 | F24: 1452 | G24: 1736 | H24: 29 | I24: 446 | J24: 0 | K24: 0 | L24: 0 | M24: 0 | N24: 1650 | O24: 7585 | Q24: 1589 | R24: 29586
B25: Cheras | C25: 0 | D25: 25 | E25: 236 | F25: 141 | G25: 8 | H25: 14 | I25: 0 | J25: 0 | K25: 0 | L25: 0 | M25: 0 | N25: 35 | O25: 459 | Q25: 0 | R25: 0
B26: Hulu Kelang | C26: 0 | D26: 0 | E26: 54 | F26: 0 | G26: 0 | H26: 0 | I26: 0 | J26: 0 | K26: 0 | L26: 0 | M26: 0 | N26: 0 | O26: 54 | Q26: 0 | R26: 0
B27: Kuala Lumpur | C27: 0 | D27: 0 | E27: 1096 | F27: 2095 | G27: 728 | H27: 182 | I27: 0 | J27: 0 | K27: 1 | L27: 0 | M27: 0 | N27: 584 | O27: 4686 | Q27: 2533 | R27: 22933
B28: Petaling | C28: 0 | D28: 75 | E28: 1746 | F28: 1710 | G28: 797 | H28: 875 | I28: 195 | J28: 36 | K28: 104 | L28: 26 | M28: 0 | N28: 1461 | O28: 7025 | Q28: 1253 | R28: 25653
B29: Setapak | C29: 0 | D29: 199 | E29: 505 | F29: 1705 | G29: 1020 | H29: 68 | I29: 830 | J29: 0 | K29: 0 | L29: 14 | M29: 0 | N29: 1022 | O29: 5363 | Q29: 424 | R29: 16222
B31: KUALA LUMPUR | C31: 1197 | D31: 989 | E31: 6277 | F31: 8014 | G31: 5919 | H31: 1490 | I31: 1571 | J31: 76 | K31: 106 | L31: 40 | M31: 0 | N31: 5294 | O31: 30973 | Q31: 12266 | R31: 150954
A33: H1 2026 | B33: Bandar Kuala Lumpur | C33: 1197 | D33: 173 | E33: 840 | F33: 911 | G33: 790 | H33: 322 | I33: 100 | J33: 40 | K33: 1 | L33: 0 | M33: 0 | N33: 529 | O33: 4903 | Q33: 3793 | R33: 57506
B34: Petaling Jaya | C34: 0 | D34: 0 | E34: 0 | F34: 0 | G34: 0 | H34: 0 | I34: 0 | J34: 0 | K34: 0 | L34: 0 | M34: 0 | N34: 0 | O34: 0 | Q34: 0 | R34: 96
B35: Ampang | C35: 0 | D35: 7 | E35: 38 | F35: 0 | G35: 840 | H35: 0 | I35: 0 | J35: 0 | K35: 0 | L35: 0 | M35: 0 | N35: 13 | O35: 898 | Q35: 2674 | R35: 2811
B36: Batu | C36: 0 | D36: 510 | E36: 1762 | F36: 1452 | G36: 1736 | H36: 29 | I36: 446 | J36: 0 | K36: 0 | L36: 0 | M36: 0 | N36: 1650 | O36: 7585 | Q36: 1589 | R36: 28967
B37: Cheras | C37: 0 | D37: 25 | E37: 236 | F37: 141 | G37: 8 | H37: 14 | I37: 0 | J37: 0 | K37: 0 | L37: 0 | M37: 0 | N37: 35 | O37: 459 | Q37: 0 | R37: 0
B38: Hulu Kelang | C38: 0 | D38: 0 | E38: 54 | F38: 0 | G38: 0 | H38: 0 | I38: 0 | J38: 0 | K38: 0 | L38: 0 | M38: 0 | N38: 0 | O38: 54 | Q38: 0 | R38: 0
B39: Kuala Lumpur | C39: 0 | D39: 0 | E39: 1096 | F39: 2095 | G39: 728 | H39: 182 | I39: 0 | J39: 0 | K39: 1 | L39: 0 | M39: 0 | N39: 584 | O39: 4686 | Q39: 2533 | R39: 24956
B40: Petaling | C40: 0 | D40: 75 | E40: 1746 | F40: 1710 | G40: 797 | H40: 875 | I40: 195 | J40: 36 | K40: 104 | L40: 26 | M40: 0 | N40: 1461 | O40: 7025 | Q40: 1253 | R40: 26634
B41: Setapak | C41: 0 | D41: 199 | E41: 505 | F41: 1705 | G41: 1020 | H41: 68 | I41: 830 | J41: 0 | K41: 0 | L41: 14 | M41: 0 | N41: 1022 | O41: 5363 | Q41: 424 | R41: 16062
B43: KUALA LUMPUR | C43: 1197 | D43: 989 | E43: 6277 | F43: 8014 | G43: 5919 | H43: 1490 | I43: 1571 | J43: 76 | K43: 106 | L43: 40 | M43: 0 | N43: 5294 | O43: 30973 | Q43: 12266 | R43: 157032
B45: COMPLETION
A47: H1 2025 | B47: Bandar Kuala Lumpur | C47: 0 | D47: 0 | E47: 0 | F47: 0 | G47: 0 | H47: 0 | I47: 0 | J47: 0 | K47: 0 | L47: 0 | M47: 0 | N47: 0 | O47: 0 | Q47: 0 | R47: 140
B48: Petaling Jaya | C48: 0 | D48: 0 | E48: 0 | F48: 0 | G48: 0 | H48: 0 | I48: 0 | J48: 0 | K48: 0 | L48: 0 | M48: 0 | N48: 0 | O48: 0 | Q48: 0 | R48: 0
B49: Ampang | C49: 0 | D49: 0 | E49: 0 | F49: 0 | G49: 0 | H49: 0 | I49: 0 | J49: 0 | K49: 0 | L49: 0 | M49: 0 | N49: 0 | O49: 0 | Q49: 0 | R49: 0
B50: Batu | C50: 0 | D50: 0 | E50: 0 | F50: 0 | G50: 0 | H50: 0 | I50: 0 | J50: 0 | K50: 0 | L50: 0 | M50: 0 | N50: 23 | O50: 23 | Q50: 0 | R50: 1708
...

Sheet 2.2
A1: Table 2.2
A2: PENAWARAN UNIT KEDAI MENGIKUT JENIS DI PUTRAJAYA
A3: SUPPLY OF SHOP UNITS BY TYPES IN PUTRAJAYA
A5: Quarter Year | B5: Mukim | C5: Prewar | D5: 1 - 1 1/2 storey Terraced | E5: 2 - 2 1/2 storey Terraced | F5: 3 - 3 1/2 storey Terraced | G5: 4 - 4 1/2 storey Terraced | H5: 5 - 5 1/2 storey Terraced | I5: 6-6 1/2 storey Terraced | J5: > 6 1/2 storey Terraced | K5: Detached | L5: Semi-det. | M5: Cluster | N5: Stratified | O5: Total | Q5: Soho | R5: Serviced Apartment
A7: EXISTING STOCK
A9: H1 2025 | B9: Presint 1 | C9: 0 | D9: 0 | E9: 0 | F9: 0 | G9: 0 | H9: 0 | I9: 0 | J9: 0 | K9: 0 | L9: 0 | M9: 0 | N9: 0 | O9: 0 | Q9: 0 | R9: 746
B10: Presint 5 | C10: 0 | D10: 0 | E10: 0 | F10: 0 | G10: 0 | H10: 0 | I10: 0 | J10: 0 | K10: 0 | L10: 0 | M10: 0 | N10: 0 | O10: 0 | Q10: 0 | R10: 458
B11: Presint 6 | C11: 0 | D11: 0 | E11: 0 | F11: 0 | G11: 0 | H11: 0 | I11: 0 | J11: 0 | K11: 0 | L11: 0 | M11: 0 | N11: 0 | O11: 0 | Q11: 0 | R11: 0
B12: Presint 7 | C12: 0 | D12: 0 | E12: 0 | F12: 0 | G12: 0 | H12: 0 | I12: 0 | J12: 0 | K12: 0 | L12: 0 | M12: 0 | N12: 0 | O12: 0 | Q12: 0 | R12: 0
B13: Presint 8 | C13: 0 | D13: 0 | E13: 53 | F13: 40 | G13: 16 | H13: 0 | I13: 0 | J13: 0 | K13: 0 | L13: 0 | M13: 0 | N13: 106 | O13: 215 | Q13: 0 | R13: 0
B14: Presint 9 | C14: 0 | D14: 0 | E14: 18 | F14: 14 | G14: 6 | H14: 0 | I14: 0 | J14: 0 | K14: 0 | L14: 0 | M14: 0 | N14: 0 | O14: 38 | Q14: 0 | R14: 0
B15: Presint 10 | C15: 0 | D15: 0 | E15: 0 | F15: 0 | G15: 0 | H15: 0 | I15: 0 | J15: 0 | K15: 0 | L15: 0 | M15: 0 | N15: 0 | O15: 0 | Q15: 0 | R15: 0
B16: Presint 11 | C16: 0 | D16: 0 | E16: 8 | F16: 12 | G16: 0 | H16: 0 | I16: 0 | J16: 0 | K16: 0 | L16: 0 | M16: 0 | N16: 0 | O16: 20 | Q16: 0 | R16: 0
B17: Presint 12 | C17: 0 | D17: 0 | E17: 0 | F17: 0 | G17: 0 | H17: 0 | I17: 0 | J17: 0 | K17: 0 | L17: 0 | M17: 0 | N17: 0 | O17: 0 | Q17: 0 | R17: 0
B18: Presint 14 | C18: 0 | D18: 0 | E18: 0 | F18: 0 | G18: 0 | H18: 0 | I18: 0 | J18: 0 | K18: 0 | L18: 0 | M18: 0 | N18: 0 | O18: 0 | Q18: 0 | R18: 0
B19: Presint 15 | C19: 0 | D19: 0 | E19: 42 | F19: 135 | G19: 79 | H19: 0 | I19: 0 | J19: 0 | K19: 0 | L19: 0 | M19: 0 | N19: 0 | O19: 256 | Q19: 0 | R19: 0
B20: Presint 16 | C20: 0 | D20: 0 | E20: 0 | F20: 0 | G20: 5 | H20: 0 | I20: 0 | J20: 0 | K20: 0 | L20: 0 | M20: 0 | N20: 0 | O20: 5 | Q20: 0 | R20: 0
B21: Presint 17 | C21: 0 | D21: 0 | E21: 0 | F21: 0 | G21: 0 | H21: 0 | I21: 0 | J21: 0 | K21: 0 | L21: 0 | M21: 0 | N21: 0 | O21: 0 | Q21: 0 | R21: 0
... B24: W.P. PUTRAJAYA | C24: 0 | D24: 0 | E24: 125 | F24: 201 | G24: 106 | H24: 0 | I24: 0 | J24: 0 | K24: 0 | L24: 0 | M24: 0 | N24: 106 | O24: 538 | Q24: 0 | R24: 1204
A26: H2 2025 | B26: Presint 1 | C26: 0 | D26: 0 | E26: 0 | F26: 0 | G26: 0 | H26: 0 | I26: 0 | J26: 0 | K26: 0 | L26: 0 | M26: 0 | N26: 0 | O26: 0 | Q26: 0 | R26: 746
B27: Presint 5 | C27: 0 | D27: 0 | E27: 0 | F27: 0 | G27: 0 | H27: 0 | I27: 0 | J27: 0 | K27: 0 | L27: 0 | M27: 0 | N27: 0 | O27: 0 | Q27: 0 | R27: 458
B28: Presint 6 | C28: 0 | D28: 0 | E28: 0 | F28: 0 | G28: 0 | H28: 0 | I28: 0 | J28: 0 | K28: 0 | L28: 0 | M28: 0 | N28: 0 | O28: 0 | Q28: 0 | R28: 0
B29: Presint 7 | C29: 0 | D29: 0 | E29: 0 | F29: 0 | G29: 0 | H29: 0 | I29: 0 | J29: 0 | K29: 0 | L29: 0 | M29: 0 | N29: 0 | O29: 0 | Q29: 0 | R29: 0
B30: Presint 8 | C30: 0 | D30: 0 | E30: 53 | F30: 40 | G30: 16 | H30: 0 | I30: 0 | J30: 0 | K30: 0 | L30: 0 | M30: 0 | N30: 106 | O30: 215 | Q30: 0 | R30: 0
B31: Presint 9 | C31: 0 | D31: 0 | E31: 18 | F31: 14 | G31: 6 | H31: 0 | I31: 0 | J31: 0 | K31: 0 | L31: 0 | M31: 0 | N31: 0 | O31: 38 | Q31: 0 | R31: 0
B32: Presint 10 | C32: 0 | D32: 0 | E32: 0 | F32: 0 | G32: 0 | H32: 0 | I32: 0 | J32: 0 | K32: 0 | L32: 0 | M32: 0 | N32: 0 | O32: 0 | Q32: 0 | R32: 0
B33: Presint 11 | C33: 0 | D33: 0 | E33: 8 | F33: 12 | G33: 0 | H33: 0 | I33: 0 | J33: 0 | K33: 0 | L33: 0 | M33: 0 | N33: 0 | O33: 20 | Q33: 0 | R33: 0
B34: Presint 12 | C34: 0 | D34: 0 | E34: 0 | F34: 0 | G34: 0 | H34: 0 | I34: 0 | J34: 0 | K34: 0 | L34: 0 | M34: 0 | N34: 0 | O34: 0 | Q34: 0 | R34: 0
B35: Presint 14 | C35: 0 | D35: 0 | E35: 0 | F35: 0 | G35: 0 | H35: 0 | I35: 0 | J35: 0 | K35: 0 | L35: 0 | M35: 0 | N35: 0 | O35: 0 | Q35: 0 | R35: 0
B36: Presint 15 | C36: 0 | D36: 0 | E36: 42 | F36: 135 | G36: 79 | H36: 0 | I36: 0 | J36: 0 | K36: 0 | L36: 0 | M36: 0 | N36: 0 | O36: 256 | Q36: 0 | R36: 0
B37: Presint 16 | C37: 0 | D37: 0 | E37: 0 | F37: 0 | G37: 5 | H37: 0 | I37: 0 | J37: 0 | K37: 0 | L37: 0 | M37: 0 | N37: 0 | O37: 5 | Q37: 0 | R37: 0
B38: Presint 17 | C38: 0 | D38: 0 | E38: 0 | F38: 0 | G38: 0 | H38: 0 | I38: 0 | J38: 0 | K38: 0 | L38: 0 | M38: 0 | N38: 0 | O38: 0 | Q38: 0 | R38: 0
... B41: W.P. PUTRAJAYA | C41: 0 | D41: 0 | E41: 125 | F41: 201 | G41: 106 | H41: 0 | I41: 0 | J41: 0 | K41: 0 | L41: 0 | M41: 0 | N41: 106 | O41: 538 | Q41: 0 | R41: 1204
A43: H1 2026 | B43: Presint 1 | C43: 0 | D43: 0 | E43: 0 | F43: 0 | G43: 0 | H43: 0 | I43: 0 | J43: 0 | K43: 0 | L43: 0 | M43: 0 | N43: 0 | O43: 0 | Q43: 0 | R43: 746
B44: Presint 5 | C44: 0 | D44: 0 | E44: 0 | F44: 0 | G44: 0 | H44: 0 | I44: 0 | J44: 0 | K44: 0 | L44: 0 | M44: 0 | N44: 0 | O44: 0 | Q44: 0 | R44: 458
B45: Presint 6 | C45: 0 | D45: 0 | E45: 0 | F45: 0 | G45: 0 | H45: 0 | I45: 0 | J45: 0 | K45: 0 | L45: 0 | M45: 0 | N45: 0 | O45: 0 | Q45: 0 | R45: 0
B46: Presint 7 | C46: 0 | D46: 0 | E46: 0 | F46: 0 | G46: 0 | H46: 0 | I46: 0 | J46: 0 | K46: 0 | L46: 0 | M46: 0 | N46: 0 | O46: 0 | Q46: 0 | R46: 0
B47: Presint 8 | C47: 0 | D47: 0 | E47: 53 | F47: 40 | G47: 16 | H47: 0 | I47: 0 | J47: 0 | K47: 0 | L47: 0 | M47: 0 | N47: 106 | O47: 215 | Q47: 0 | R47: 0
B48: Presint 9 | C48: 0 | D48: 0 | E48: 18 | F48: 14 | G48: 6 | H48: 0 | I48: 0 | J48: 0 | K48: 0 | L48: 0 | M48: 0 | N48: 0 | O48: 38 | Q48: 0 | R48: 0
B49: Presint 10 | C49: 0 | D49: 0 | E49: 0 | F49: 0 | G49: 0 | H49: 0 | I49: 0 | J49: 0 | K49: 0 | L49: 0 | M49: 0 | N49: 0 | O49: 0 | Q49: 0 | R49: 0
...

Sheet 2.3
A1: Table 2.3
A2: PENAWARAN UNIT KEDAI MENGIKUT JENIS DI WILAYAH PERSEKUTUAN LABUAN
A3: SUPPLY OF SHOP UNITS BY TYPE IN WILAYAH PERSEKUTUAN LABUAN
A5: Quarter Year | B5: Mukim | C5: Prewar | D5: 1 - 1 1/2 storey Terraced | E5: 2 - 2 1/2 storey Terraced | F5: 3 - 3 1/2 storey Terraced | G5: 4 - 4 1/2 storey Terraced | H5: 5 - 5 1/2 storey Terraced | I5: 6-6 1/2 storey Terraced | J5: > 6 1/2 storey Terraced | K5: Detached | L5: Semi-det. | M5: Cluster | N5: Stratified | O5: Total | Q5: Soho | R5: Serviced Apartment
A7: EXISTING STOCK
A9: H1 2025 | B9: Labuan | C9: 0 | D9: 26 | E9: 264 | F9: 390 | G9: 8 | H9: 32 | I9: 8 | J9: 2 | K9: 156 | L9: 4 | M9: 0 | N9: 183 | O9: 1073 | Q9: 0 | R9: 0
B11: W.P. Labuan | C11: 0 | D11: 26 | E11: 264 | F11: 390 | G11: 8 | H11: 32 | I11: 8 | J11: 2 | K11: 156 | L11: 4 | M11: 0 | N11: 183 | O11: 1073 | Q11: 0 | R11: 0
A13: H2 2025 | B13: Labuan | C13: 0 | D13: 26 | E13: 264 | F13: 390 | G13: 8 | H13: 32 | I13: 8 | J13: 2 | K13: 156 | L13: 4 | M13: 0 | N13: 183 | O13: 1073 | Q13: 0 | R13: 0
B15: W.P. Labuan | C15: 0 | D15: 26 | E15: 264 | F15: 390 | G15: 8 | H15: 32 | I15: 8 | J15: 2 | K15: 156 | L15: 4 | M15: 0 | N15: 183 | O15: 1073 | Q15: 0 | R15: 0
A17: H1 2026 | B17: Labuan | C17: 0 | D17: 26 | E17: 264 | F17: 390 | G17: 8 | H17: 32 | I17: 8 | J17: 2 | K17: 156 | L17: 4 | M17: 0 | N17: 183 | O17: 1073 | Q17: 0 | R17: 0
B19: W.P. Labuan | C19: 0 | D19: 26 | E19: 264 | F19: 390 | G19: 8 | H19: 32 | I19: 8 | J19: 2 | K19: 156 | L19: 4 | M19: 0 | N19: 183 | O19: 1073 | Q19: 0 | R19: 0
B21: COMPLETION
A23: H1 2025 | B23: Labuan | C23: 0 | D23: 0 | E23: 20 | F23: 0 | G23: 0 | H23: 0 | I23: 0 | J23: 0 | K23: 0 | L23: 0 | M23: 0 | N23: 0 | O23: 20 | Q23: 0 | R23: 0
B25: W.P. Labuan | C25: 0 | D25: 0 | E25: 20 | F25: 0 | G25: 0 | H25: 0 | I25: 0 | J25: 0 | K25: 0 | L25: 0 | M25: 0 | N25: 0 | O25: 20 | Q25: 0 | R25: 0
A27: H2 2025 | B27: Labuan | C27: 0 | D27: 0 | E27: 0 | F27: 0 | G27: 0 | H27: 0 | I27: 0 | J27: 0 | K27: 0 | L27: 0 | M27: 0 | N27: 0 | O27: 0 | Q27: 0 | R27: 0
B29: W.P. Labuan | C29: 0 | D29: 0 | E29: 0 | F29: 0 | G29: 0 | H29: 0 | I29: 0 | J29: 0 | K29: 0 | L29: 0 | M29: 0 | N29: 0 | O29: 0 | Q29: 0 | R29: 0
A31: H1 2026 | B31: Labuan | C31: 0 | D31: 0 | E31: 0 | F31: 0 | G31: 0 | H31: 0 | I31: 0 | J31: 0 | K31: 0 | L31: 0 | M31: 0 | N31: 0 | O31: 0 | Q31: 0 | R31: 0
B33: W.P. Labuan | C33: 0 | D33: 0 | E33: 0 | F33: 0 | G33: 0 | H33: 0 | I33: 0 | J33: 0 | K33: 0 | L33: 0 | M33: 0 | N33: 0 | O33: 0 | Q33: 0 | R33: 0
A35: INCOMING SUPPLY
A37: H1 2025 | B37: Labuan | C37: 0 | D37: 0 | E37: 12 | F37: 0 | G37: 0 | H37: 18 | I37: 0 | J37: 0 | K37: 0 | L37: 0 | M37: 0 | N37: 0 | O37: 30 | Q37: 0 | R37: 0
B39: W.P. Labuan | C39: 0 | D39: 0 | E39: 12 | F39: 0 | G39: 0 | H39: 18 | I39: 0 | J39: 0 | K39: 0 | L39: 0 | M39: 0 | N39: 0 | O39: 30 | Q39: 0 | R39: 0
A41: H2 2025 | B41: Labuan | C41: 0 | D41: 0 | E41: 12 | F41: 0 | G41: 0 | H41: 0 | I41: 0 | J41: 0 | K41: 0 | L41: 0 | M41: 0 | N41: 0 | O41: 12 | Q41: 0 | R41: 0
B43: W.P. Labuan | C43: 0 | D43: 0 | E43: 12 | F43: 0 | G43: 0 | H43: 0 | I43: 0 | J43: 0 | K43: 0 | L43: 0 | M43: 0 | N43: 0 | O43: 12 | Q43: 0 | R43: 0
A45: H1 2026 | B45: Labuan | C45: 0 | D45: 0 | E45: 12 | F45: 0 | G45: 0 | H45: 0 | I45: 0 | J45: 0 | K45: 0 | L45: 0 | M45: 0 | N45: 0 | O45: 12 | Q45: 0 | R45: 0
B47: W.P. Labuan | C47: 0 | D47: 0 | E47: 12 | F47: 0 | G47: 0 | H47: 0 | I47: 0 | J47: 0 | K47: 0 | L47: 0 | M47: 0 | N47: 0 | O47: 12 | Q47: 0 | R47: 0
B49: STARTS
A51: H1 2025 | B51: Labuan | C51: 0 | D51: 0 | E51: 0 | F51: 0 | G51: 0 | H51: 0 | I51: 0 | J51: 0 | K51: 0 | L51: 0 | M51: 0 | N51: 0 | O51: 0 | Q51: 0 | R51: 0
B53: W.P. Labuan | C53: 0 | D53: 0 | E53: 0 | F53: 0 | G53: 0 | H53: 0 | I53: 0 | J53: 0 | K53: 0 | L53: 0 | M53: 0 | N53: 0 | O53: 0 | Q53: 0 | R53: 0
A55: H2 2025 | B55: Labuan | C55: 0 | D55: 0 | E55: 0 | F55: 0 | G55: 0 | H55: 0 | I55: 0 | J55: 0 | K55: 0 | L55: 0 | M55: 0 | N55: 0 | O55: 0 | Q55: 0 | R55: 0
B57: W.P. Labuan | C57: 0 | D57: 0 | E57: 0 | F57: 0 | G57: 0 | H57: 0 | I57: 0 | J57: 0 | K57: 0 | L57: 0 | M57: 0 | N57: 0 | O57: 0 | Q57: 0 | R57: 0
A59: H1 2026 | B59: Labuan | C59: 0 | D59: 0 | E59: 0 | F59: 0 | G59: 0 | H59: 0 | I59: 0 | J59: 0 | K59: 0 | L59: 0 | M59: 0 | N59: 0 | O59: 0 | Q59: 0 | R59: 0
B61: W.P. Labuan | C61: 0 | D61: 0 | E61: 0 | F61: 0 | G61: 0 | H61: 0 | I61: 0 | J61: 0 | K61: 0 | L61: 0 | M61: 0 | N61: 0 | O61: 0 | Q61: 0 | R61: 0
A63: PLANNED SUPPLY
A65: H1 2025 | B65: Labuan | C65: 0 | D65: 0 | E65: 0 | F65: 0 | G65: 0 | H65: 0 | I65: 0 | J65: 0 | K65: 0 | L65: 0 | M65: 0 | N65: 0 | O65: 0 | Q65: 0 | R65: 0
B67: W.P. Labuan | C67: 0 | D67: 0 | E67: 0 | F67: 0 | G67: 0 | H67: 0 | I67: 0 | J67: 0 | K67: 0 | L67: 0 | M67: 0 | N67: 0 | O67: 0 | Q67: 0 | R67: 0
A69: H2 2025 | B69: Labuan | C69: 0 | D69: 0 | E69: 0 | F69: 0 | G69: 0 | H69: 0 | I69: 0 | J69: 0 | K69: 0 | L69: 0 | M69: 0 | N69: 0 | O69: 0 | Q69: 0 | R69: 0
B71: W.P. Labuan | C71: 0 | D71: 0 | E71: 0 | F71: 0 | G71: 0 | H71: 0 | I71: 0 | J71: 0 | K71: 0 | L71: 0 | M71: 0 | N71: 0 | O71: 0 | Q71: 0 | R71: 0
A73: H1 2026 | B73: Labuan | C73: 0 | D73: 0 | E73: 0 | F73: 0 | G73: 0 | H73: 0 | I73: 0 | J73: 0 | K73: 0 | L73: 0 | M73: 0 | N73: 0 | O73: 0 | Q73: 0 | R73: 0
B75: W.P. Labuan | C75: 0 | D75: 0 | E75: 0 | F75: 0 | G75: 0 | H75: 0 | I75: 0 | J75: 0 | K75: 0 | L75: 0 | M75: 0 | N75: 0 | O75: 0 | Q75: 0 | R75: 0
B77: NEW PLANNED SUPPLY
...

Sheet 2.4
A1: Table 2.4
A2: PENAWARAN UNIT KEDAI MENGIKUT JENIS DI SELANGOR
A3: SUPPLY OF SHOP UNITS BY TYPES IN SELANGOR
A5: Quarter Year | B5: Mukim | C5: Prewar | D5: 1 - 1 1/2 storey Terraced | E5: 2 - 2 1/2 storey Terraced | F5: 3 - 3 1/2 storey Terraced | G5: 4 - 4 1/2 storey Terraced | H5: 5 - 5 1/2 storey Terraced | I5: 6-6 1/2 storey Terraced | J5: > 6 1/2 storey Terraced | K5: Detached | L5: Semi-det. | M5: Cluster | N5: Stratified | O5: Total | Q5: Soho | R5: Serviced Apartment
A7: EXISTING STOCK
A9: H1 2025 | B9: Gombak | C9: 153 | D9: 384 | E9: 3341 | F9: 3588 | G9: 1579 | H9: 4 | I9: 0 | J9: 492 | K9: 40 | L9: 4 | M9: 0 | N9: 2941 | O9: 12526 | Q9: 2491 | R9: 10041
B10: Hulu Langat | C10: 0 | D10: 834 | E10: 7020 | F10: 6055 | G10: 3183 | H10: 304 | I10: 308 | J10: 92 | K10: 80 | L10: 16 | M10: 0 | N10: 5095 | O10: 22987 | Q10: 7127 | R10: 26749
B11: Hulu Selangor | C11: 231 | D11: 753 | E11: 2480 | F11: 256 | G11: 633 | H11: 0 | I11: 0 | J11: 158 | K11: 57 | L11: 0 | M11: 0 | N11: 188 | O11: 4756 | Q11: 0 | R11: 0
B12: Klang | C12: 211 | D12: 969 | E12: 4993 | F12: 3687 | G12: 1022 | H12: 2 | I12: 3 | J12: 0 | K12: 15 | L12: 84 | M12: 15 | N12: 1467 | O12: 12468 | Q12: 0 | R12: 6837
B13: Kuala Langat | C13: 0 | D13: 990 | E13: 2793 | F13: 531 | G13: 88 | H13: 0 | I13: 0 | J13: 0 | K13: 0 | L13: 0 | M13: 0 | N13: 80 | O13: 4482 | Q13: 0 | R13: 5819
B14: Kuala Selangor | C14: 28 | D14: 669 | E14: 4365 | F14: 537 | G14: 9 | H14: 1 | I14: 0 | J14: 0 | K14: 25 | L14: 38 | M14: 0 | N14: 217 | O14: 5889 | Q14: 0 | R14: 798
B15: Petaling | C15: 0 | D15: 2218 | E15: 8472 | F15: 11418 | G15: 5502 | H15: 1312 | I15: 951 | J15: 759 | K15: 31 | L15: 266 | M15: 0 | N15: 9590 | O15: 40519 | Q15: 29011 | R15: 66369
B16: Sabak Bernam | C16: 0 | D16: 77 | E16: 954 | F16: 208 | G16: 3 | H16: 0 | I16: 0 | J16: 0 | K16: 1 | L16: 0 | M16: 0 | N16: 8 | O16: 1251 | Q16: 0 | R16: 0
B17: Sepang | C17: 93 | D17: 1075 | E17: 2079 | F17: 1845 | G17: 522 | H17: 289 | I17: 4 | J17: 0 | K17: 63 | L17: 30 | M17: 0 | N17: 385 | O17: 6385 | Q17: 9285 | R17: 21386
B19: SELANGOR | C19: 716 | D19: 7969 | E19: 36497 | F19: 28125 | G19: 12541 | H19: 1912 | I19: 1266 | J19: 1501 | K19: 312 | L19: 438 | M19: 15 | N19: 19971 | O19: 111263 | Q19: 47914 | R19: 137999
A21: H2 2025 | B21: Gombak | C21: 153 | D21: 384 | E21: 3387 | F21: 3606 | G21: 1579 | H21: 10 | I21: 0 | J21: 492 | K21: 40 | L21: 4 | M21: 0 | N21: 2941 | O21: 12596 | Q21: 2491 | R21: 10041
B22: Hulu Langat | C22: 0 | D22: 834 | E22: 7139 | F22: 6057 | G22: 3183 | H22: 304 | I22: 308 | J22: 92 | K22: 80 | L22: 16 | M22: 0 | N22: 5063 | O22: 23076 | Q22: 7899 | R22: 27247
B23: Hulu Selangor | C23: 231 | D23: 753 | E23: 2492 | F23: 256 | G23: 633 | H23: 0 | I23: 0 | J23: 158 | K23: 57 | L23: 0 | M23: 0 | N23: 188 | O23: 4768 | Q23: 0 | R23: 0
B24: Klang | C24: 211 | D24: 969 | E24: 5004 | F24: 3687 | G24: 1022 | H24: 2 | I24: 3 | J24: 0 | K24: 15 | L24: 84 | M24: 15 | N24: 1467 | O24: 12479 | Q24: 0 | R24: 6837
B25: Kuala Langat | C25: 0 | D25: 1005 | E25: 3156 | F25: 613 | G25: 88 | H25: 0 | I25: 0 | J25: 0 | K25: 1 | L25: 156 | M25: 0 | N25: 80 | O25: 5099 | Q25: 0 | R25: 7415
B26: Kuala Selangor | C26: 28 | D26: 658 | E26: 4368 | F26: 577 | G26: 9 | H26: 0 | I26: 0 | J26: 0 | K26: 25 | L26: 38 | M26: 0 | N26: 217 | O26: 5920 | Q26: 0 | R26: 798
B27: Petaling | C27: 0 | D27: 2218 | E27: 8472 | F27: 11434 | G27: 5588 | H27: 1524 | I27: 951 | J27: 759 | K27: 31 | L27: 266 | M27: 0 | N27: 9603 | O27: 40846 | Q27: 31559 | R27: 73625
B28: Sabak Bernam | C28: 0 | D28: 77 | E28: 954 | F28: 230 | G28: 3 | H28: 0 | I28: 0 | J28: 0 | K28: 1 | L28: 0 | M28: 0 | N28: 8 | O28: 1273 | Q28: 0 | R28: 0
B29: Sepang | C29: 93 | D29: 1083 | E29: 2132 | F29: 2103 | G29: 591 | H29: 341 | I29: 4 | J29: 0 | K29: 63 | L29: 132 | M29: 0 | N29: 647 | O29: 7189 | Q29: 9992 | R29: 24422
B31: SELANGOR | C31: 716 | D31: 7981 | E31: 37104 | F31: 28563 | G31: 12696 | H31: 2181 | I31: 1266 | J31: 1501 | K31: 313 | L31: 696 | M31: 15 | N31: 20214 | O31: 113246 | Q31: 51941 | R31: 150385
A33: H1 2026 | B33: Gombak | C33: 153 | D33: 384 | E33: 3357 | F33: 3662 | G33: 1579 | H33: 14 | I33: 0 | J33: 492 | K33: 40 | L33: 4 | M33: 0 | N33: 3011 | O33: 12696 | Q33: 2491 | R33: 11804
B34: Hulu Langat | C34: 0 | D34: 875 | E34: 7539 | F34: 6090 | G34: 3183 | H34: 304 | I34: 308 | J34: 92 | K34: 80 | L34: 22 | M34: 0 | N34: 5124 | O34: 23617 | Q34: 7899 | R34: 31147
B35: Hulu Selangor | C35: 231 | D35: 753 | E35: 2492 | F35: 256 | G35: 633 | H35: 0 | I35: 0 | J35: 158 | K35: 57 | L35: 0 | M35: 0 | N35: 188 | O35: 4768 | Q35: 0 | R35: 0
B36: Klang | C36: 211 | D36: 996 | E36: 5165 | F36: 3700 | G36: 1022 | H36: 2 | I36: 3 | J36: 0 | K36: 16 | L36: 84 | M36: 15 | N36: 1467 | O36: 12681 | Q36: 0 | R36: 6837
B37: Kuala Langat | C37: 0 | D37: 1005 | E37: 3254 | F37: 656 | G37: 88 | H37: 0 | I37: 0 | J37: 0 | K37: 1 | L37: 0 | M37: 0 | N37: 80 | O37: 5084 | Q37: 0 | R37: 7415
B38: Kuala Selangor | C38: 28 | D38: 658 | E38: 4449 | F38: 577 | G38: 9 | H38: 0 | I38: 0 | J38: 0 | K38: 25 | L38: 38 | M38: 0 | N38: 255 | O38: 6039 | Q38: 0 | R38: 798
B39: Petaling | C39: 0 | D39: 2230 | E39: 8517 | F39: 11448 | G39: 5588 | H39: 1524 | I39: 951 | J39: 759 | K39: 31 | L39: 266 | M39: 0 | N39: 9603 | O39: 40917 | Q39: 32081 | R39: 78564
B40: Sabak Bernam | C40: 0 | D40: 77 | E40: 980 | F40: 230 | G40: 3 | H40: 0 | I40: 0 | J40: 0 | K40: 1 | L40: 0 | M40: 0 | N40: 8 | O40: 1299 | Q40: 0 | R40: 0
B41: Sepang | C41: 93 | D41: 1083 | E41: 2157 | F41: 2104 | G41: 710 | H41: 401 | I41: 4 | J41: 0 | K41: 63 | L41: 132 | M41: 0 | N41: 647 | O41: 7394 | Q41: 9992 | R41: 25820
B43: SELANGOR | C43: 716 | D43: 8061 | E43: 37910 | F43: 28723 | G43: 12815 | H43: 2245 | I43: 1266 | J43: 1501 | K43: 314 | L43: 546 | M43: 15 | N43: 20383 | O43: 114495 | Q43: 52463 | R43: 162385
B45: COMPLETION
A47: H1 2025 | B47: Gombak | C47: 0 | D47: 0 | E47: 0 | F47: 0 | G47: 0 | H47: 0 | I47: 0 | J47: 0 | K47: 0 | L47: 0 | M47: 0 | N47: 20 | O47: 20 | Q47: 0 | R47: 1240
B48: Hulu Langat | C48: 0 | D48: 0 | E48: 0 | F48: 0 | G48: 0 | H48: 0 | I48: 0 | J48: 0 | K48: 0 | L48: 0 | M48: 0 | N48: 26 | O48: 26 | Q48: 0 | R48: 1496
B49: Hulu Selangor | C49: 0 | D49: 0 | E49: 0 | F49: 0 | G49: 0 | H49: 0 | I49: 0 | J49: 0 | K49: 0 | L49: 0 | M49: 0 | N49: 0 | O49: 0 | Q49: 0 | R49: 0
B50: Klang | C50: 0 | D50: 0 | E50: 0 | F50: 0 | G50: 0 | H50: 0 | I50: 0 | J50: 0 | K50: 0 | L50: 0 | M50: 0 | N50: 0 | O50: 0 | Q50: 0 | R50: 0
...

Sheet 2.5
A1: Table 2.5
A2: PENAWARAN UNIT KEDAI MENGIKUT JENIS DI JOHOR
A3: SUPPLY OF SHOP UNITS BY TYPE IN JOHOR
A5: Quarter Year | B5: Mukim | C5: Prewar | D5: 1 - 1 1/2 storey Terraced | E5: 2 - 2 1/2 storey Terraced | F5: 3 - 3 1/2 storey Terraced | G5: 4 - 4 1/2 storey Terraced | H5: 5 - 5 1/2 storey Terraced | I5: 6-6 1/2 storey Terraced | J5: > 6 1/2 storey Terraced | K5: Detached | L5: Semi-det. | M5: Cluster | N5: Stratified | O5: Total | Q5: Soho | R5: Serviced Apartment
A7: EXISTING STOCK
A9: H1 2025 | B9: Batu Pahat | C9: 617 | D9: 1794 | E9: 6997 | F9: 2055 | G9: 249 | H9: 30 | I9: 2 | J9: 46 | K9: 50 | L9: 22 | M9: 0 | N9: 723 | O9: 12585 | Q9: 0 | R9: 0
B10: Johor Bahru | C10: 268 | D10: 3912 | E10: 21479 | F10: 11901 | G10: 3213 | H10: 126 | I10: 10 | J10: 214 | K10: 391 | L10: 98 | M10: 0 | N10: 4775 | O10: 46387 | Q10: 3567 | R10: 108200
B11: Kluang | C11: 296 | D11: 1407 | E11: 4673 | F11: 1094 | G11: 1081 | H11: 42 | I11: 0 | J11: 2 | K11: 19 | L11: 26 | M11: 0 | N11: 101 | O11: 8741 | Q11: 0 | R11: 0
B12: Kota Tinggi | C12: 53 | D12: 819 | E12: 1585 | F12: 310 | G12: 11 | H12: 0 | I12: 0 | J12: 0 | K12: 0 | L12: 0 | M12: 0 | N12: 32 | O12: 2810 | Q12: 0 | R12: 711
B13: Kulai | C13: 160 | D13: 1110 | E13: 3894 | F13: 1372 | G13: 1051 | H13: 0 | I13: 0 | J13: 56 | K13: 2 | L13: 2 | M13: 0 | N13: 126 | O13: 7773 | Q13: 0 | R13: 514
B14: Mersing | C14: 0 | D14: 219 | E14: 516 | F14: 410 | G14: 84 | H14: 2 | I14: 0 | J14: 0 | K14: 7 | L14: 0 | M14: 0 | N14: 0 | O14: 1238 | Q14: 0 | R14: 0
B15: Muar | C15: 710 | D15: 713 | E15: 2573 | F15: 900 | G15: 150 | H15: 14 | I15: 0 | J15: 0 | K15: 224 | L15: 118 | M15: 0 | N15: 130 | O15: 5532 | Q15: 0 | R15: 0
B16: Pontian | C16: 106 | D16: 797 | E16: 2110 | F16: 783 | G16: 45 | H16: 0 | I16: 0 | J16: 0 | K16: 26 | L16: 2 | M16: 0 | N16: 0 | O16: 3869 | Q16: 0 | R16: 0
B17: Segamat | C17: 482 | D17: 826 | E17: 3457 | F17: 1011 | G17: 218 | H17: 10 | I17: 0 | J17: 2 | K17: 16 | L17: 2 | M17: 0 | N17: 0 | O17: 6024 | Q17: 0 | R17: 0
B18: Tangkak | C18: 129 | D18: 162 | E18: 2230 | F18: 447 | G18: 40 | H18: 0 | I18: 0 | J18: 24 | K18: 27 | L18: 8 | M18: 0 | N18: 5 | O18: 3072 | Q18: 0 | R18: 0
B20: JOHOR | C20: 2821 | D20: 11759 | E20: 49514 | F20: 20283 | G20: 6142 | H20: 224 | I20: 12 | J20: 344 | K20: 762 | L20: 278 | M20: 0 | N20: 5892 | O20: 98031 | Q20: 3567 | R20: 109425
A22: H2 2025 | B22: Batu Pahat | C22: 617 | D22: 1794 | E22: 7043 | F22: 2055 | G22: 249 | H22: 30 | I22: 2 | J22: 46 | K22: 40 | L22: 22 | M22: 0 | N22: 723 | O22: 12621 | Q22: 0 | R22: 0
B23: Johor Bahru | C23: 268 | D23: 3947 | E23: 21933 | F23: 12014 | G23: 3266 | H23: 66 | I23: 10 | J23: 214 | K23: 391 | L23: 96 | M23: 0 | N23: 4412 | O23: 46617 | Q23: 2928 | R23: 108625
B24: Kluang | C24: 296 | D24: 1407 | E24: 4673 | F24: 1094 | G24: 1081 | H24: 42 | I24: 0 | J24: 2 | K24: 19 | L24: 26 | M24: 0 | N24: 101 | O24: 8741 | Q24: 0 | R24: 0
B25: Kota Tinggi | C25: 53 | D25: 819 | E25: 1692 | F25: 350 | G25: 13 | H25: 0 | I25: 0 | J25: 0 | K25: 0 | L25: 0 | M25: 0 | N25: 32 | O25: 2959 | Q25: 0 | R25: 711
B26: Kulai | C26: 160 | D26: 1087 | E26: 3919 | F26: 1379 | G26: 1051 | H26: 0 | I26: 0 | J26: 56 | K26: 2 | L26: 2 | M26: 0 | N26: 126 | O26: 7782 | Q26: 0 | R26: 514
B27: Mersing | C27: 0 | D27: 219 | E27: 516 | F27: 410 | G27: 84 | H27: 2 | I27: 0 | J27: 0 | K27: 7 | L27: 0 | M27: 0 | N27: 0 | O27: 1238 | Q27: 0 | R27: 0
B28: Muar | C28: 710 | D28: 713 | E28: 2588 | F28: 924 | G28: 150 | H28: 14 | I28: 0 | J28: 0 | K28: 224 | L28: 118 | M28: 0 | N28: 130 | O28: 5571 | Q28: 0 | R28: 0
B29: Pontian | C29: 106 | D29: 797 | E29: 2131 | F29: 843 | G29: 49 | H29: 0 | I29: 0 | J29: 0 | K29: 26 | L29: 2 | M29: 0 | N29: 0 | O29: 3954 | Q29: 0 | R29: 0
B30: Segamat | C30: 482 | D30: 826 | E30: 3457 | F30: 1011 | G30: 218 | H30: 10 | I30: 0 | J30: 2 | K30: 16 | L30: 2 | M30: 0 | N30: 0 | O30: 6024 | Q30: 0 | R30: 0
B31: Tangkak | C31: 129 | D31: 186 | E31: 2303 | F31: 525 | G31: 46 | H31: 0 | I31: 0 | J31: 24 | K31: 27 | L31: 8 | M31: 0 | N31: 5 | O31: 3253 | Q31: 0 | R31: 0
B33: JOHOR | C33: 2821 | D33: 11795 | E33: 50255 | F33: 20605 | G33: 6207 | H33: 164 | I33: 12 | J33: 344 | K33: 752 | L33: 276 | M33: 0 | N33: 5529 | O33: 98760 | Q33: 2928 | R33: 109850
A35: H1 2026 | B35: Batu Pahat | C35: 617 | D35: 1808 | E35: 7081 | F35: 2054 | G35: 249 | H35: 30 | I35: 2 | J35: 46 | K35: 40 | L35: 22 | M35: 0 | N35: 723 | O35: 12672 | Q35: 0 | R35: 0
B36: Johor Bahru | C36: 268 | D36: 3962 | E36: 22034 | F36: 12240 | G36: 3314 | H36: 66 | I36: 10 | J36: 214 | K36: 392 | L36: 96 | M36: 0 | N36: 4417 | O36: 47013 | Q36: 2928 | R36: 109247
B37: Kluang | C37: 296 | D37: 1447 | E37: 4691 | F37: 1094 | G37: 1081 | H37: 42 | I37: 0 | J37: 2 | K37: 19 | L37: 78 | M37: 0 | N37: 101 | O37: 8851 | Q37: 0 | R37: 0
B38: Kota Tinggi | C38: 53 | D38: 848 | E38: 1717 | F38: 358 | G38: 13 | H38: 0 | I38: 0 | J38: 0 | K38: 0 | L38: 0 | M38: 0 | N38: 32 | O38: 3021 | Q38: 0 | R38: 711
B39: Kulai | C39: 160 | D39: 1141 | E39: 4010 | F39: 1379 | G39: 1051 | H39: 0 | I39: 0 | J39: 56 | K39: 2 | L39: 2 | M39: 0 | N39: 126 | O39: 7927 | Q39: 0 | R39: 642
B40: Mersing | C40: 0 | D40: 219 | E40: 516 | F40: 421 | G40: 84 | H40: 2 | I40: 0 | J40: 0 | K40: 7 | L40: 0 | M40: 0 | N40: 0 | O40: 1249 | Q40: 0 | R40: 0
B41: Muar | C41: 710 | D41: 768 | E41: 2655 | F41: 1005 | G41: 150 | H41: 14 | I41: 0 | J41: 0 | K41: 225 | L41: 122 | M41: 0 | N41: 130 | O41: 5779 | Q41: 0 | R41: 0
B42: Pontian | C42: 106 | D42: 797 | E42: 2131 | F42: 843 | G42: 49 | H42: 0 | I42: 0 | J42: 0 | K42: 26 | L42: 2 | M42: 0 | N42: 0 | O42: 3954 | Q42: 0 | R42: 0
B43: Segamat | C43: 482 | D43: 826 | E43: 3457 | F43: 1011 | G43: 218 | H43: 10 | I43: 0 | J43: 2 | K43: 16 | L43: 2 | M43: 0 | N43: 0 | O43: 6024 | Q43: 0 | R43: 0
B44: Tangkak | C44: 129 | D44: 186 | E44: 2303 | F44: 525 | G44: 53 | H44: 0 | I44: 0 | J44: 24 | K44: 27 | L44: 8 | M44: 0 | N44: 5 | O44: 3260 | Q44: 0 | R44: 0
B46: JOHOR | C46: 2821 | D46: 12002 | E46: 50595 | F46: 20930 | G46: 6262 | H46: 164 | I46: 12 | J46: 344 | K46: 754 | L46: 332 | M46: 0 | N46: 5534 | O46: 99750 | Q46: 2928 | R46: 110600
B48: COMPLETION
A50: H1 2025 | B50: Batu Pahat | C50: 0 | D50: 0 | E50: 22 | F50: 4 | G50: 0 | H50: 0 | I50: 0 | J50: 0 | K50: 1 | L50: 0 | M50: 0 | N50: 0 | O50: 27 | Q50: 0 | R50: 0
...

Sheet 2.6
A1: Table 2.6
A2: PENAWARAN UNIT KEDAI MENGIKUT JENIS DI PULAU PINANG
A3: SUPPLY OF SHOP UNITS BY TYPE IN PULAU PINANG
A5: Quarter Year | B5: Mukim | C5: Prewar | D5: 1 - 1 1/2 storey Terraced | E5: 2 - 2 1/2 storey Terraced | F5: 3 - 3 1/2 storey Terraced | G5: 4 - 4 1/2 storey Terraced | H5: 5 - 5 1/2 storey Terraced | I5: 6-6 1/2 storey Terraced | J5: > 6 1/2 storey Terraced | K5: Detached | L5: Semi-det. | M5: Cluster | N5: Stratified | O5: Total | Q5: Soho | R5: Serviced Apartment
A7: EXISTING STOCK
A9: H1 2025 | B9: Barat Daya | C9: 330 | D9: 94 | E9: 922 | F9: 1065 | G9: 18 | H9: 11 | I9: 0 | J9: 0 | K9: 10 | L9: 16 | M9: 0 | N9: 1798 | O9: 4264 | Q9: 590 | R9: 1010
B10: Seberang Perai Selatan | C10: 341 | D10: 199 | E10: 4293 | F10: 792 | G10: 102 | H10: 1 | I10: 0 | J10: 0 | K10: 7 | L10: 174 | M10: 0 | N10: 308 | O10: 6217 | Q10: 0 | R10: 2714
B11: Seberang Perai Tengah | C11: 247 | D11: 507 | E11: 4696 | F11: 2683 | G11: 776 | H11: 0 | I11: 1 | J11: 3 | K11: 57 | L11: 188 | M11: 0 | N11: 945 | O11: 10103 | Q11: 721 | R11: 2026
B12: Seberang Perai Utara | C12: 117 | D12: 159 | E12: 4618 | F12: 1453 | G12: 343 | H12: 0 | I12: 0 | J12: 0 | K12: 43 | L12: 86 | M12: 0 | N12: 633 | O12: 7452 | Q12: 0 | R12: 1023
B13: Timur Laut | C13: 3518 | D13: 123 | E13: 1523 | F13: 1317 | G13: 718 | H13: 154 | I13: 6 | J13: 0 | K13: 39 | L13: 10 | M13: 0 | N13: 4049 | O13: 11457 | Q13: 3403 | R13: 3978
B15: PULAU PINANG | C15: 4553 | D15: 1082 | E15: 16052 | F15: 7310 | G15: 1957 | H15: 166 | I15: 7 | J15: 3 | K15: 156 | L15: 474 | M15: 0 | N15: 7733 | O15: 39493 | Q15: 4714 | R15: 10751
A17: H2 2025 | B17: Barat Daya | C17: 330 | D17: 94 | E17: 922 | F17: 1032 | G17: 16 | H17: 11 | I17: 0 | J17: 0 | K17: 10 | L17: 16 | M17: 0 | N17: 1944 | O17: 4375 | Q17: 590 | R17: 1010
B18: Seberang Perai Selatan | C18: 341 | D18: 199 | E18: 4293 | F18: 792 | G18: 102 | H18: 1 | I18: 0 | J18: 0 | K18: 7 | L18: 174 | M18: 0 | N18: 308 | O18: 6217 | Q18: 0 | R18: 2714
B19: Seberang Perai Tengah | C19: 247 | D19: 507 | E19: 4696 | F19: 2696 | G19: 776 | H19: 0 | I19: 1 | J19: 3 | K19: 56 | L19: 188 | M19: 0 | N19: 996 | O19: 10166 | Q19: 1681 | R19: 2026
B20: Seberang Perai Utara | C20: 117 | D20: 159 | E20: 4818 | F20: 1476 | G20: 343 | H20: 0 | I20: 0 | J20: 0 | K20: 43 | L20: 86 | M20: 0 | N20: 636 | O20: 7678 | Q20: 0 | R20: 1023
B21: Timur Laut | C21: 3518 | D21: 123 | E21: 1523 | F21: 1317 | G21: 718 | H21: 154 | I21: 6 | J21: 0 | K21: 39 | L21: 10 | M21: 0 | N21: 4071 | O21: 11479 | Q21: 3403 | R21: 3978
B23: PULAU PINANG | C23: 4553 | D23: 1082 | E23: 16252 | F23: 7313 | G23: 1955 | H23: 166 | I23: 7 | J23: 3 | K23: 155 | L23: 474 | M23: 0 | N23: 7955 | O23: 39915 | Q23: 5674 | R23: 10751
A25: H1 2026 | B25: Barat Daya | C25: 330 | D25: 94 | E25: 844 | F25: 1038 | G25: 16 | H25: 11 | I25: 0 | J25: 0 | K25: 10 | L25: 16 | M25: 0 | N25: 2107 | O25: 4466 | Q25: 590 | R25: 1010
B26: Seberang Perai Selatan | C26: 341 | D26: 199 | E26: 4294 | F26: 792 | G26: 102 | H26: 1 | I26: 0 | J26: 0 | K26: 10 | L26: 196 | M26: 0 | N26: 327 | O26: 6262 | Q26: 0 | R26: 3236
B27: Seberang Perai Tengah | C27: 247 | D27: 507 | E27: 4703 | F27: 2696 | G27: 782 | H27: 0 | I27: 1 | J27: 3 | K27: 56 | L27: 188 | M27: 0 | N27: 996 | O27: 10179 | Q27: 1681 | R27: 2026
B28: Seberang Perai Utara | C28: 117 | D28: 159 | E28: 4867 | F28: 1476 | G28: 343 | H28: 0 | I28: 0 | J28: 0 | K28: 43 | L28: 88 | M28: 0 | N28: 636 | O28: 7729 | Q28: 0 | R28: 1253
B29: Timur Laut | C29: 3518 | D29: 123 | E29: 1537 | F29: 1325 | G29: 718 | H29: 154 | I29: 6 | J29: 0 | K29: 40 | L29: 10 | M29: 0 | N29: 4078 | O29: 11509 | Q29: 3403 | R29: 3978
B31: PULAU PINANG | C31: 4553 | D31: 1082 | E31: 16245 | F31: 7327 | G31: 1961 | H31: 166 | I31: 7 | J31: 3 | K31: 159 | L31: 498 | M31: 0 | N31: 8144 | O31: 40145 | Q31: 5674 | R31: 11503
B33: COMPLETION
A35: H1 2025 | B35: Barat Daya | C35: 0 | D35: 0 | E35: 0 | F35: 0 | G35: 0 | H35: 0 | I35: 0 | J35: 0 | K35: 0 | L35: 0 | M35: 0 | N35: 0 | O35: 0 | Q35: 0 | R35: 0
B36: Seberang Perai Selatan | C36: 0 | D36: 0 | E36: 0 | F36: 0 | G36: 0 | H36: 0 | I36: 0 | J36: 0 | K36: 0 | L36: 0 | M36: 0 | N36: 23 | O36: 23 | Q36: 0 | R36: 0
B37: Seberang Perai Tengah | C37: 0 | D37: 0 | E37: 13 | F37: 0 | G37: 0 | H37: 0 | I37: 0 | J37: 0 | K37: 0 | L37: 0 | M37: 0 | N37: 4 | O37: 17 | Q37: 18 | R37: 0
B38: Seberang Perai Utara | C38: 0 | D38: 0 | E38: 0 | F38: 0 | G38: 0 | H38: 0 | I38: 0 | J38: 0 | K38: 0 | L38: 0 | M38: 0 | N38: 4 | O38: 4 | Q38: 0 | R38: 0
B39: Timur Laut | C39: 0 | D39: 0 | E39: 0 | F39: 0 | G39: 0 | H39: 0 | I39: 0 | J39: 0 | K39: 0 | L39: 0 | M39: 0 | N39: 14 | O39: 14 | Q39: 0 | R39: 418
B41: PULAU PINANG | C41: 0 | D41: 0 | E41: 13 | F41: 0 | G41: 0 | H41: 0 | I41: 0 | J41: 0 | K41: 0 | L41: 0 | M41: 0 | N41: 45 | O41: 58 | Q41: 18 | R41: 418
A43: H2 2025 | B43: Barat Daya | C43: 0 | D43: 0 | E43: 0 | F43: 0 | G43: 0 | H43: 0 | I43: 0 | J43: 0 | K43: 0 | L43: 0 | M43: 0 | N43: 134 | O43: 134 | Q43: 0 | R43: 0
B44: Seberang Perai Selatan | C44: 0 | D44: 0 | E44: 0 | F44: 0 | G44: 0 | H44: 0 | I44: 0 | J44: 0 | K44: 0 | L44: 0 | M44: 0 | N44: 0 | O44: 0 | Q44: 0 | R44: 0
B45: Seberang Perai Tengah | C45: 0 | D45: 0 | E45: 0 | F45: 0 | G45: 0 | H45: 0 | I45: 0 | J45: 0 | K45: 0 | L45: 0 | M45: 0 | N45: 51 | O45: 51 | Q45: 960 | R45: 0
B46: Seberang Perai Utara | C46: 0 | D46: 0 | E46: 242 | F46: 25 | G46: 0 | H46: 0 | I46: 0 | J46: 0 | K46: 0 | L46: 0 | M46: 0 | N46: 0 | O46: 267 | Q46: 0 | R46: 0
B47: Timur Laut | C47: 0 | D47: 0 | E47: 0 | F47: 0 | G47: 0 | H47: 0 | I47: 0 | J47: 0 | K47: 0 | L47: 0 | M47: 0 | N47: 0 | O47: 0 | Q47: 0 | R47: 0
B49: PULAU PINANG | C49: 0 | D49: 0 | E49: 242 | F49: 25 | G49: 0 | H49: 0 | I49: 0 | J49: 0 | K49: 0 | L49: 0 | M49: 0 | N49: 185 | O49: 452 | Q49: 960 | R49: 0
A51: H1 2026 | B51: Barat Daya | C51: 0 | D51: 0 | E51: 0 | F51: 6 | G51: 0 | H51: 0 | I51: 0 | J51: 0 | K51: 0 | L51: 0 | M51: 0 | N51: 0 | O51: 6 | Q51: 0 | R51: 0
B52: Seberang Perai Selatan | C52: 0 | D52: 0 | E52: 0 | F52: 0 | G52: 0 | H52: 0 | I52: 0 | J52: 0 | K52: 3 | L52: 22 | M52: 0 | N52: 0 | O52: 25 | Q52: 0 | R52: 0
B53: Seberang Perai Tengah | C53: 0 | D53: 0 | E53: 7 | F53: 0 | G53: 6 | H53: 0 | I53: 0 | J53: 0 | K53: 0 | L53: 0 | M53: 0 | N53: 0 | O53: 13 | Q53: 0 | R53: 0
B54: Seberang Perai Utara | C54: 0 | D54: 0 | E54: 0 | F54: 0 | G54: 0 | H54: 0 | I54: 0 | J54: 0 | K54: 0 | L54: 0 | M54: 0 | N54: 0 | O54: 0 | Q54: 0 | R54: 0
...

Sheet 2.7
A1: Table 2.7
A2: PENAWARAN UNIT KEDAI MENGIKUT JENIS DI PERAK
A3: SUPPLY OF SHOP UNITS BY TYPE IN PERAK
A5: Quarter Year | B5: Mukim | C5: Prewar | D5: 1 - 1 1/2 storey Terraced | E5: 2 - 2 1/2 storey Terraced | F5: 3 - 3 1/2 storey Terraced | G5: 4 - 4 1/2 storey Terraced | H5: 5 - 5 1/2 storey Terraced | I5: 6-6 1/2 storey Terraced | J5: > 6 1/2 storey Terraced | K5: Detached | L5: Semi-det. | M5: Cluster | N5: Stratified | O5: Total | Q5: Soho | R5: Serviced Apartment
A7: EXISTING STOCK
A9: H1 2025 | B9: Bagan Datuk | C9: 0 | D9: 42 | E9: 341 | F9: 142 | G9: 73 | H9: 0 | I9: 0 | J9: 0 | K9: 0 | L9: 0 | M9: 0 | N9: 0 | O9: 598 | Q9: 0 | R9: 0
B10: Batang Padang | C10: 480 | D10: 87 | E10: 939 | F10: 288 | G10: 23 | H10: 3 | I10: 0 | J10: 0 | K10: 10 | L10: 0 | M10: 0 | N10: 0 | O10: 1830 | Q10: 0 | R10: 0
B11: Hilir Perak | C11: 344 | D11: 165 | E11: 1212 | F11: 738 | G11: 169 | H11: 0 | I11: 0 | J11: 0 | K11: 0 | L11: 0 | M11: 0 | N11: 28 | O11: 2656 | Q11: 0 | R11: 0
B12: Hulu Perak | C12: 167 | D12: 128 | E12: 658 | F12: 251 | G12: 19 | H12: 0 | I12: 0 | J12: 0 | K12: 65 | L12: 0 | M12: 0 | N12: 0 | O12: 1288 | Q12: 0 | R12: 0
B13: Kampar | C13: 572 | D13: 195 | E13: 1488 | F13: 3747 | G13: 21 | H13: 1 | I13: 0 | J13: 0 | K13: 135 | L13: 0 | M13: 0 | N13: 343 | O13: 6502 | Q13: 0 | R13: 632
B14: Kerian | C14: 344 | D14: 182 | E14: 1591 | F14: 325 | G14: 13 | H14: 0 | I14: 0 | J14: 0 | K14: 11 | L14: 12 | M14: 0 | N14: 0 | O14: 2478 | Q14: 0 | R14: 205
B15: Kinta | C15: 2299 | D15: 2836 | E15: 15012 | F15: 3174 | G15: 1003 | H15: 58 | I15: 282 | J15: 3 | K15: 221 | L15: 86 | M15: 0 | N15: 98 | O15: 25072 | Q15: 577 | R15: 295
B16: Kuala Kangsar | C16: 332 | D16: 499 | E16: 1588 | F16: 299 | G16: 56 | H16: 3 | I16: 0 | J16: 0 | K16: 14 | L16: 56 | M16: 0 | N16: 353 | O16: 3200 | Q16: 0 | R16: 0
B17: Larut Matang | C17: 659 | D17: 312 | E17: 2549 | F17: 1100 | G17: 277 | H17: 9 | I17: 0 | J17: 0 | K17: 40 | L17: 0 | M17: 0 | N17: 14 | O17: 4960 | Q17: 0 | R17: 0
B18: Manjung | C18: 194 | D18: 338 | E18: 4778 | F18: 1271 | G18: 131 | H18: 0 | I18: 0 | J18: 0 | K18: 11 | L18: 0 | M18: 0 | N18: 239 | O18: 6962 | Q18: 0 | R18: 435
B19: Muallim | C19: 31 | D19: 152 | E19: 1235 | F19: 160 | G19: 7 | H19: 0 | I19: 0 | J19: 0 | K19: 18 | L19: 0 | M19: 0 | N19: 0 | O19: 1603 | Q19: 0 | R19: 0
B20: Perak Tengah | C20: 61 | D20: 103 | E20: 943 | F20: 248 | G20: 10 | H20: 0 | I20: 6 | J20: 0 | K20: 1 | L20: 0 | M20: 0 | N20: 0 | O20: 1372 | Q20: 466 | R20: 0
B21: Selama | C21: 24 | D21: 66 | E21: 292 | F21: 17 | G21: 0 | H21: 0 | I21: 0 | J21: 0 | K21: 3 | L21: 0 | M21: 0 | N21: 0 | O21: 402 | Q21: 0 | R21: 0
B23: PERAK | C23: 5507 | D23: 5105 | E23: 32626 | F23: 11760 | G23: 1802 | H23: 74 | I23: 288 | J23: 3 | K23: 529 | L23: 154 | M23: 0 | N23: 1075 | O23: 58923 | Q23: 1043 | R23: 1567
A25: H2 2025 | B25: Bagan Datuk | C25: 0 | D25: 42 | E25: 341 | F25: 142 | G25: 73 | H25: 0 | I25: 0 | J25: 0 | K25: 0 | L25: 0 | M25: 0 | N25: 0 | O25: 598 | Q25: 0 | R25: 0
B26: Batang Padang | C26: 480 | D26: 98 | E26: 884 | F26: 270 | G26: 23 | H26: 3 | I26: 0 | J26: 0 | K26: 10 | L26: 0 | M26: 0 | N26: 0 | O26: 1768 | Q26: 0 | R26: 0
B27: Hilir Perak | C27: 344 | D27: 165 | E27: 1212 | F27: 738 | G27: 169 | H27: 0 | I27: 0 | J27: 0 | K27: 0 | L27: 0 | M27: 0 | N27: 28 | O27: 2656 | Q27: 0 | R27: 0
B28: Hulu Perak | C28: 167 | D28: 128 | E28: 658 | F28: 253 | G28: 19 | H28: 0 | I28: 0 | J28: 0 | K28: 65 | L28: 0 | M28: 0 | N28: 0 | O28: 1290 | Q28: 0 | R28: 0
B29: Kampar | C29: 572 | D29: 195 | E29: 1539 | F29: 3747 | G29: 21 | H29: 1 | I29: 0 | J29: 0 | K29: 135 | L29: 0 | M29: 0 | N29: 343 | O29: 6553 | Q29: 0 | R29: 632
B30: Kerian | C30: 344 | D30: 182 | E30: 1591 | F30: 325 | G30: 13 | H30: 0 | I30: 0 | J30: 0 | K30: 11 | L30: 12 | M30: 0 | N30: 0 | O30: 2478 | Q30: 0 | R30: 205
B31: Kinta | C31: 2299 | D31: 2878 | E31: 15071 | F31: 3159 | G31: 1005 | H31: 58 | I31: 282 | J31: 3 | K31: 219 | L31: 86 | M31: 0 | N31: 173 | O31: 25233 | Q31: 577 | R31: 951
B32: Kuala Kangsar | C32: 332 | D32: 499 | E32: 1598 | F32: 299 | G32: 56 | H32: 3 | I32: 0 | J32: 0 | K32: 14 | L32: 56 | M32: 0 | N32: 353 | O32: 3210 | Q32: 0 | R32: 0
B33: Larut Matang | C33: 659 | D33: 312 | E33: 2576 | F33: 1104 | G33: 277 | H33: 9 | I33: 0 | J33: 0 | K33: 41 | L33: 0 | M33: 0 | N33: 14 | O33: 4992 | Q33: 0 | R33: 0
B34: Manjung | C34: 194 | D34: 338 | E34: 4775 | F34: 1285 | G34: 129 | H34: 0 | I34: 0 | J34: 0 | K34: 11 | L34: 0 | M34: 0 | N34: 233 | O34: 6965 | Q34: 0 | R34: 435
B35: Muallim | C35: 31 | D35: 152 | E35: 1283 | F35: 168 | G35: 7 | H35: 0 | I35: 0 | J35: 0 | K35: 18 | L35: 0 | M35: 0 | N35: 0 | O35: 1659 | Q35: 0 | R35: 0
B36: Perak Tengah | C36: 61 | D36: 103 | E36: 943 | F36: 248 | G36: 10 | H36: 0 | I36: 6 | J36: 0 | K36: 1 | L36: 0 | M36: 0 | N36: 0 | O36: 1372 | Q36: 466 | R36: 0
B37: Selama | C37: 24 | D37: 66 | E37: 292 | F37: 17 | G37: 0 | H37: 0 | I37: 0 | J37: 0 | K37: 3 | L37: 0 | M37: 0 | N37: 0 | O37: 402 | Q37: 0 | R37: 0
B39: PERAK | C39: 5507 | D39: 5158 | E39: 32763 | F39: 11755 | G39: 1802 | H39: 74 | I39: 288 | J39: 3 | K39: 528 | L39: 154 | M39: 0 | N39: 1144 | O39: 59176 | Q39: 1043 | R39: 2223
A41: H1 2026 | B41: Bagan Datuk | C41: 0 | D41: 55 | E41: 362 | F41: 142 | G41: 73 | H41: 0 | I41: 0 | J41: 0 | K41: 0 | L41: 0 | M41: 0 | N41: 0 | O41: 632 | Q41: 0 | R41: 0
B42: Batang Padang | C42: 480 | D42: 98 | E42: 993 | F42: 278 | G42: 23 | H42: 3 | I42: 0 | J42: 0 | K42: 10 | L42: 0 | M42: 0 | N42: 0 | O42: 1885 | Q42: 0 | R42: 0
B43: Hilir Perak | C43: 344 | D43: 165 | E43: 1212 | F43: 738 | G43: 169 | H43: 0 | I43: 0 | J43: 0 | K43: 0 | L43: 0 | M43: 0 | N43: 28 | O43: 2656 | Q43: 0 | R43: 0
B44: Hulu Perak | C44: 167 | D44: 128 | E44: 658 | F44: 253 | G44: 19 | H44: 0 | I44: 0 | J44: 0 | K44: 65 | L44: 0 | M44: 0 | N44: 0 | O44: 1290 | Q44: 0 | R44: 0
B45: Kampar | C45: 572 | D45: 195 | E45: 1539 | F45: 3747 | G45: 21 | H45: 1 | I45: 0 | J45: 0 | K45: 135 | L45: 0 | M45: 0 | N45: 343 | O45: 6553 | Q45: 0 | R45: 632
B46: Kerian | C46: 344 | D46: 182 | E46: 1615 | F46: 325 | G46: 13 | H46: 0 | I46: 0 | J46: 0 | K46: 14 | L46: 14 | M46: 0 | N46: 0 | O46: 2507 | Q46: 0 | R46: 205
B47: Kinta | C47: 2299 | D47: 2940 | E47: 15241 | F47: 3170 | G47: 1005 | H47: 58 | I47: 282 | J47: 3 | K47: 221 | L47: 86 | M47: 0 | N47: 179 | O47: 25484 | Q47: 1001 | R47: 951
...

Sheet 2.8
A1: Table 2.8
A2: PENAWARAN UNIT KEDAI MENGIKUT JENIS DI NEGERI SEMBILAN
A3: SUPPLY OF SHOP UNITS BY TYPE IN NEGERI SEMBILAN
A5: Quarter Year | B5: Mukim | C5: Prewar | D5: 1 - 1 1/2 storey Terraced | E5: 2 - 2 1/2 storey Terraced | F5: 3 - 3 1/2 storey Terraced | G5: 4 - 4 1/2 storey Terraced | H5: 5 - 5 1/2 storey Terraced | I5: 6-6 1/2 storey Terraced | J5: > 6 1/2 storey Terraced | K5: Detached | L5: Semi-det. | M5: Cluster | N5: Stratified | O5: Total | Q5: Soho | R5: Serviced Apartment
A7: EXISTING STOCK
A9: H1 2025 | B9: Jelebu | C9: 68 | D9: 254 | E9: 509 | F9: 15 | G9: 5 | H9: 0 | I9: 0 | J9: 0 | K9: 3 | L9: 2 | M9: 0 | N9: 0 | O9: 856 | Q9: 0 | R9: 0
B10: Jempol | C10: 50 | D10: 358 | E10: 1389 | F10: 409 | G10: 42 | H10: 0 | I10: 0 | J10: 0 | K10: 18 | L10: 0 | M10: 0 | N10: 20 | O10: 2286 | Q10: 0 | R10: 0
B11: Kuala Pilah | C11: 207 | D11: 270 | E11: 380 | F11: 67 | G11: 7 | H11: 0 | I11: 0 | J11: 0 | K11: 1 | L11: 0 | M11: 0 | N11: 24 | O11: 956 | Q11: 0 | R11: 0
B12: Port Dickson | C12: 82 | D12: 257 | E12: 1837 | F12: 390 | G12: 37 | H12: 3 | I12: 0 | J12: 0 | K12: 7 | L12: 0 | M12: 0 | N12: 10 | O12: 2623 | Q12: 0 | R12: 7944
B13: Rembau | C13: 62 | D13: 93 | E13: 340 | F13: 26 | G13: 1 | H13: 0 | I13: 0 | J13: 0 | K13: 6 | L13: 0 | M13: 0 | N13: 0 | O13: 528 | Q13: 0 | R13: 0
B14: Seremban | C14: 317 | D14: 1633 | E14: 9958 | F14: 4276 | G14: 1103 | H14: 110 | I14: 18 | J14: 1 | K14: 80 | L14: 64 | M14: 0 | N14: 223 | O14: 17783 | Q14: 104 | R14: 8239
B15: Tampin | C15: 90 | D15: 439 | E15: 1239 | F15: 309 | G15: 24 | H15: 1 | I15: 0 | J15: 0 | K15: 1 | L15: 0 | M15: 0 | N15: 0 | O15: 2103 | Q15: 0 | R15: 0
B17: NEGERI SEMBILAN | C17: 876 | D17: 3304 | E17: 15652 | F17: 5492 | G17: 1219 | H17: 114 | I17: 18 | J17: 1 | K17: 116 | L17: 66 | M17: 0 | N17: 277 | O17: 27135 | Q17: 104 | R17: 16183
A19: H2 2025 | B19: Jelebu | C19: 68 | D19: 254 | E19: 509 | F19: 15 | G19: 5 | H19: 0 | I19: 0 | J19: 0 | K19: 3 | L19: 2 | M19: 0 | N19: 0 | O19: 856 | Q19: 0 | R19: 0
B20: Jempol | C20: 50 | D20: 358 | E20: 1389 | F20: 409 | G20: 42 | H20: 0 | I20: 0 | J20: 0 | K20: 18 | L20: 0 | M20: 0 | N20: 20 | O20: 2286 | Q20: 0 | R20: 0
B21: Kuala Pilah | C21: 207 | D21: 270 | E21: 380 | F21: 67 | G21: 7 | H21: 0 | I21: 0 | J21: 0 | K21: 1 | L21: 0 | M21: 0 | N21: 24 | O21: 956 | Q21: 0 | R21: 0
B22: Port Dickson | C22: 82 | D22: 262 | E22: 1848 | F22: 471 | G22: 37 | H22: 3 | I22: 0 | J22: 0 | K22: 7 | L22: 0 | M22: 0 | N22: 10 | O22: 2720 | Q22: 0 | R22: 7944
