Workbook

Sheet NATIONAL 1
A1: Table 1
A2: PENAWARAN UNIT KEDAI MENGIKUT JENIS DI MALAYSIA | C2: LAPORAN STOK PERNIAGAAN [ existing shops] TAHUN 2000
A3: SUPPLY OF SHOP UNITS BY TYPES IN MALAYSIA
A6: Quarter Year | B6: States | D6: Prewar | E6: 1 - 1 1/2 storey | F6: 2 - 2 1/2 storey | G6: 3 - 3 1/2 storey | H6: 4 - 4 1/2 storey | I6: 5 - 5 1/2 storey | J6: 6-6 1/2 storey | K6: > 6 1/2 storey | L6: Detached | M6: Semi-det. | N6: Cluster | O6: Stratified | P6: TOTAL | R6: SOHO | S6: Servised
E7: Terraced | F7: Terraced | G7: Terraced | H7: Terraced | I7: Terraced | J7: Terraced | K7: Terraced | S7: Apartment
A9: EXISTING STOCK
A11: H1 2016 | B11: WP Kuala Lumpur | D11: 1197 | E11: 757 | F11: 5878 | G11: 7363 | H11: 6801 | I11: 892 | J11: 620 | K11: 258 | L11: 38 | M11: 0 | N11: 0 | O11: 1801 | P11: 25605 | R11: 1380 | S11: 35862
B12: WP Putrajaya | D12: 0 | E12: 0 | F12: 102 | G12: 145 | H12: 67 | I12: 0 | J12: 0 | K12: 0 | L12: 0 | M12: 0 | N12: 0 | O12: 106 | P12: 420 | R12: 0 | S12: 0
B13: WP Labuan | D13: 0 | E13: 26 | F13: 167 | G13: 370 | H13: 8 | I13: 36 | J13: 8 | K13: 2 | L13: 151 | M13: 4 | N13: 0 | O13: 117 | P13: 889 | R13: 0 | S13: 0
B14: Selangor | D14: 1179 | E14: 6933 | F14: 28485 | G14: 23553 | H14: 12595 | I14: 730 | J14: 321 | K14: 488 | L14: 55 | M14: 118 | N14: 0 | O14: 12740 | P14: 87197 | R14: 4371 | S14: 27880
B15: Johor | D15: 2794 | E15: 10893 | F15: 39528 | G15: 13262 | H15: 3842 | I15: 119 | J15: 17 | K15: 3 | L15: 119 | M15: 40 | N15: 0 | O15: 3374 | P15: 73991 | R15: 0 | S15: 12197
B16: Pulau Pinang | D16: 4816 | E16: 1370 | F16: 13455 | G16: 5767 | H16: 732 | I16: 272 | J16: 8 | K16: 0 | L16: 16 | M16: 24 | N16: 0 | O16: 5226 | P16: 31686 | R16: 694 | S16: 1625
B17: Perak | D17: 5798 | E17: 4792 | F17: 30307 | G17: 7609 | H17: 1838 | I17: 101 | J17: 10 | K17: 15 | L17: 291 | M17: 152 | N17: 0 | O17: 2783 | P17: 53696 | R17: 405 | S17: 375
B18: Negeri Sembilan | D18: 1345 | E18: 2670 | F18: 10411 | G18: 3876 | H18: 624 | I18: 121 | J18: 21 | K18: 3 | L18: 48 | M18: 68 | N18: 0 | O18: 323 | P18: 19510 | R18: 104 | S18: 6677
B19: Melaka | D19: 2086 | E19: 2431 | F19: 9090 | G19: 3006 | H19: 654 | I19: 30 | J19: 7 | K19: 0 | L19: 0 | M19: 0 | N19: 0 | O19: 1548 | P19: 18852 | R19: 0 | S19: 1086
B20: Kedah | D20: 1883 | E20: 6291 | F20: 13552 | G20: 3653 | H20: 302 | I20: 10 | J20: 8 | K20: 0 | L20: 780 | M20: 68 | N20: 0 | O20: 337 | P20: 26884 | R20: 0 | S20: 573
B21: Pahang | D21: 782 | E21: 2590 | F21: 11008 | G21: 6020 | H21: 628 | I21: 34 | J21: 0 | K21: 0 | L21: 91 | M21: 12 | N21: 0 | O21: 724 | P21: 21889 | R21: 0 | S21: 2759
B22: Terengganu | D22: 331 | E22: 522 | F22: 3050 | G22: 1381 | H22: 572 | I22: 37 | J22: 10 | K22: 0 | L22: 347 | M22: 70 | N22: 0 | O22: 136 | P22: 6456 | R22: 0 | S22: 0
B23: Kelantan | D23: 409 | E23: 1226 | F23: 4959 | G23: 2066 | H23: 528 | I23: 21 | J23: 2 | K23: 2 | L23: 20 | M23: 0 | N23: 0 | O23: 66 | P23: 9299 | R23: 0 | S23: 75
... B28: MALAYSIA | D28: 23953 | E28: 41994 | F28: 187183 | G28: 97502 | H28: 36012 | I28: 2976 | J28: 1451 | K28: 945 | L28: 2048 | M28: 670 | N28: 0 | O28: 32110 | P28: 426844 | R28: 7161 | S28: 89997
A30: H2 2016 | B30: WP Kuala Lumpur | D30: 1197 | E30: 757 | F30: 5878 | G30: 7363 | H30: 6801 | I30: 892 | J30: 620 | K30: 258 | L30: 38 | M30: 0 | N30: 0 | O30: 1949 | P30: 25753 | R30: 1547 | S30: 38379
B31: WP Putrajaya | D31: 0 | E31: 0 | F31: 102 | G31: 145 | H31: 67 | I31: 0 | J31: 0 | K31: 0 | L31: 0 | M31: 0 | N31: 0 | O31: 106 | P31: 420 | R31: 0 | S31: 0
B32: WP Labuan | D32: 0 | E32: 26 | F32: 167 | G32: 370 | H32: 8 | I32: 36 | J32: 8 | K32: 2 | L32: 151 | M32: 4 | N32: 0 | O32: 117 | P32: 889 | R32: 0 | S32: 0
B33: Selangor | D33: 1179 | E33: 7003 | F33: 28637 | G33: 23602 | H33: 12684 | I33: 730 | J33: 321 | K33: 488 | L33: 55 | M33: 118 | N33: 0 | O33: 12815 | P33: 87632 | R33: 6978 | S33: 29755
B34: Johor | D34: 2794 | E34: 10893 | F34: 39985 | G34: 13670 | H34: 3842 | I34: 119 | J34: 17 | K34: 3 | L34: 119 | M34: 40 | N34: 0 | O34: 3395 | P34: 74877 | R34: 0 | S34: 12623
B35: Pulau Pinang | D35: 4816 | E35: 1379 | F35: 13763 | G35: 5817 | H35: 733 | I35: 273 | J35: 8 | K35: 0 | L35: 18 | M35: 30 | N35: 0 | O35: 5266 | P35: 32103 | R35: 1464 | S35: 1625
B36: Perak | D36: 5798 | E36: 4809 | F36: 30723 | G36: 7842 | H36: 1842 | I36: 101 | J36: 12 | K36: 15 | L36: 291 | M36: 152 | N36: 0 | O36: 2824 | P36: 54409 | R36: 565 | S36: 375
B37: Negeri Sembilan | D37: 1345 | E37: 2720 | F37: 10545 | G37: 3922 | H37: 626 | I37: 121 | J37: 21 | K37: 3 | L37: 48 | M37: 68 | N37: 0 | O37: 323 | P37: 19742 | R37: 104 | S37: 6677
B38: Melaka | D38: 2086 | E38: 2431 | F38: 9090 | G38: 3082 | H38: 674 | I38: 30 | J38: 7 | K38: 0 | L38: 0 | M38: 0 | N38: 0 | O38: 1548 | P38: 18948 | R38: 0 | S38: 1086
B39: Kedah | D39: 1883 | E39: 6291 | F39: 13687 | G39: 3661 | H39: 302 | I39: 10 | J39: 8 | K39: 0 | L39: 780 | M39: 68 | N39: 0 | O39: 337 | P39: 27027 | R39: 0 | S39: 573
B40: Pahang | D40: 782 | E40: 2590 | F40: 11131 | G40: 6255 | H40: 636 | I40: 34 | J40: 0 | K40: 0 | L40: 92 | M40: 12 | N40: 0 | O40: 760 | P40: 22292 | R40: 0 | S40: 2759
B41: Terengganu | D41: 331 | E41: 522 | F41: 3104 | G41: 1464 | H41: 578 | I41: 37 | J41: 10 | K41: 0 | L41: 347 | M41: 70 | N41: 0 | O41: 136 | P41: 6599 | R41: 0 | S41: 0
B42: Kelantan | D42: 409 | E42: 1239 | F42: 5070 | G42: 2139 | H42: 529 | I42: 21 | J42: 2 | K42: 2 | L42: 20 | M42: 0 | N42: 0 | O42: 66 | P42: 9497 | R42: 0 | S42: 75
B43: Perlis | D43: 170 | E43: 654 | F43: 2641 | G43: 598 | H43: 30 | I43: 0 | J43: 0 | K43: 0 | L43: 3 | M43: 0 | N43: 0 | O43: 0 | P43: 4096 | R43: 0 | S43: 0
B44: Sabah | E44: 372 | F44: 8831 | G44: 4953 | H44: 2200 | I44: 528 | J44: 379 | K44: 172 | L44: 28 | M44: 130 | N44: 0 | O44: 595 | P44: 18188 | R44: 152 | S44: 888
B45: Sarawak | D45: 1163 | E45: 489 | F45: 6086 | G45: 15038 | H45: 4688 | I45: 45 | J45: 40 | K45: 2 | L45: 63 | M45: 106 | N45: 0 | O45: 2234 | P45: 29954 | R45: 55 | S45: 0
B47: MALAYSIA | D47: 23953 | E47: 42175 | F47: 189440 | G47: 99921 | H47: 36240 | I47: 2977 | J47: 1453 | K47: 945 | L47: 2053 | M47: 798 | N47: 0 | O47: 32471 | P47: 432426 | R47: 10865 | S47: 94815
A49: H1 2017 | B49: WP Kuala Lumpur | D49: 1197 | E49: 757 | F49: 5878 | G49: 7363 | H49: 6801 | I49: 892 | J49: 620 | K49: 258 | L49: 38 | M49: 0 | N49: 0 | O49: 1949 | P49: 25753 | R49: 1547 | S49: 40315
B50: WP Putrajaya | D50: 0 | E50: 0 | F50: 102 | G50: 145 | H50: 67 | I50: 0 | J50: 0 | K50: 0 | L50: 0 | M50: 0 | N50: 0 | O50: 106 | P50: 420 | R50: 0 | S50: 0
B51: WP Labuan | D51: 0 | E51: 26 | F51: 167 | G51: 370 | H51: 8 | I51: 36 | J51: 8 | K51: 2 | L51: 151 | M51: 4 | N51: 0 | O51: 117 | P51: 889 | R51: 0 | S51: 0
B52: Selangor | D52: 1179 | E52: 7003 | F52: 28840 | G52: 23642 | H52: 12698 | I52: 730 | J52: 325 | K52: 488 | L52: 55 | M52: 118 | N52: 0 | O52: 12815 | P52: 87893 | R52: 7406 | S52: 29755
B53: Johor | D53: 2794 | E53: 10893 | F53: 40044 | G53: 14039 | H53: 3842 | I53: 119 | J53: 17 | K53: 3 | L53: 121 | M53: 40 | N53: 0 | O53: 3452 | P53: 75364 | R53: 0 | S53: 12934
B54: Pulau Pinang | D54: 4816 | E54: 1526 | F54: 14009 | G54: 5871 | H54: 733 | I54: 273 | J54: 8 | K54: 0 | L54: 21 | M54: 36 | N54: 0 | O54: 5338 | P54: 32631 | R54: 1800 | S54: 1625
B55: Perak | D55: 5798 | E55: 4850 | F55: 30906 | G55: 7927 | H55: 1850 | I55: 101 | J55: 12 | K55: 15 | L55: 291 | M55: 152 | N55: 0 | O55: 2832 | P55: 54734 | R55: 565 | S55: 417
B56: Negeri Sembilan | D56: 1345 | E56: 2768 | F56: 10847 | G56: 3931 | H56: 626 | I56: 121 | J56: 21 | K56: 3 | L56: 48 | M56: 68 | N56: 0 | O56: 323 | P56: 20101 | R56: 104 | S56: 7748
B57: Melaka | D57: 2086 | E57: 2431 | F57: 9106 | G57: 3082 | H57: 674 | I57: 30 | J57: 7 | K57: 0 | L57: 0 | M57: 0 | N57: 0 | O57: 1548 | P57: 18964 | R57: 0 | S57: 1086
B58: Kedah | D58: 1883 | E58: 6308 | F58: 13752 | G58: 3703 | H58: 302 | I58: 10 | J58: 8 | K58: 0 | L58: 781 | M58: 68 | N58: 0 | O58: 337 | P58: 27152 | R58: 0 | S58: 573
B59: Pahang | D59: 782 | E59: 2624 | F59: 11451 | G59: 6397 | H59: 638 | I59: 34 | J59: 0 | K59: 0 | L59: 98 | M59: 12 | N59: 0 | O59: 796 | P59: 22832 | R59: 0 | S59: 2759
B60: Terengganu | D60: 331 | E60: 530 | F60: 3201 | G60: 1512 | H60: 641 | I60: 37 | J60: 10 | K60: 0 | L60: 347 | M60: 70 | N60: 0 | O60: 136 | P60: 6815 | R60: 0 | S60: 0
B61: Kelantan | D61: 409 | E61: 1250 | F61: 5201 | G61: 2435 | H61: 553 | I61: 21 | J61: 2 | K61: 2 | L61: 23 | M61: 0 | N61: 0 | O61: 66 | P61: 9962 | R61: 0 | S61: 75
... B66: MALAYSIA | D66: 23953 | E66: 42485 | F66: 191343 | G66: 101811 | H66: 36403 | I66: 2977 | J66: 1457 | K66: 961 | L66: 2069 | M66: 804 | N66: 0 | O66: 32644 | P66: 436907 | R66: 11629 | S66: 97989
A68: H2 2017 | B68: WP Kuala Lumpur | D68: ='2.1'!#REF! -> #REF! | E68: ='2.1'!#REF! -> #REF! | F68: ='2.1'!#REF! -> #REF! | G68: ='2.1'!#REF! -> #REF! | H68: ='2.1'!#REF! -> #REF! | I68: ='2.1'!#REF! -> #REF! | J68: ='2.1'!#REF! -> #REF! | K68: ='2.1'!#REF! -> #REF! | ... P68: ='2.1'!#REF! -> #REF! | R68: ='2.1'!#REF! -> #REF! | S68: ='2.1'!#REF! -> #REF!
B69: WP Putrajaya | D69: 0 | E69: 0 | F69: 125 | G69: 201 | H69: 106 | I69: 0 | J69: 0 | K69: 0 | L69: 0 | M69: 0 | N69: 0 | O69: 106 | P69: 538 | R69: 0 | S69: 0
B70: WP Labuan | D70: 0 | E70: 26 | F70: 167 | G70: 370 | H70: 8 | I70: 36 | J70: 8 | K70: 2 | L70: 151 | M70: 4 | N70: 0 | O70: 117 | P70: 889 | R70: 0 | S70: 0
B71: Selangor | D71: 1179 | E71: 7003 | F71: 29014 | G71: 23823 | H71: 12719 | I71: 732 | J71: 325 | K71: 488 | L71: 55 | M71: 140 | N71: 0 | O71: 12899 | P71: 88377 | R71: 8322 | S71: 32511
B72: Johor | D72: 2794 | E72: 11006 | F72: 40189 | G72: 14397 | H72: 3878 | I72: 119 | J72: 17 | K72: 3 | L72: 121 | M72: 40 | N72: 0 | O72: 3495 | P72: 76059 | R72: 0 | S72: 17372
B73: Pulau Pinang | D73: 4816 | E73: 1549 | F73: 14047 | G73: 5942 | H73: 733 | I73: 274 | J73: 8 | K73: 0 | L73: 22 | M73: 90 | N73: 0 | O73: 5368 | P73: 32849 | R73: 1800 | S73: 1781
B74: Perak | D74: 5798 | E74: 4890 | F74: 31122 | G74: 7952 | H74: 1867 | I74: 101 | J74: 12 | K74: 15 | L74: 291 | M74: 152 | N74: 0 | O74: 2832 | P74: 55032 | R74: 575 | S74: 417
B75: Negeri Sembilan | D75: 1345 | E75: 2800 | F75: 10910 | G75: 3986 | H75: 626 | I75: 121 | J75: 21 | K75: 3 | L75: 48 | M75: 68 | N75: 0 | O75: 323 | P75: 20251 | R75: 104 | S75: 7748
B76: Melaka | D76: 2086 | E76: 2431 | F76: 9153 | G76: 3082 | H76: 675 | I76: 31 | J76: 7 | K76: 0 | L76: 0 | M76: 6 | N76: 0 | O76: 1548 | P76: 19019 | R76: 0 | S76: 2517
B77: Kedah | D77: 1883 | E77: 6421 | F77: 14025 | G77: 3754 | H77: 302 | I77: 10 | J77: 8 | K77: 0 | L77: 781 | M77: 68 | N77: 0 | O77: 337 | P77: 27589 | R77: 0 | S77: 573
B78: Pahang | D78: 782 | E78: 2655 | F78: 11785 | G78: 6507 | H78: 638 | I78: 34 | J78: 0 | K78: 0 | L78: 98 | M78: 12 | N78: 0 | O78: 915 | P78: 23426 | R78: 0 | S78: 2934
B79: Terengganu | D79: 331 | E79: 530 | F79: 3201 | G79: 1525 | H79: 656 | I79: 39 | J79: 10 | K79: 0 | L79: 347 | M79: 70 | N79: 0 | O79: 136 | P79: 6845 | R79: 0 | S79: 0
B80: Kelantan | D80: 409 | E80: 1271 | F80: 5265 | G80: 2480 | H80: 557 | I80: 21 | J80: 2 | K80: 2 | L80: 24 | M80: 6 | N80: 0 | O80: 66 | P80: 10103 | R80: 0 | S80: 75
... B85: MALAYSIA | D85: 23953 | E85: 42863 | F85: 193170 | G85: 103422 | H85: 36690 | I85: 3012 | J85: 1653 | K85: 961 | L85: 2071 | M85: 894 | N85: 0 | O85: 32935 | P85: 441624 | R85: 12555 | S85: 110285
A87: H1 2018 | B87: WP Kuala Lumpur | D87: 1197 | E87: 1061 | F87: 6377 | G87: 7730 | H87: 7186 | I87: 1435 | J87: 1637 | K87: 276 | L87: 43 | M87: 16 | N87: 0 | O87: 4263 | P87: 31221 | R87: 1971 | S87: 51089
B88: WP Putrajaya | D88: 0 | E88: 0 | F88: 125 | G88: 201 | H88: 106 | I88: 0 | J88: 0 | K88: 0 | L88: 0 | M88: 0 | N88: 0 | O88: 106 | P88: 538 | R88: 0 | S88: 0
B89: WP Labuan | D89: 0 | E89: 26 | F89: 167 | G89: 370 | H89: 8 | I89: 36 | J89: 8 | K89: 2 | L89: 151 | M89: 4 | N89: 0 | O89: 183 | P89: 955 | R89: 0 | S89: 0
B90: Selangor | D90: 1179 | E90: 8138 | F90: 32319 | G90: 26309 | H90: 14593 | I90: 1959 | J90: 1280 | K90: 1696 | L90: 279 | M90: 358 | N90: 0 | O90: 16715 | P90: 104825 | R90: 22308 | S90: 50500
B91: Johor | D91: 2794 | E91: 11854 | F91: 42510 | G91: 15818 | H91: 5485 | I91: 169 | J91: 17 | K91: 274 | L91: 676 | M91: 198 | N91: 0 | O91: 4696 | P91: 84491 | R91: 646 | S91: 47956
B92: Pulau Pinang | D92: 4816 | E92: 1549 | F92: 14957 | G92: 6692 | H92: 1503 | I92: 278 | J92: 8 | K92: 0 | L92: 104 | M92: 368 | N92: 0 | O92: 6642 | P92: 36917 | R92: 2387 | S92: 2414
B93: Perak | D93: 5798 | E93: 5154 | F93: 32861 | G93: 10544 | H93: 1945 | I93: 104 | J93: 288 | K93: 15 | L93: 484 | M93: 152 | N93: 0 | O93: 2989 | P93: 60334 | R93: 575 | S93: 682
B94: Negeri Sembilan | D94: 1345 | E94: 3227 | F94: 13972 | G94: 5147 | H94: 1143 | I94: 121 | J94: 21 | K94: 3 | L94: 52 | M94: 80 | N94: 0 | O94: 361 | P94: 25472 | R94: 104 | S94: 11322
B95: Melaka | D95: 2086 | E95: 2431 | F95: 9462 | G95: 4009 | H95: 1883 | I95: 85 | J95: 106 | K95: 175 | L95: 71 | M95: 34 | N95: 0 | O95: 1548 | P95: 21890 | R95: 0 | S95: 3808
B96: Kedah | D96: 1883 | E96: 6753 | F96: 16277 | G96: 4190 | H96: 306 | I96: 23 | J96: 8 | K96: 13 | L96: 815 | M96: 112 | N96: 0 | O96: 408 | P96: 30788 | R96: 0 | S96: 637
B97: Pahang | D97: 782 | E97: 2697 | F97: 11964 | G97: 6702 | H97: 689 | I97: 34 | J97: 0 | K97: 0 | L97: 98 | M97: 12 | N97: 0 | O97: 915 | P97: 23893 | R97: 0 | S97: 3102
B98: Terengganu | D98: 331 | E98: 584 | F98: 3807 | G98: 1897 | H98: 716 | I98: 75 | J98: 10 | K98: 0 | L98: 431 | M98: 82 | N98: 0 | O98: 136 | P98: 8069 | R98: 0 | S98: 0
B99: Kelantan | D99: 409 | E99: 1818 | F99: 6163 | G99: 3119 | H99: 764 | I99: 45 | J99: 6 | K99: 2 | L99: 202 | M99: 172 | N99: 0 | O99: 114 | P99: 12814 | R99: 0 | S99: 520
... B104: MALAYSIA | D104: 23953 | E104: 47542 | F104: 213153 | G104: 118977 | H104: 47111 | I104: 5558 | J104: 3882 | K104: 2773 | L104: 3549 | M104: 1890 | N104: 12 | O104: 42767 | P104: 511167 | R104: 28198 | S104: 173485
A106: COMPLETION
A108: H1 2016 | B108: WP Kuala Lumpur | D108: 0 | E108: 0 | F108: 0 | G108: 0 | H108: 0 | I108: 10 | J108: 0 | K108: 0 | L108: 0 | M108: 0 | N108: 0 | O108: 0 | P108: 10 | R108: 401 | S108: 2946
B109: WP Putrajaya | D109: 0 | E109: 0 | F109: 4 | G109: 0 | H109: 0 | I109: 0 | J109: 0 | K109: 0 | L109: 0 | M109: 0 | N109: 0 | O109: 0 | P109: 4 | R109: 0 | S109: 0
B110: WP Labuan | D110: 0 | E110: 0 | F110: 0 | G110: 0 | H110: 0 | I110: 0 | J110: 0 | K110: 0 | L110: 0 | M110: 0 | N110: 0 | O110: 0 | P110: 0 | R110: 0 | S110: 0
B111: Selangor | D111: 0 | E111: 13 | F111: 624 | G111: 440 | H111: 13 | I111: 0 | J111: 0 | K111: 0 | L111: 0 | M111: 8 | N111: 0 | O111: 166 | P111: 1264 | R111: 2709 | S111: 2390
B112: Johor | D112: 0 | E112: 91 | F112: 343 | G112: 514 | H112: 105 | I112: 4 | J112: 0 | K112: 0 | L112: 0 | M112: 0 | N112: 0 | O112: 0 | P112: 1057 | R112: 0 | S112: 3347
B113: Pulau Pinang | D113: 0 | E113: 0 | F113: 315 | G113: 166 | H113: 79 | I113: 0 | J113: 0 | K113: 0 | L113: 2 | M113: 2 | N113: 0 | O113: 136 | P113: 700 | R113: 121 | S113: 206
B114: Perak | D114: 0 | E114: 31 | F114: 437 | G114: 383 | H114: 10 | I114: 0 | J114: 0 | K114: 0 | L114: 2 | M114: 0 | N114: 0 | O114: 179 | P114: 1042 | R114: 333 | S114: 0
B115: Negeri Sembilan | D115: 0 | E115: 9 | F115: 526 | G115: 108 | H115: 119 | I115: 24 | J115: 1 | K115: 0 | L115: 1 | M115: 8 | N115: 0 | O115: 0 | P115: 796 | R115: 0 | S115: 0
B116: Melaka | D116: 0 | E116: 0 | F116: 112 | G116: 22 | H116: 0 | I116: 0 | J116: 0 | K116: 0 | L116: 0 | M116: 0 | N116: 0 | O116: 0 | P116: 134 | R116: 0 | S116: 741
B117: Kedah | D117: 0 | E117: 0 | F117: 118 | G117: 44 | H117: 6 | I117: 0 | J117: 0 | K117: 0 | L117: 0 | M117: 0 | N117: 0 | O117: 0 | P117: 168 | R117: 0 | S117: 0
B118: Pahang | D118: 0 | E118: 99 | F118: 220 | G118: 239 | H118: 6 | I118: 0 | J118: 0 | K118: 0 | L118: 0 | M118: 0 | N118: 0 | O118: 32 | P118: 596 | R118: 0 | S118: 0
B119: Terengganu | D119: 0 | E119: 17 | F119: 182 | G119: 75 | H119: 15 | I119: 0 | J119: 2 | K119: 0 | L119: 0 | M119: 0 | N119: 0 | O119: 0 | P119: 291 | R119: 0 | S119: 0
B120: Kelantan | D120: 0 | E120: 3 | F120: 49 | G120: 154 | H120: 17 | I120: 0 | J120: 0 | K120: 0 | L120: 1 | M120: 0 | N120: 0 | O120: 0 | P120: 224 | R120: 0 | S120: 0
... B125: MALAYSIA | D125: 0 | E125: 323 | F125: 3173 | G125: 2654 | H125: 486 | I125: 38 | J125: 9 | K125: 0 | L125: 7 | M125: 20 | N125: 0 | O125: 552 | P125: 7262 | R125: 3564 | S125: 9630
A127: H2 2016 | B127: WP Kuala Lumpur | D127: 0 | E127: 0 | F127: 0 | G127: 0 | H127: 0 | I127: 0 | J127: 0 | K127: 0 | L127: 0 | M127: 0 | N127: 0 | O127: 148 | P127: 148 | R127: 167 | S127: 2517
B128: WP Putrajaya | D128: 0 | E128: 0 | F128: 0 | G128: 0 | H128: 0 | I128: 0 | J128: 0 | K128: 0 | L128: 0 | M128: 0 | N128: 0 | O128: 0 | P128: 0 | R128: 0 | S128: 0
B129: WP Labuan | D129: 0 | E129: 0 | F129: 0 | G129: 0 | H129: 0 | I129: 0 | J129: 0 | K129: 0 | L129: 0 | M129: 0 | N129: 0 | O129: 0 | P129: 0 | R129: 0 | S129: 0
B130: Selangor | D130: 0 | E130: 70 | F130: 152 | G130: 49 | H130: 89 | I130: 0 | J130: 0 | K130: 0 | L130: 0 | M130: 0 | N130: 0 | O130: 75 | P130: 435 | R130: 2607 | S130: 1875
B131: Johor | D131: 0 | E131: 0 | F131: 457 | G131: 408 | H131: 0 | I131: 0 | J131: 0 | K131: 0 | L131: 0 | M131: 0 | N131: 0 | O131: 21 | P131: 886 | R131: 0 | S131: 426
B132: Pulau Pinang | D132: 0 | E132: 9 | F132: 308 | G132: 50 | H132: 1 | I132: 1 | J132: 0 | K132: 0 | L132: 2 | M132: 6 | N132: 0 | O132: 40 | P132: 417 | R132: 770 | S132: 0
...

Sheet CONTENT
A2: JADUAL PENAWARAN UNIT KEDAI MENGIKUT JENIS H1 2026
A3: SUPPLY OF SHOP UNITS BY TYPES H1 2026
A5: JADUAL | B5: NEGERI
A7: 2 | B7: MALAYSIA
A9: 2.1 | B9: WP KUALA LUMPUR
A11: 2.2 | B11: WP PUTRAJAYA
A13: 2.3 | B13: WP LABUAN
A15: 2.4 | B15: SELANGOR
A17: 2.5 | B17: JOHOR
A19: 2.6 | B19: PULAU PINANG
A21: 2.7 | B21: PERAK
A23: 2.8 | B23: NEGERI SEMBILAN
A25: 2.9 | B25: MELAKA
A27: 2.1 | B27: KEDAH
A29: 2.11 | B29: PAHANG
... A39: 2.16 | B39: SARAWAK

Sheet 2.0
A1: Table 2.0
A2: PENAWARAN UNIT KEDAI MENGIKUT JENIS DI MALAYSIA
A3: SUPPLY OF SHOP UNITS BY TYPES IN MALAYSIA
A5: Quarter Year | B5: States | C5: Prewar | D5: 1 - 1 1/2 storey | E5: 2 - 2 1/2 storey | F5: 3 - 3 1/2 storey | G5: 4 - 4 1/2 storey | H5: 5 - 5 1/2 storey | I5: 6-6 1/2 storey | J5: > 6 1/2 storey | K5: Detached | L5: Semi-det. | M5: Cluster | N5: Stratified | O5: TOTAL | Q5: SOHO | R5: Serviced Apartment
D6: Terraced | E6: Terraced | F6: Terraced | G6: Terraced | H6: Terraced | I6: Terraced | J6: Terraced
A8: EXISTING STOCK
A10: H1 2025 | B10: WP Kuala Lumpur | C10: 1197 | D10: 989 | E10: 6267 | F10: 7826 | G10: 5902 | H10: 1486 | I10: 1571 | J10: 76 | K10: 106 | L10: 40 | M10: 0 | N10: 4996 | O10: 30456 | Q10: 10273 | R10: 143598
B11: WP Putrajaya | C11: 0 | D11: 0 | E11: 125 | F11: 201 | G11: 106 | H11: 0 | I11: 0 | J11: 0 | K11: 0 | L11: 0 | M11: 0 | N11: 106 | O11: 538 | Q11: 0 | R11: 1204
B12: WP Labuan | C12: 0 | D12: 26 | E12: 264 | F12: 390 | G12: 8 | H12: 32 | I12: 8 | J12: 2 | K12: 156 | L12: 4 | M12: 0 | N12: 183 | O12: 1073 | Q12: 0 | R12: 0
B13: Selangor | C13: 716 | D13: 7969 | E13: 36497 | F13: 28125 | G13: 12541 | H13: 1912 | I13: 1266 | J13: 1501 | K13: 312 | L13: 438 | M13: 15 | N13: 19971 | O13: 111263 | Q13: 47914 | R13: 137999
B14: Johor | C14: 2821 | D14: 11759 | E14: 49514 | F14: 20283 | G14: 6142 | H14: 224 | I14: 12 | J14: 344 | K14: 762 | L14: 278 | M14: 0 | N14: 5892 | O14: 98031 | Q14: 3567 | R14: 109425
B15: Pulau Pinang | C15: 4553 | D15: 1082 | E15: 16052 | F15: 7310 | G15: 1957 | H15: 166 | I15: 7 | J15: 3 | K15: 156 | L15: 474 | M15: 0 | N15: 7733 | O15: 39493 | Q15: 4714 | R15: 10751
B16: Perak | C16: 5507 | D16: 5105 | E16: 32626 | F16: 11760 | G16: 1802 | H16: 74 | I16: 288 | J16: 3 | K16: 529 | L16: 154 | M16: 0 | N16: 1075 | O16: 58923 | Q16: 1043 | R16: 1567
B17: Negeri Sembilan | C17: 876 | D17: 3304 | E17: 15652 | F17: 5492 | G17: 1219 | H17: 114 | I17: 18 | J17: 1 | K17: 116 | L17: 66 | M17: 0 | N17: 277 | O17: 27135 | Q17: 104 | R17: 16183
B18: Melaka | C18: 2094 | D18: 2542 | E18: 11427 | F18: 4623 | G18: 2009 | H18: 85 | I18: 106 | J18: 175 | K18: 81 | L18: 46 | M18: 0 | N18: 1411 | O18: 24599 | Q18: 0 | R18: 10820
B19: Kedah | C19: 1847 | D19: 6210 | E19: 18147 | F19: 4376 | G19: 203 | H19: 22 | I19: 8 | J19: 13 | K19: 283 | L19: 76 | M19: 0 | N19: 274 | O19: 31459 | Q19: 0 | R19: 637
B20: Pahang | C20: 782 | D20: 2893 | E20: 13537 | F20: 7134 | G20: 779 | H20: 57 | I20: 1 | J20: 0 | K20: 170 | L20: 56 | M20: 0 | N20: 976 | O20: 26385 | Q20: 0 | R20: 10085
B21: Terengganu | C21: 331 | D21: 637 | E21: 3880 | F21: 1920 | G21: 800 | H21: 120 | I21: 10 | J21: 0 | K21: 482 | L21: 72 | M21: 0 | N21: 270 | O21: 8522 | Q21: 0 | R21: 276
B22: Kelantan | C22: 399 | D22: 2011 | E22: 6824 | F22: 3698 | G22: 801 | H22: 52 | I22: 6 | J22: 2 | K22: 368 | L22: 210 | M22: 0 | N22: 371 | O22: 14742 | Q22: 0 | R22: 1694
... B27: MALAYSIA | C27: 22455 | D27: 46601 | E27: 235025 | F27: 134082 | G27: 45403 | H27: 5500 | I27: 3641 | J27: 2655 | K27: 3845 | L27: 2297 | M27: 203 | N27: 48710 | O27: 550417 | Q27: 68645 | R27: 449129
A29: H2 2025 | B29: WP Kuala Lumpur | C29: 1197 | D29: 989 | E29: 6277 | F29: 8014 | G29: 5919 | H29: 1490 | I29: 1571 | J29: 76 | K29: 106 | L29: 40 | M29: 0 | N29: 5294 | O29: 30973 | Q29: 12266 | R29: 150954
B30: WP Putrajaya | C30: 0 | D30: 0 | E30: 125 | F30: 201 | G30: 106 | H30: 0 | I30: 0 | J30: 0 | K30: 0 | L30: 0 | M30: 0 | N30: 106 | O30: 538 | Q30: 0 | R30: 1204
B31: WP Labuan | C31: 0 | D31: 26 | E31: 264 | F31: 390 | G31: 8 | H31: 32 | I31: 8 | J31: 2 | K31: 156 | L31: 4 | M31: 0 | N31: 183 | O31: 1073 | Q31: 0 | R31: 0
B32: Selangor | C32: 716 | D32: 7981 | E32: 37104 | F32: 28563 | G32: 12696 | H32: 2181 | I32: 1266 | J32: 1501 | K32: 313 | L32: 696 | M32: 15 | N32: 20214 | O32: 113246 | Q32: 51941 | R32: 150385
B33: Johor | C33: 2821 | D33: 11795 | E33: 50255 | F33: 20605 | G33: 6207 | H33: 164 | I33: 12 | J33: 344 | K33: 752 | L33: 276 | M33: 0 | N33: 5529 | O33: 98760 | Q33: 2928 | R33: 109850
B34: Pulau Pinang | C34: 4553 | D34: 1082 | E34: 16252 | F34: 7313 | G34: 1955 | H34: 166 | I34: 7 | J34: 3 | K34: 155 | L34: 474 | M34: 0 | N34: 7955 | O34: 39915 | Q34: 5674 | R34: 10751
B35: Perak | C35: 5507 | D35: 5158 | E35: 32763 | F35: 11755 | G35: 1802 | H35: 74 | I35: 288 | J35: 3 | K35: 528 | L35: 154 | M35: 0 | N35: 1144 | O35: 59176 | Q35: 1043 | R35: 2223
B36: Negeri Sembilan | C36: 876 | D36: 3403 | E36: 16036 | F36: 5637 | G36: 1219 | H36: 173 | I36: 18 | J36: 1 | K36: 71 | L36: 66 | M36: 0 | N36: 277 | O36: 27777 | Q36: 104 | R36: 16744
B37: Melaka | C37: 2094 | D37: 2571 | E37: 11643 | F37: 4692 | G37: 2009 | H37: 85 | I37: 106 | J37: 175 | K37: 81 | L37: 46 | M37: 0 | N37: 1411 | O37: 24913 | Q37: 0 | R37: 12420
B38: Kedah | C38: 1821 | D38: 6305 | E38: 18239 | F38: 4422 | G38: 199 | H38: 22 | I38: 8 | J38: 13 | K38: 285 | L38: 80 | M38: 0 | N38: 274 | O38: 31668 | Q38: 0 | R38: 637
B39: Pahang | C39: 782 | D39: 2924 | E39: 13531 | F39: 7227 | G39: 781 | H39: 57 | I39: 1 | J39: 0 | K39: 140 | L39: 64 | M39: 0 | N39: 986 | O39: 26493 | Q39: 0 | R39: 11707
B40: Terengganu | C40: 331 | D40: 673 | E40: 4078 | F40: 2004 | G40: 832 | H40: 123 | I40: 10 | J40: 0 | K40: 488 | L40: 74 | M40: 0 | N40: 270 | O40: 8883 | Q40: 0 | R40: 276
B41: Kelantan | C41: 399 | D41: 2021 | E41: 6859 | F41: 3800 | G41: 814 | H41: 52 | I41: 6 | J41: 2 | K41: 371 | L41: 210 | M41: 0 | N41: 371 | O41: 14905 | Q41: 0 | R41: 1694
... B46: MALAYSIA | C46: 22429 | D46: 47027 | E46: 238021 | F46: 135853 | G46: 45667 | H46: 5775 | I46: 3695 | J46: 2655 | K46: 3767 | L46: 2557 | M46: 203 | N46: 49792 | O46: 557441 | Q46: 74986 | R46: 474018
A48: H1 2026 | B48: WP Kuala Lumpur | C48: 1197 | D48: 989 | E48: 6277 | F48: 8014 | G48: 5919 | H48: 1490 | I48: 1571 | J48: 76 | K48: 106 | L48: 40 | M48: 0 | N48: 5294 | O48: 30973 | Q48: 12266 | R48: 157032
B49: WP Putrajaya | C49: 0 | D49: 0 | E49: 125 | F49: 201 | G49: 106 | H49: 0 | I49: 0 | J49: 0 | K49: 0 | L49: 0 | M49: 0 | N49: 106 | O49: 538 | Q49: 0 | R49: 1204
B50: WP Labuan | C50: 0 | D50: 26 | E50: 264 | F50: 390 | G50: 8 | H50: 32 | I50: 8 | J50: 2 | K50: 156 | L50: 4 | M50: 0 | N50: 183 | O50: 1073 | Q50: 0 | R50: 0
B51: Selangor | C51: 716 | D51: 8061 | E51: 37910 | F51: 28723 | G51: 12815 | H51: 2245 | I51: 1266 | J51: 1501 | K51: 314 | L51: 546 | M51: 15 | N51: 20383 | O51: 114495 | Q51: 52463 | R51: 162385
B52: Johor | C52: 2821 | D52: 12002 | E52: 50595 | F52: 20930 | G52: 6262 | H52: 164 | I52: 12 | J52: 344 | K52: 754 | L52: 332 | M52: 0 | N52: 5534 | O52: 99750 | Q52: 2928 | R52: 110600
B53: Pulau Pinang | C53: 4553 | D53: 1082 | E53: 16245 | F53: 7327 | G53: 1961 | H53: 166 | I53: 7 | J53: 3 | K53: 159 | L53: 498 | M53: 0 | N53: 8144 | O53: 40145 | Q53: 5674 | R53: 11503
B54: Perak | C54: 5507 | D54: 5279 | E54: 33308 | F54: 11775 | G54: 1802 | H54: 74 | I54: 288 | J54: 3 | K54: 533 | L54: 156 | M54: 0 | N54: 1250 | O54: 59975 | Q54: 1698 | R54: 2223
B55: Negeri Sembilan | C55: 876 | D55: 3435 | E55: 16557 | F55: 5663 | G55: 1219 | H55: 173 | I55: 18 | J55: 1 | K55: 73 | L55: 66 | M55: 0 | N55: 277 | O55: 28358 | Q55: 104 | R55: 16968
B56: Melaka | C56: 2094 | D56: 2583 | E56: 11704 | F56: 4692 | G56: 2009 | H56: 85 | I56: 106 | J56: 175 | K56: 81 | L56: 46 | M56: 0 | N56: 1411 | O56: 24986 | Q56: 352 | R56: 12420
B57: Kedah | C57: 1847 | D57: 6398 | E57: 18454 | F57: 4466 | G57: 199 | H57: 22 | I57: 8 | J57: 13 | K57: 278 | L57: 96 | M57: 0 | N57: 274 | O57: 32055 | Q57: 0 | R57: 1468
B58: Pahang | C58: 782 | D58: 3001 | E58: 13807 | F58: 7234 | G58: 782 | H58: 57 | I58: 1 | J58: 0 | K58: 141 | L58: 64 | M58: 0 | N58: 986 | O58: 26855 | Q58: 0 | R58: 12183
B59: Terengganu | C59: 331 | D59: 673 | E59: 4097 | F59: 2004 | G59: 832 | H59: 123 | I59: 10 | J59: 0 | K59: 488 | L59: 74 | M59: 0 | N59: 270 | O59: 8902 | Q59: 0 | R59: 276
B60: Kelantan | C60: 399 | D60: 2033 | E60: 6862 | F60: 3803 | G60: 814 | H60: 52 | I60: 6 | J60: 2 | K60: 372 | L60: 214 | M60: 0 | N60: 372 | O60: 14929 | Q60: 0 | R60: 1694
... B65: MALAYSIA | C65: 22455 | D65: 47666 | E65: 241038 | F65: 136636 | G65: 45862 | H65: 5824 | I65: 3617 | J65: 2479 | K65: 3780 | L65: 2551 | M65: 27 | N65: 50707 | O65: 562642 | Q65: 76515 | R65: 495884
B67: COMPLETION
A69: H1 2025 | B69: WP Kuala Lumpur | C69: 0 | D69: 0 | E69: 0 | F69: 0 | G69: 0 | H69: 0 | I69: 0 | J69: 0 | K69: 0 | L69: 0 | M69: 0 | N69: 23 | O69: 23 | Q69: 0 | R69: 2180
B70: WP Putrajaya | C70: 0 | D70: 0 | E70: 0 | F70: 0 | G70: 0 | H70: 0 | I70: 0 | J70: 0 | K70: 0 | L70: 0 | M70: 0 | N70: 0 | O70: 0 | Q70: 0 | R70: 0
B71: WP Labuan | C71: 0 | D71: 0 | E71: 20 | F71: 0 | G71: 0 | H71: 0 | I71: 0 | J71: 0 | K71: 0 | L71: 0 | M71: 0 | N71: 0 | O71: 20 | Q71: 0 | R71: 0
B72: Selangor | C72: 0 | D72: 20 | E72: 99 | F72: 1 | G72: 0 | H72: 0 | I72: 0 | J72: 0 | K72: 0 | L72: 0 | M72: 0 | N72: 46 | O72: 166 | Q72: 865 | R72: 3144
B73: Johor | C73: 0 | D73: 7 | E73: 121 | F73: 10 | G73: 57 | H73: 0 | I73: 0 | J73: 0 | K73: 3 | L73: 0 | M73: 0 | N73: 0 | O73: 198 | Q73: 0 | R73: 995
B74: Pulau Pinang | C74: 0 | D74: 0 | E74: 13 | F74: 0 | G74: 0 | H74: 0 | I74: 0 | J74: 0 | K74: 0 | L74: 0 | M74: 0 | N74: 45 | O74: 58 | Q74: 18 | R74: 418
B75: Perak | C75: 0 | D75: 9 | E75: 70 | F75: 40 | G75: 0 | H75: 0 | I75: 0 | J75: 0 | K75: 0 | L75: 0 | M75: 0 | N75: 0 | O75: 119 | Q75: 0 | R75: 0
B76: Negeri Sembilan | C76: 0 | D76: 53 | E76: 87 | F76: 0 | G76: 0 | H76: 0 | I76: 0 | J76: 0 | K76: 0 | L76: 0 | M76: 0 | N76: 0 | O76: 140 | Q76: 0 | R76: 1106
B77: Melaka | C77: 0 | D77: 21 | E77: 132 | F77: 0 | G77: 0 | H77: 0 | I77: 0 | J77: 0 | K77: 0 | L77: 0 | M77: 0 | N77: 34 | O77: 187 | Q77: 0 | R77: 130
B78: Kedah | C78: 0 | D78: 7 | E78: 15 | F78: 3 | G78: 0 | H78: 0 | I78: 0 | J78: 0 | K78: 0 | L78: 0 | M78: 0 | N78: 0 | O78: 25 | Q78: 0 | R78: 0
B79: Pahang | C79: 0 | D79: 0 | E79: 72 | F79: 8 | G79: 0 | H79: 0 | I79: 0 | J79: 0 | K79: 1 | L79: 0 | M79: 0 | N79: 15 | O79: 96 | Q79: 0 | R79: 0
B80: Terengganu | C80: 0 | D80: 5 | E80: 0 | F80: 2 | G80: 0 | H80: 0 | I80: 0 | J80: 0 | K80: 0 | L80: 0 | M80: 0 | N80: 0 | O80: 7 | Q80: 0 | R80: 0
B81: Kelantan | C81: 0 | D81: 2 | E81: 16 | F81: 18 | G81: 0 | H81: 0 | I81: 0 | J81: 0 | K81: 0 | L81: 2 | M81: 0 | N81: 0 | O81: 38 | Q81: 0 | R81: 0
... B86: MALAYSIA | C86: 0 | D86: 124 | E86: 864 | F86: 257 | G86: 77 | H86: 0 | I86: 0 | J86: 0 | K86: 4 | L86: 2 | M86: 0 | N86: 163 | O86: 1491 | Q86: 883 | R86: 7973
A88: H2 2025 | B88: WP Kuala Lumpur | C88: 0 | D88: 0 | E88: 9 | F88: 2 | G88: 10 | H88: 2 | I88: 0 | J88: 0 | K88: 0 | L88: 0 | M88: 0 | N88: 109 | O88: 132 | Q88: 661 | R88: 3595
B89: WP Putrajaya | C89: 0 | D89: 0 | E89: 0 | F89: 0 | G89: 0 | H89: 0 | I89: 0 | J89: 0 | K89: 0 | L89: 0 | M89: 0 | N89: 0 | O89: 0 | Q89: 0 | R89: 0
B90: WP Labuan | C90: 0 | D90: 0 | E90: 0 | F90: 0 | G90: 0 | H90: 0 | I90: 0 | J90: 0 | K90: 0 | L90: 0 | M90: 0 | N90: 0 | O90: 0 | Q90: 0 | R90: 0
B91: Selangor | C91: 0 | D91: 0 | E91: 248 | F91: 62 | G91: 58 | H91: 33 | I91: 0 | J91: 0 | K91: 0 | L91: 0 | M91: 0 | N91: 9 | O91: 410 | Q91: 369 | R91: 9401
B92: Johor | C92: 0 | D92: 24 | E92: 349 | F92: 267 | G92: 10 | H92: 0 | I92: 0 | J92: 0 | K92: 0 | L92: 0 | M92: 0 | N92: 24 | O92: 674 | Q92: 0 | R92: 1639
B93: Pulau Pinang | C93: 0 | D93: 0 | E93: 242 | F93: 25 | G93: 0 | H93: 0 | I93: 0 | J93: 0 | K93: 0 | L93: 0 | M93: 0 | N93: 185 | O93: 452 | Q93: 960 | R93: 0
B94: Perak | C94: 0 | D94: 27 | E94: 107 | F94: 26 | G94: 2 | H94: 0 | I94: 0 | J94: 0 | K94: 0 | L94: 0 | M94: 0 | N94: 66 | O94: 228 | Q94: 0 | R94: 656
B95: Negeri Sembilan | C95: 0 | D95: 61 | E95: 280 | F95: 32 | G95: 2 | H95: 0 | I95: 0 | J95: 0 | K95: 1 | L95: 0 | M95: 0 | N95: 0 | O95: 376 | Q95: 0 | R95: 512
B96: Melaka | C96: 0 | D96: 0 | E96: 126 | F96: 69 | G96: 0 | H96: 0 | I96: 0 | J96: 0 | K96: 0 | L96: 0 | M96: 0 | N96: 0 | O96: 195 | Q96: 0 | R96: 1134
B97: Kedah | C97: 0 | D97: 60 | E97: 72 | F97: 47 | G97: 0 | H97: 0 | I97: 0 | J97: 0 | K97: 0 | L97: 0 | M97: 0 | N97: 0 | O97: 179 | Q97: 0 | R97: 0
B98: Pahang | C98: 0 | D98: 31 | E98: 70 | F98: 7 | G98: 0 | H98: 0 | I98: 0 | J98: 0 | K98: 0 | L98: 0 | M98: 0 | N98: 0 | O98: 108 | Q98: 0 | R98: 1748
B99: Terengganu | C99: 0 | D99: 11 | E99: 44 | F99: 4 | G99: 0 | H99: 0 | I99: 0 | J99: 0 | K99: 1 | L99: 0 | M99: 0 | N99: 0 | O99: 60 | Q99: 0 | R99: 0
B100: Kelantan | C100: 0 | D100: 19 | E100: 38 | F100: 35 | G100: 0 | H100: 0 | I100: 0 | J100: 0 | K100: 0 | L100: 0 | M100: 0 | N100: 0 | O100: 92 | Q100: 0 | R100: 0
... B105: MALAYSIA | C105: 0 | D105: 248 | E105: 1853 | F105: 781 | G105: 82 | H105: 35 | I105: 0 | J105: 0 | K105: 12 | L105: 0 | M105: 0 | N105: 733 | O105: 3744 | Q105: 1990 | R105: 18685
A107: H1 2026 | B107: WP Kuala Lumpur | C107: 0 | D107: 0 | E107: 0 | F107: 0 | G107: 0 | H107: 0 | I107: 0 | J107: 0 | K107: 0 | L107: 0 | M107: 0 | N107: 0 | O107: 0 | Q107: 0 | R107: 2288
B108: WP Putrajaya | C108: 0 | D108: 0 | E108: 0 | F108: 0 | G108: 0 | H108: 0 | I108: 0 | J108: 0 | K108: 0 | L108: 0 | M108: 0 | N108: 0 | O108: 0 | Q108: 0 | R108: 0
B109: WP Labuan | C109: 0 | D109: 0 | E109: 0 | F109: 0 | G109: 0 | H109: 0 | I109: 0 | J109: 0 | K109: 0 | L109: 0 | M109: 0 | N109: 0 | O109: 0 | Q109: 0 | R109: 0
B110: Selangor | C110: 0 | D110: 12 | E110: 456 | F110: 104 | G110: 0 | H110: 4 | I110: 0 | J110: 0 | K110: 0 | L110: 6 | M110: 0 | N110: 67 | O110: 649 | Q110: 522 | R110: 6759
B111: Johor | C111: 0 | D111: 116 | E111: 306 | F111: 85 | G111: 55 | H111: 0 | I111: 0 | J111: 0 | K111: 0 | L111: 0 | M111: 0 | N111: 0 | O111: 562 | Q111: 0 | R111: 0
B112: Pulau Pinang | C112: 0 | D112: 0 | E112: 7 | F112: 14 | G112: 6 | H112: 0 | I112: 0 | J112: 0 | K112: 4 | L112: 22 | M112: 0 | N112: 0 | O112: 53 | Q112: 0 | R112: 0
B113: Perak | C113: 0 | D113: 76 | E113: 163 | F113: 3 | G113: 0 | H113: 0 | I113: 0 | J113: 0 | K113: 3 | L113: 2 | M113: 0 | N113: 0 | O113: 247 | Q113: 0 | R113: 0
B114: Negeri Sembilan | C114: 0 | D114: 0 | E114: 323 | F114: 20 | G114: 0 | H114: 0 | I114: 0 | J114: 0 | K114: 0 | L114: 0 | M114: 0 | N114: 0 | O114: 343 | Q114: 0 | R114: 224
B115: Melaka | C115: 0 | D115: 12 | E115: 11 | F115: 0 | G115: 0 | H115: 0 | I115: 0 | J115: 0 | K115: 0 | L115: 0 | M115: 0 | N115: 0 | O115: 23 | Q115: 352 | R115: 0
B116: Kedah | C116: 0 | D116: 0 | E116: 43 | F116: 22 | G116: 0 | H116: 0 | I116: 0 | J116: 0 | K116: 0 | L116: 6 | M116: 0 | N116: 0 | O116: 71 | Q116: 0 | R116: 831
B117: Pahang | C117: 0 | D117: 72 | E117: 44 | F117: 0 | G117: 0 | H117: 0 | I117: 0 | J117: 0 | K117: 0 | L117: 0 | M117: 0 | N117: 0 | O117: 116 | Q117: 0 | R117: 0
B118: Terengganu | C118: 0 | D118: 0 | E118: 0 | F118: 0 | G118: 0 | H118: 0 | I118: 0 | J118: 0 | K118: 0 | L118: 0 | M118: 0 | N118: 0 | O118: 0 | Q118: 0 | R118: 0
B119: Kelantan | C119: 0 | D119: 12 | E119: 3 | F119: 3 | G119: 0 | H119: 0 | I119: 0 | J119: 0 | K119: 1 | L119: 4 | M119: 0 | N119: 0 | O119: 23 | Q119: 0 | R119: 0
... B124: MALAYSIA | C124: 0 | D124: 305 | E124: 1499 | F124: 407 | G124: 73 | H124: 4 | I124: 0 | J124: 0 | K124: 12 | L124: 102 | M124: 0 | N124: 67 | O124: 2469 | Q124: 874 | R124: 10165
A126: INCOMING SUPPLY
A128: H1 2025 | B128: WP Kuala Lumpur | C128: 0 | D128: 9 | E128: 3 | F128: 213 | G128: 70 | H128: 2 | I128: 0 | J128: 0 | K128: 0 | L128: 0 | M128: 0 | N128: 152 | O128: 449 | Q128: 3939 | R128: 35264
B129: WP Putrajaya | C129: 0 | D129: 0 | E129: 0 | F129: 0 | G129: 0 | H129: 0 | I129: 0 | J129: 0 | K129: 0 | L129: 0 | M129: 0 | N129: 0 | O129: 0 | Q129: 0 | R129: 671
B130: WP Labuan | C130: 0 | D130: 0 | E130: 12 | F130: 0 | G130: 0 | H130: 18 | I130: 0 | J130: 0 | K130: 0 | L130: 0 | M130: 0 | N130: 0 | O130: 30 | Q130: 0 | R130: 0
B131: Selangor | C131: 0 | D131: 208 | E131: 2619 | F131: 575 | G131: 98 | H131: 275 | I131: 0 | J131: 0 | K131: 2 | L131: 26 | M131: 0 | N131: 1654 | O131: 5457 | Q131: 17100 | R131: 68651
B132: Johor | C132: 0 | D132: 462 | E132: 2662 | F132: 1190 | G132: 297 | H132: 3 | I132: 0 | J132: 0 | K132: 4 | L132: 170 | M132: 0 | N132: 69 | O132: 4857 | Q132: 1824 | R132: 27616
B133: Pulau Pinang | C133: 0 | D133: 11 | E133: 424 | F133: 60 | G133: 50 | H133: 0 | I133: 0 | J133: 0 | K133: 9 | L133: 60 | M133: 0 | N133: 535 | O133: 1149 | Q133: 1395 | R133: 8882
B134: Perak | C134: 0 | D134: 197 | E134: 1272 | F134: 411 | G134: 18 | H134: 0 | I134: 0 | J134: 0 | K134: 4 | L134: 38 | M134: 0 | N134: 107 | O134: 2047 | Q134: 744 | R134: 1104
B135: Negeri Sembilan | C135: 0 | D135: 158 | E135: 1225 | F135: 194 | G135: 94 | H135: 210 | I135: 0 | J135: 0 | K135: 0 | L135: 0 | M135: 0 | N135: 6 | O135: 1887 | Q135: 0 | R135: 1286
...

Sheet 2.1
A1: Table 2.1
A2: PENAWARAN UNIT KEDAI MENGIKUT JENIS DI KUALA LUMPUR
A3: SUPPLY OF SHOP UNITS BY TYPES IN KUALA LUMPUR
A5: Quarter Year | B5: Mukim | C5: Prewar | D5: 1 - 1 1/2 storey Terraced | E5: 2 - 2 1/2 storey Terraced | F5: 3 - 3 1/2 storey Terraced | G5: 4 - 4 1/2 storey Terraced | H5: 5 - 5 1/2 storey Terraced | I5: 6-6 1/2 storey Terraced | J5: > 6 1/2 storey Terraced | K5: Detached | L5: Semi-det. | M5: Cluster | N5: Stratified | O5: Total | Q5: Soho | R5: Serviced Apartment
A7: EXISTING STOCK
A9: H1 2025 | B9: Bandar Kuala Lumpur | C9: 1197 | D9: 173 | E9: 840 | F9: 911 | G9: 790 | H9: 322 | I9: 100 | J9: 40 | K9: 1 | L9: 0 | M9: 0 | N9: 502 | O9: 4876 | Q9: 3120 | R9: 49532
B10: Petaling Jaya | C10: 0 | D10: 0 | E10: 0 | F10: 0 | G10: 0 | H10: 0 | I10: 0 | J10: 0 | K10: 0 | L10: 0 | M10: 0 | N10: 0 | O10: 0 | Q10: 0 | R10: 96
B11: Ampang | C11: 0 | D11: 7 | E11: 38 | F11: 0 | G11: 840 | H11: 0 | I11: 0 | J11: 0 | K11: 0 | L11: 0 | M11: 0 | N11: 13 | O11: 898 | Q11: 2674 | R11: 2869
B12: Batu | C12: 0 | D12: 510 | E12: 1762 | F12: 1452 | G12: 1736 | H12: 29 | I12: 446 | J12: 0 | K12: 0 | L12: 0 | M12: 0 | N12: 1607 | O12: 7542 | Q12: 1589 | R12: 27978
B13: Cheras | C13: 0 | D13: 25 | E13: 236 | F13: 141 | G13: 8 | H13: 14 | I13: 0 | J13: 0 | K13: 0 | L13: 0 | M13: 0 | N13: 0 | O13: 424 | Q13: 0 | R13: 0
B14: Hulu Kelang | C14: 0 | D14: 0 | E14: 54 | F14: 0 | G14: 0 | H14: 0 | I14: 0 | J14: 0 | K14: 0 | L14: 0 | M14: 0 | N14: 0 | O14: 54 | Q14: 0 | R14: 0
B15: Kuala Lumpur | C15: 0 | D15: 0 | E15: 1096 | F15: 2040 | G15: 721 | H15: 182 | I15: 0 | J15: 0 | K15: 1 | L15: 0 | M15: 0 | N15: 577 | O15: 4617 | Q15: 1213 | R15: 22351
B16: Petaling | C16: 0 | D16: 75 | E16: 1736 | F16: 1577 | G16: 787 | H16: 871 | I16: 195 | J16: 36 | K16: 104 | L16: 26 | M16: 0 | N16: 1349 | O16: 6756 | Q16: 1253 | R16: 26241
B17: Setapak | C17: 0 | D17: 199 | E17: 505 | F17: 1705 | G17: 1020 | H17: 68 | I17: 830 | J17: 0 | K17: 0 | L17: 14 | M17: 0 | N17: 948 | O17: 5289 | Q17: 424 | R17: 14531
B19: KUALA LUMPUR | C19: 1197 | D19: 989 | E19: 6267 | F19: 7826 | G19: 5902 | H19: 1486 | I19: 1571 | J19: 76 | K19: 106 | L19: 40 | M19: 0 | N19: 4996 | O19: 30456 | Q19: 10273 | R19: 143598
A21: H2 2025 | B21: Bandar Kuala Lumpur | C21: 1197 | D21: 173 | E21: 840 | F21: 911 | G21: 790 | H21: 322 | I21: 100 | J21: 40 | K21: 1 | L21: 0 | M21: 0 | N21: 529 | O21: 4903 | Q21: 3793 | R21: 53653
B22: Petaling Jaya | C22: 0 | D22: 0 | E22: 0 | F22: 0 | G22: 0 | H22: 0 | I22: 0 | J22: 0 | K22: 0 | L22: 0 | M22: 0 | N22: 0 | O22: 0 | Q22: 0 | R22: 96
B23: Ampang | C23: 0 | D23: 7 | E23: 38 | F23: 0 | G23: 840 | H23: 0 | I23: 0 | J23: 0 | K23: 0 | L23: 0 | M23: 0 | N23: 13 | O23: 898 | Q23: 2674 | R23: 2811
B24: Batu | C24: 0 | D24: 510 | E24: 1762 | F24: 1452 | G24: 1736 | H24: 29 | I24: 446 | J24: 0 | K24: 0 | L24: 0 | M24: 0 | N24: 1650 | O24: 7585 | Q24: 1589 | R24: 29586
B25: Cheras | C25: 0 | D25: 25 | E25: 236 | F25: 141 | G25: 8 | H25: 14 | I25: 0 | J25: 0 | K25: 0 | L25: 0 | M25: 0 | N25: 35 | O25: 459 | Q25: 0 | R25: 0
B26: Hulu Kelang | C26: 0 | D26: 0 | E26: 54 | F26: 0 | G26: 0 | H26: 0 | I26: 0 | J26: 0 | K26: 0 | L26: 0 | M26: 0 | N26: 0 | O26: 54 | Q26: 0 | R26: 0
B27: Kuala Lumpur | C27: 0 | D27: 0 | E27: 1096 | F27: 2095 | G27: 728 | H27: 182 | I27: 0 | J27: 0 | K27: 1 | L27: 0 | M27: 0 | N27: 584 | O27: 4686 | Q27: 2533 | R27: 22933
B28: Petaling | C28: 0 | D28: 75 | E28: 1746 | F28: 1710 | G28: 797 | H28: 875 | I28: 195 | J28: 36 | K28: 104 | L28: 26 | M28: 0 | N28: 1461 | O28: 7025 | Q28: 1253 | R28: 25653
B29: Setapak | C29: 0 | D29: 199 | E29: 505 | F29: 1705 | G29: 1020 | H29: 68 | I29: 830 | J29: 0 | K29: 0 | L29: 14 | M29: 0 | N29: 1022 | O29: 5363 | Q29: 424 | R29: 16222
B31: KUALA LUMPUR | C31: 1197 | D31: 989 | E31: 6277 | F31: 8014 | G31: 5919 | H31: 1490 | I31: 1571 | J31: 76 | K31: 106 | L31: 40 | M31: 0 | N31: 5294 | O31: 30973 | Q31: 12266 | R31: 150954
A33: H1 2026 | B33: Bandar Kuala Lumpur | C33: 1197 | D33: 173 | E33: 840 | F33: 911 | G33: 790 | H33: 322 | I33: 100 | J33: 40 | K33: 1 | L33: 0 | M33: 0 | N33: 529 | O33: 4903 | Q33: 3793 | R33: 57506
B34: Petaling Jaya | C34: 0 | D34: 0 | E34: 0 | F34: 0 | G34: 0 | H34: 0 | I34: 0 | J34: 0 | K34: 0 | L34: 0 | M34: 0 | N34: 0 | O34: 0 | Q34: 0 | R34: 96
B35: Ampang | C35: 0 | D35: 7 | E35: 38 | F35: 0 | G35: 840 | H35: 0 | I35: 0 | J35: 0 | K35: 0 | L35: 0 | M35: 0 | N35: 13 | O35: 898 | Q35: 2674 | R35: 2811
B36: Batu | C36: 0 | D36: 510 | E36: 1762 | F36: 1452 | G36: 1736 | H36: 29 | I36: 446 | J36: 0 | K36: 0 | L36: 0 | M36: 0 | N36: 1650 | O36: 7585 | Q36: 1589 | R36: 28967
B37: Cheras | C37: 0 | D37: 25 | E37: 236 | F37: 141 | G37: 8 | H37: 14 | I37: 0 | J37: 0 | K37: 0 | L37: 0 | M37: 0 | N37: 35 | O37: 459 | Q37: 0 | R37: 0
B38: Hulu Kelang | C38: 0 | D38: 0 | E38: 54 | F38: 0 | G38: 0 | H38: 0 | I38: 0 | J38: 0 | K38: 0 | L38: 0 | M38: 0 | N38: 0 | O38: 54 | Q38: 0 | R38: 0
B39: Kuala Lumpur | C39: 0 | D39: 0 | E39: 1096 | F39: 2095 | G39: 728 | H39: 182 | I39: 0 | J39: 0 | K39: 1 | L39: 0 | M39: 0 | N39: 584 | O39: 4686 | Q39: 2533 | R39: 24956
B40: Petaling | C40: 0 | D40: 75 | E40: 1746 | F40: 1710 | G40: 797 | H40: 875 | I40: 195 | J40: 36 | K40: 104 | L40: 26 | M40: 0 | N40: 1461 | O40: 7025 | Q40: 1253 | R40: 26634
B41: Setapak | C41: 0 | D41: 199 | E41: 505 | F41: 1705 | G41: 1020 | H41: 68 | I41: 830 | J41: 0 | K41: 0 | L41: 14 | M41: 0 | N41: 1022 | O41: 5363 | Q41: 424 | R41: 16062
B43: KUALA LUMPUR | C43: 1197 | D43: 989 | E43: 6277 | F43: 8014 | G43: 5919 | H43: 1490 | I43: 1571 | J43: 76 | K43: 106 | L43: 40 | M43: 0 | N43: 5294 | O43: 30973 | Q43: 12266 | R43: 157032
B45: COMPLETION
A47: H1 2025 | B47: Bandar Kuala Lumpur | C47: 0 | D47: 0 | E47: 0 | F47: 0 | G47: 0 | H47: 0 | I47: 0 | J47: 0 | K47: 0 | L47: 0 | M47: 0 | N47: 0 | O47: 0 | Q47: 0 | R47: 140
B48: Petaling Jaya | C48: 0 | D48: 0 | E48: 0 | F48: 0 | G48: 0 | H48: 0 | I48: 0 | J48: 0 | K48: 0 | L48: 0 | M48: 0 | N48: 0 | O48: 0 | Q48: 0 | R48: 0
B49: Ampang | C49: 0 | D49: 0 | E49: 0 | F49: 0 | G49: 0 | H49: 0 | I49: 0 | J49: 0 | K49: 0 | L49: 0 | M49: 0 | N49: 0 | O49: 0 | Q49: 0 | R49: 0
B50: Batu | C50: 0 | D50: 0 | E50: 0 | F50: 0 | G50: 0 | H50: 0 | I50: 0 | J50: 0 | K50: 0 | L50: 0 | M50: 0 | N50: 23 | O50: 23 | Q50: 0 | R50: 1708
B51: Cheras | C51: 0 | D51: 0 | E51: 0 | F51: 0 | G51: 0 | H51: 0 | I51: 0 | J51: 0 | K51: 0 | L51: 0 | M51: 0 | N51: 0 | O51: 0 | Q51: 0 | R51: 0
B52: Hulu Kelang | C52: 0 | D52: 0 | E52: 0 | F52: 0 | G52: 0 | H52: 0 | I52: 0 | J52: 0 | K52: 0 | L52: 0 | M52: 0 | N52: 0 | O52: 0 | Q52: 0 | R52: 0
B53: Kuala Lumpur | C53: 0 | D53: 0 | E53: 0 | F53: 0 | G53: 0 | H53: 0 | I53: 0 | J53: 0 | K53: 0 | L53: 0 | M53: 0 | N53: 0 | O53: 0 | Q53: 0 | R53: 0
B54: Petaling | C54: 0 | D54: 0 | E54: 0 | F54: 0 | G54: 0 | H54: 0 | I54: 0 | J54: 0 | K54: 0 | L54: 0 | M54: 0 | N54: 0 | O54: 0 | Q54: 0 | R54: 332
B55: Setapak | C55: 0 | D55: 0 | E55: 0 | F55: 0 | G55: 0 | H55: 0 | I55: 0 | J55: 0 | K55: 0 | L55: 0 | M55: 0 | N55: 0 | O55: 0 | Q55: 0 | R55: 0
B57: KUALA LUMPUR | C57: 0 | D57: 0 | E57: 0 | F57: 0 | G57: 0 | H57: 0 | I57: 0 | J57: 0 | K57: 0 | L57: 0 | M57: 0 | N57: 23 | O57: 23 | Q57: 0 | R57: 2180
A59: H2 2025 | B59: Bandar Kuala Lumpur | C59: 0 | D59: 0 | E59: 0 | F59: 0 | G59: 0 | H59: 0 | I59: 0 | J59: 0 | K59: 0 | L59: 0 | M59: 0 | N59: 22 | O59: 22 | Q59: 661 | R59: 2174
B60: Petaling Jaya | C60: 0 | D60: 0 | E60: 0 | F60: 0 | G60: 0 | H60: 0 | I60: 0 | J60: 0 | K60: 0 | L60: 0 | M60: 0 | N60: 0 | O60: 0 | Q60: 0 | R60: 0
B61: Ampang | C61: 0 | D61: 0 | E61: 0 | F61: 0 | G61: 0 | H61: 0 | I61: 0 | J61: 0 | K61: 0 | L61: 0 | M61: 0 | N61: 0 | O61: 0 | Q61: 0 | R61: 0
B62: Batu | C62: 0 | D62: 0 | E62: 0 | F62: 0 | G62: 0 | H62: 0 | I62: 0 | J62: 0 | K62: 0 | L62: 0 | M62: 0 | N62: 11 | O62: 11 | Q62: 0 | R62: 870
B63: Cheras | C63: 0 | D63: 0 | E63: 0 | F63: 0 | G63: 0 | H63: 0 | I63: 0 | J63: 0 | K63: 0 | L63: 0 | M63: 0 | N63: 0 | O63: 0 | Q63: 0 | R63: 0
B64: Hulu Kelang | C64: 0 | D64: 0 | E64: 0 | F64: 0 | G64: 0 | H64: 0 | I64: 0 | J64: 0 | K64: 0 | L64: 0 | M64: 0 | N64: 0 | O64: 0 | Q64: 0 | R64: 0
B65: Kuala Lumpur | C65: 0 | D65: 0 | E65: 0 | F65: 0 | G65: 0 | H65: 0 | I65: 0 | J65: 0 | K65: 0 | L65: 0 | M65: 0 | N65: 0 | O65: 0 | Q65: 0 | R65: 0
B66: Petaling | C66: 0 | D66: 0 | E66: 9 | F66: 2 | G66: 10 | H66: 2 | I66: 0 | J66: 0 | K66: 0 | L66: 0 | M66: 0 | N66: 30 | O66: 53 | Q66: 0 | R66: 0
B67: Setapak | C67: 0 | D67: 0 | E67: 0 | F67: 0 | G67: 0 | H67: 0 | I67: 0 | J67: 0 | K67: 0 | L67: 0 | M67: 0 | N67: 46 | O67: 46 | Q67: 0 | R67: 551
B69: KUALA LUMPUR | C69: 0 | D69: 0 | E69: 9 | F69: 2 | G69: 10 | H69: 2 | I69: 0 | J69: 0 | K69: 0 | L69: 0 | M69: 0 | N69: 109 | O69: 132 | Q69: 661 | R69: 3595
A71: H1 2026 | B71: Bandar Kuala Lumpur | C71: 0 | D71: 0 | E71: 0 | F71: 0 | G71: 0 | H71: 0 | I71: 0 | J71: 0 | K71: 0 | L71: 0 | M71: 0 | N71: 0 | O71: 0 | Q71: 0 | R71: 1978
B72: Petaling Jaya | C72: 0 | D72: 0 | E72: 0 | F72: 0 | G72: 0 | H72: 0 | I72: 0 | J72: 0 | K72: 0 | L72: 0 | M72: 0 | N72: 0 | O72: 0 | Q72: 0 | R72: 0
B73: Ampang | C73: 0 | D73: 0 | E73: 0 | F73: 0 | G73: 0 | H73: 0 | I73: 0 | J73: 0 | K73: 0 | L73: 0 | M73: 0 | N73: 0 | O73: 0 | Q73: 0 | R73: 0
B74: Batu | C74: 0 | D74: 0 | E74: 0 | F74: 0 | G74: 0 | H74: 0 | I74: 0 | J74: 0 | K74: 0 | L74: 0 | M74: 0 | N74: 0 | O74: 0 | Q74: 0 | R74: 0
B75: Cheras | C75: 0 | D75: 0 | E75: 0 | F75: 0 | G75: 0 | H75: 0 | I75: 0 | J75: 0 | K75: 0 | L75: 0 | M75: 0 | N75: 0 | O75: 0 | Q75: 0 | R75: 0
B76: Hulu Kelang | C76: 0 | D76: 0 | E76: 0 | F76: 0 | G76: 0 | H76: 0 | I76: 0 | J76: 0 | K76: 0 | L76: 0 | M76: 0 | N76: 0 | O76: 0 | Q76: 0 | R76: 0
B77: Kuala Lumpur | C77: 0 | D77: 0 | E77: 0 | F77: 0 | G77: 0 | H77: 0 | I77: 0 | J77: 0 | K77: 0 | L77: 0 | M77: 0 | N77: 0 | O77: 0 | Q77: 0 | R77: 310
B78: Petaling | C78: 0 | D78: 0 | E78: 0 | F78: 0 | G78: 0 | H78: 0 | I78: 0 | J78: 0 | K78: 0 | L78: 0 | M78: 0 | N78: 0 | O78: 0 | Q78: 0 | R78: 0
B79: Setapak | C79: 0 | D79: 0 | E79: 0 | F79: 0 | G79: 0 | H79: 0 | I79: 0 | J79: 0 | K79: 0 | L79: 0 | M79: 0 | N79: 0 | O79: 0 | Q79: 0 | R79: 0
B81: KUALA LUMPUR | C81: 0 | D81: 0 | E81: 0 | F81: 0 | G81: 0 | H81: 0 | I81: 0 | J81: 0 | K81: 0 | L81: 0 | M81: 0 | N81: 0 | O81: 0 | Q81: 0 | R81: 2288
A83: INCOMING SUPPLY
A85: H1 2025 | B85: Bandar Kuala Lumpur | C85: 0 | D85: 0 | E85: 0 | F85: 0 | G85: 0 | H85: 0 | I85: 0 | J85: 0 | K85: 0 | L85: 0 | M85: 0 | N85: 22 | O85: 22 | Q85: 661 | R85: 17034
B86: Petaling Jaya | C86: 0 | D86: 0 | E86: 0 | F86: 0 | G86: 0 | H86: 0 | I86: 0 | J86: 0 | K86: 0 | L86: 0 | M86: 0 | N86: 0 | O86: 0 | Q86: 0 | R86: 0
B87: Ampang | C87: 0 | D87: 0 | E87: 0 | F87: 0 | G87: 0 | H87: 0 | I87: 0 | J87: 0 | K87: 0 | L87: 0 | M87: 0 | N87: 0 | O87: 0 | Q87: 0 | R87: 0
B88: Batu | C88: 0 | D88: 0 | E88: 0 | F88: 0 | G88: 0 | H88: 0 | I88: 0 | J88: 0 | K88: 0 | L88: 0 | M88: 0 | N88: 11 | O88: 11 | Q88: 506 | R88: 4675
B89: Cheras | C89: 0 | D89: 0 | E89: 0 | F89: 0 | G89: 0 | H89: 0 | I89: 0 | J89: 0 | K89: 0 | L89: 0 | M89: 0 | N89: 35 | O89: 35 | Q89: 0 | R89: 0
B90: Hulu Kelang | C90: 0 | D90: 0 | E90: 0 | F90: 0 | G90: 0 | H90: 0 | I90: 0 | J90: 0 | K90: 0 | L90: 0 | M90: 0 | N90: 0 | O90: 0 | Q90: 0 | R90: 0
B91: Kuala Lumpur | C91: 0 | D91: 0 | E91: 0 | F91: 192 | G91: 0 | H91: 0 | I91: 0 | J91: 0 | K91: 0 | L91: 0 | M91: 0 | N91: 0 | O91: 192 | Q91: 1942 | R91: 4179
B92: Petaling | C92: 0 | D92: 9 | E92: 3 | F92: 21 | G92: 10 | H92: 2 | I92: 0 | J92: 0 | K92: 0 | L92: 0 | M92: 0 | N92: 38 | O92: 83 | Q92: 830 | R92: 6424
B93: Setapak | C93: 0 | D93: 0 | E93: 0 | F93: 0 | G93: 60 | H93: 0 | I93: 0 | J93: 0 | K93: 0 | L93: 0 | M93: 0 | N93: 46 | O93: 106 | Q93: 0 | R93: 2952
B95: KUALA LUMPUR | C95: 0 | D95: 9 | E95: 3 | F95: 213 | G95: 70 | H95: 2 | I95: 0 | J95: 0 | K95: 0 | L95: 0 | M95: 0 | N95: 152 | O95: 449 | Q95: 3939 | R95: 35264
A97: H2 2025 | B97: Bandar Kuala Lumpur | C97: 0 | D97: 0 | E97: 0 | F97: 0 | G97: 0 | H97: 0 | I97: 0 | J97: 0 | K97: 0 | L97: 0 | M97: 0 | N97: 18 | O97: 18 | Q97: 97 | R97: 12444
B98: Petaling Jaya | C98: 0 | D98: 0 | E98: 0 | F98: 0 | G98: 0 | H98: 0 | I98: 0 | J98: 0 | K98: 0 | L98: 0 | M98: 0 | N98: 0 | O98: 0 | Q98: 0 | R98: 0
B99: Ampang | C99: 0 | D99: 0 | E99: 0 | F99: 0 | G99: 0 | H99: 0 | I99: 0 | J99: 0 | K99: 0 | L99: 0 | M99: 0 | N99: 0 | O99: 0 | Q99: 0 | R99: 0
B100: Batu | C100: 0 | D100: 0 | E100: 21 | F100: 73 | G100: 0 | H100: 0 | I100: 0 | J100: 0 | K100: 0 | L100: 0 | M100: 0 | N100: 38 | O100: 132 | Q100: 506 | R100: 6912
B101: Cheras | C101: 0 | D101: 0 | E101: 0 | F101: 0 | G101: 0 | H101: 0 | I101: 0 | J101: 0 | K101: 0 | L101: 0 | M101: 0 | N101: 0 | O101: 0 | Q101: 0 | R101: 0
B102: Hulu Kelang | C102: 0 | D102: 0 | E102: 0 | F102: 0 | G102: 0 | H102: 0 | I102: 0 | J102: 0 | K102: 0 | L102: 0 | M102: 0 | N102: 0 | O102: 0 | Q102: 0 | R102: 0
B103: Kuala Lumpur | C103: 0 | D103: 0 | E103: 0 | F103: 192 | G103: 0 | H103: 0 | I103: 0 | J103: 0 | K103: 0 | L103: 0 | M103: 0 | N103: 10 | O103: 202 | Q103: 622 | R103: 2822
B104: Petaling | C104: 0 | D104: 0 | E104: 0 | F104: 0 | G104: 104 | H104: 0 | I104: 0 | J104: 0 | K104: 0 | L104: 0 | M104: 0 | N104: 27 | O104: 131 | Q104: 1020 | R104: 7358
B105: Setapak | C105: 0 | D105: 0 | E105: 0 | F105: 0 | G105: 60 | H105: 0 | I105: 0 | J105: 0 | K105: 0 | L105: 0 | M105: 0 | N105: 18 | O105: 78 | Q105: 661 | R105: 6095
B107: KUALA LUMPUR | C107: 0 | D107: 0 | E107: 21 | F107: 265 | G107: 164 | H107: 0 | I107: 0 | J107: 0 | K107: 0 | L107: 0 | M107: 0 | N107: 111 | O107: 561 | Q107: 2906 | R107: 35631
A109: H1 2026 | B109: Bandar Kuala Lumpur | C109: 0 | D109: 0 | E109: 0 | F109: 0 | G109: 0 | H109: 0 | I109: 0 | J109: 0 | K109: 0 | L109: 0 | M109: 0 | N109: 18 | O109: 18 | Q109: 97 | R109: 9916
B110: Petaling Jaya | C110: 0 | D110: 0 | E110: 0 | F110: 0 | G110: 0 | H110: 0 | I110: 0 | J110: 0 | K110: 0 | L110: 0 | M110: 0 | N110: 0 | O110: 0 | Q110: 0 | R110: 0
B111: Ampang | C111: 0 | D111: 0 | E111: 0 | F111: 0 | G111: 0 | H111: 0 | I111: 0 | J111: 0 | K111: 0 | L111: 0 | M111: 0 | N111: 0 | O111: 0 | Q111: 0 | R111: 0
B112: Batu | C112: 0 | D112: 0 | E112: 21 | F112: 73 | G112: 0 | H112: 0 | I112: 0 | J112: 0 | K112: 0 | L112: 0 | M112: 0 | N112: 38 | O112: 132 | Q112: 506 | R112: 9602
B113: Cheras | C113: 0 | D113: 0 | E113: 0 | F113: 0 | G113: 0 | H113: 0 | I113: 0 | J113: 0 | K113: 0 | L113: 0 | M113: 0 | N113: 0 | O113: 0 | Q113: 0 | R113: 0
B114: Hulu Kelang | C114: 0 | D114: 0 | E114: 0 | F114: 0 | G114: 0 | H114: 0 | I114: 0 | J114: 0 | K114: 0 | L114: 0 | M114: 0 | N114: 0 | O114: 0 | Q114: 0 | R114: 1001
B115: Kuala Lumpur | C115: 0 | D115: 0 | E115: 0 | F115: 192 | G115: 0 | H115: 0 | I115: 0 | J115: 0 | K115: 0 | L115: 0 | M115: 0 | N115: 10 | O115: 202 | Q115: 622 | R115: 4230
B116: Petaling | C116: 0 | D116: 0 | E116: 0 | F116: 51 | G116: 104 | H116: 0 | I116: 0 | J116: 0 | K116: 0 | L116: 0 | M116: 0 | N116: 20 | O116: 175 | Q116: 1476 | R116: 8080
B117: Setapak | C117: 0 | D117: 0 | E117: 0 | F117: 0 | G117: 60 | H117: 0 | I117: 0 | J117: 0 | K117: 0 | L117: 0 | M117: 0 | N117: 18 | O117: 78 | Q117: 661 | R117: 7969
B119: KUALA LUMPUR | C119: 0 | D119: 0 | E119: 21 | F119: 316 | G119: 164 | H119: 0 | I119: 0 | J119: 0 | K119: 0 | L119: 0 | M119: 0 | N119: 104 | O119: 605 | Q119: 3362 | R119: 40798
B121: STARTS
A123: H1 2025 | B123: Bandar Kuala Lumpur | C123: 0 | D123: 0 | E123: 0 | F123: 0 | G123: 0 | H123: 0 | I123: 0 | J123: 0 | K123: 0 | L123: 0 | M123: 0 | N123: 0 | O123: 0 | Q123: 0 | R123: 918
B124: Petaling Jaya | C124: 0 | D124: 0 | E124: 0 | F124: 0 | G124: 0 | H124: 0 | I124: 0 | J124: 0 | K124: 0 | L124: 0 | M124: 0 | N124: 0 | O124: 0 | Q124: 0 | R124: 0
...

Sheet 2.2
A1: Table 2.2
A2: PENAWARAN UNIT KEDAI MENGIKUT JENIS DI PUTRAJAYA
A3: SUPPLY OF SHOP UNITS BY TYPES IN PUTRAJAYA
A5: Quarter Year | B5: Mukim | C5: Prewar | D5: 1 - 1 1/2 storey Terraced | E5: 2 - 2 1/2 storey Terraced | F5: 3 - 3 1/2 storey Terraced | G5: 4 - 4 1/2 storey Terraced | H5: 5 - 5 1/2 storey Terraced | I5: 6-6 1/2 storey Terraced | J5: > 6 1/2 storey Terraced | K5: Detached | L5: Semi-det. | M5: Cluster | N5: Stratified | O5: Total | Q5: Soho | R5: Serviced Apartment
A7: EXISTING STOCK
A9: H1 2025 | B9: Presint 1 | C9: 0 | D9: 0 | E9: 0 | F9: 0 | G9: 0 | H9: 0 | I9: 0 | J9: 0 | K9: 0 | L9: 0 | M9: 0 | N9: 0 | O9: 0 | Q9: 0 | R9: 746
B10: Presint 5 | C10: 0 | D10: 0 | E10: 0 | F10: 0 | G10: 0 | H10: 0 | I10: 0 | J10: 0 | K10: 0 | L10: 0 | M10: 0 | N10: 0 | O10: 0 | Q10: 0 | R10: 458
B11: Presint 6 | C11: 0 | D11: 0 | E11: 0 | F11: 0 | G11: 0 | H11: 0 | I11: 0 | J11: 0 | K11: 0 | L11: 0 | M11: 0 | N11: 0 | O11: 0 | Q11: 0 | R11: 0
B12: Presint 7 | C12: 0 | D12: 0 | E12: 0 | F12: 0 | G12: 0 | H12: 0 | I12: 0 | J12: 0 | K12: 0 | L12: 0 | M12: 0 | N12: 0 | O12: 0 | Q12: 0 | R12: 0
B13: Presint 8 | C13: 0 | D13: 0 | E13: 53 | F13: 40 | G13: 16 | H13: 0 | I13: 0 | J13: 0 | K13: 0 | L13: 0 | M13: 0 | N13: 106 | O13: 215 | Q13: 0 | R13: 0
B14: Presint 9 | C14: 0 | D14: 0 | E14: 18 | F14: 14 | G14: 6 | H14: 0 | I14: 0 | J14: 0 | K14: 0 | L14: 0 | M14: 0 | N14: 0 | O14: 38 | Q14: 0 | R14: 0
B15: Presint 10 | C15: 0 | D15: 0 | E15: 0 | F15: 0 | G15: 0 | H15: 0 | I15: 0 | J15: 0 | K15: 0 | L15: 0 | M15: 0 | N15: 0 | O15: 0 | Q15: 0 | R15: 0
B16: Presint 11 | C16: 0 | D16: 0 | E16: 8 | F16: 12 | G16: 0 | H16: 0 | I16: 0 | J16: 0 | K16: 0 | L16: 0 | M16: 0 | N16: 0 | O16: 20 | Q16: 0 | R16: 0
B17: Presint 12 | C17: 0 | D17: 0 | E17: 0 | F17: 0 | G17: 0 | H17: 0 | I17: 0 | J17: 0 | K17: 0 | L17: 0 | M17: 0 | N17: 0 | O17: 0 | Q17: 0 | R17: 0
B18: Presint 14 | C18: 0 | D18: 0 | E18: 0 | F18: 0 | G18: 0 | H18: 0 | I18: 0 | J18: 0 | K18: 0 | L18: 0 | M18: 0 | N18: 0 | O18: 0 | Q18: 0 | R18: 0
B19: Presint 15 | C19: 0 | D19: 0 | E19: 42 | F19: 135 | G19: 79 | H19: 0 | I19: 0 | J19: 0 | K19: 0 | L19: 0 | M19: 0 | N19: 0 | O19: 256 | Q19: 0 | R19: 0
B20: Presint 16 | C20: 0 | D20: 0 | E20: 0 | F20: 0 | G20: 5 | H20: 0 | I20: 0 | J20: 0 | K20: 0 | L20: 0 | M20: 0 | N20: 0 | O20: 5 | Q20: 0 | R20: 0
B21: Presint 17 | C21: 0 | D21: 0 | E21: 0 | F21: 0 | G21: 0 | H21: 0 | I21: 0 | J21: 0 | K21: 0 | L21: 0 | M21: 0 | N21: 0 | O21: 0 | Q21: 0 | R21: 0
... B24: W.P. PUTRAJAYA | C24: 0 | D24: 0 | E24: 125 | F24: 201 | G24: 106 | H24: 0 | I24: 0 | J24: 0 | K24: 0 | L24: 0 | M24: 0 | N24: 106 | O24: 538 | Q24: 0 | R24: 1204
A26: H2 2025 | B26: Presint 1 | C26: 0 | D26: 0 | E26: 0 | F26: 0 | G26: 0 | H26: 0 | I26: 0 | J26: 0 | K26: 0 | L26: 0 | M26: 0 | N26: 0 | O26: 0 | Q26: 0 | R26: 746
B27: Presint 5 | C27: 0 | D27: 0 | E27: 0 | F27: 0 | G27: 0 | H27: 0 | I27: 0 | J27: 0 | K27: 0 | L27: 0 | M27: 0 | N27: 0 | O27: 0 | Q27: 0 | R27: 458
B28: Presint 6 | C28: 0 | D28: 0 | E28: 0 | F28: 0 | G28: 0 | H28: 0 | I28: 0 | J28: 0 | K28: 0 | L28: 0 | M28: 0 | N28: 0 | O28: 0 | Q28: 0 | R28: 0
B29: Presint 7 | C29: 0 | D29: 0 | E29: 0 | F29: 0 | G29: 0 | H29: 0 | I29: 0 | J29: 0 | K29: 0 | L29: 0 | M29: 0 | N29: 0 | O29: 0 | Q29: 0 | R29: 0
B30: Presint 8 | C30: 0 | D30: 0 | E30: 53 | F30: 40 | G30: 16 | H30: 0 | I30: 0 | J30: 0 | K30: 0 | L30: 0 | M30: 0 | N30: 106 | O30: 215 | Q30: 0 | R30: 0
B31: Presint 9 | C31: 0 | D31: 0 | E31: 18 | F31: 14 | G31: 6 | H31: 0 | I31: 0 | J31: 0 | K31: 0 | L31: 0 | M31: 0 | N31: 0 | O31: 38 | Q31: 0 | R31: 0
B32: Presint 10 | C32: 0 | D32: 0 | E32: 0 | F32: 0 | G32: 0 | H32: 0 | I32: 0 | J32: 0 | K32: 0 | L32: 0 | M32: 0 | N32: 0 | O32: 0 | Q32: 0 | R32: 0
B33: Presint 11 | C33: 0 | D33: 0 | E33: 8 | F33: 12 | G33: 0 | H33: 0 | I33: 0 | J33: 0 | K33: 0 | L33: 0 | M33: 0 | N33: 0 | O33: 20 | Q33: 0 | R33: 0
B34: Presint 12 | C34: 0 | D34: 0 | E34: 0 | F34: 0 | G34: 0 | H34: 0 | I34: 0 | J34: 0 | K34: 0 | L34: 0 | M34: 0 | N34: 0 | O34: 0 | Q34: 0 | R34: 0
B35: Presint 14 | C35: 0 | D35: 0 | E35: 0 | F35: 0 | G35: 0 | H35: 0 | I35: 0 | J35: 0 | K35: 0 | L35: 0 | M35: 0 | N35: 0 | O35: 0 | Q35: 0 | R35: 0
B36: Presint 15 | C36: 0 | D36: 0 | E36: 42 | F36: 135 | G36: 79 | H36: 0 | I36: 0 | J36: 0 | K36: 0 | L36: 0 | M36: 0 | N36: 0 | O36: 256 | Q36: 0 | R36: 0
B37: Presint 16 | C37: 0 | D37: 0 | E37: 0 | F37: 0 | G37: 5 | H37: 0 | I37: 0 | J37: 0 | K37: 0 | L37: 0 | M37: 0 | N37: 0 | O37: 5 | Q37: 0 | R37: 0
B38: Presint 17 | C38: 0 | D38: 0 | E38: 0 | F38: 0 | G38: 0 | H38: 0 | I38: 0 | J38: 0 | K38: 0 | L38: 0 | M38: 0 | N38: 0 | O38: 0 | Q38: 0 | R38: 0
... B41: W.P. PUTRAJAYA | C41: 0 | D41: 0 | E41: 125 | F41: 201 | G41: 106 | H41: 0 | I41: 0 | J41: 0 | K41: 0 | L41: 0 | M41: 0 | N41: 106 | O41: 538 | Q41: 0 | R41: 1204
A43: H1 2026 | B43: Presint 1 | C43: 0 | D43: 0 | E43: 0 | F43: 0 | G43: 0 | H43: 0 | I43: 0 | J43: 0 | K43: 0 | L43: 0 | M43: 0 | N43: 0 | O43: 0 | Q43: 0 | R43: 746
B44: Presint 5 | C44: 0 | D44: 0 | E44: 0 | F44: 0 | G44: 0 | H44: 0 | I44: 0 | J44: 0 | K44: 0 | L44: 0 | M44: 0 | N44: 0 | O44: 0 | Q44: 0 | R44: 458
B45: Presint 6 | C45: 0 | D45: 0 | E45: 0 | F45: 0 | G45: 0 | H45: 0 | I45: 0 | J45: 0 | K45: 0 | L45: 0 | M45: 0 | N45: 0 | O45: 0 | Q45: 0 | R45: 0
B46: Presint 7 | C46: 0 | D46: 0 | E46: 0 | F46: 0 | G46: 0 | H46: 0 | I46: 0 | J46: 0 | K46: 0 | L46: 0 | M46: 0 | N46: 0 | O46: 0 | Q46: 0 | R46: 0
B47: Presint 8 | C47: 0 | D47: 0 | E47: 53 | F47: 40 | G47: 16 | H47: 0 | I47: 0 | J47: 0 | K47: 0 | L47: 0 | M47: 0 | N47: 106 | O47: 215 | Q47: 0 | R47: 0
B48: Presint 9 | C48: 0 | D48: 0 | E48: 18 | F48: 14 | G48: 6 | H48: 0 | I48: 0 | J48: 0 | K48: 0 | L48: 0 | M48: 0 | N48: 0 | O48: 38 | Q48: 0 | R48: 0
B49: Presint 10 | C49: 0 | D49: 0 | E49: 0 | F49: 0 | G49: 0 | H49: 0 | I49: 0 | J49: 0 | K49: 0 | L49: 0 | M49: 0 | N49: 0 | O49: 0 | Q49: 0 | R49: 0
B50: Presint 11 | C50: 0 | D50: 0 | E50: 8 | F50: 12 | G50: 0 | H50: 0 | I50: 0 | J50: 0 | K50: 0 | L50: 0 | M50: 0 | N50: 0 | O50: 20 | Q50: 0 | R50: 0
B51: Presint 12 | C51: 0 | D51: 0 | E51: 0 | F51: 0 | G51: 0 | H51: 0 | I51: 0 | J51: 0 | K51: 0 | L51: 0 | M51: 0 | N51: 0 | O51: 0 | Q51: 0 | R51: 0
B52: Presint 14 | C52: 0 | D52: 0 | E52: 0 | F52: 0 | G52: 0 | H52: 0 | I52: 0 | J52: 0 | K52: 0 | L52: 0 | M52: 0 | N52: 0 | O52: 0 | Q52: 0 | R52: 0
B53: Presint 15 | C53: 0 | D53: 0 | E53: 42 | F53: 135 | G53: 79 | H53: 0 | I53: 0 | J53: 0 | K53: 0 | L53: 0 | M53: 0 | N53: 0 | O53: 256 | Q53: 0 | R53: 0
B54: Presint 16 | C54: 0 | D54: 0 | E54: 0 | F54: 0 | G54: 5 | H54: 0 | I54: 0 | J54: 0 | K54: 0 | L54: 0 | M54: 0 | N54: 0 | O54: 5 | Q54: 0 | R54: 0
B55: Presint 17 | C55: 0 | D55: 0 | E55: 0 | F55: 0 | G55: 0 | H55: 0 | I55: 0 | J55: 0 | K55: 0 | L55: 0 | M55: 0 | N55: 0 | O55: 0 | Q55: 0 | R55: 0
... B58: W.P. PUTRAJAYA | C58: 0 | D58: 0 | E58: 125 | F58: 201 | G58: 106 | H58: 0 | I58: 0 | J58: 0 | K58: 0 | L58: 0 | M58: 0 | N58: 106 | O58: 538 | Q58: 0 | R58: 1204
B60: COMPLETION
A62: H1 2025 | B62: Presint 1 | C62: 0 | D62: 0 | E62: 0 | F62: 0 | G62: 0 | H62: 0 | I62: 0 | J62: 0 | K62: 0 | L62: 0 | M62: 0 | N62: 0 | O62: 0 | Q62: 0 | R62: 0
B63: Presint 5 | C63: 0 | D63: 0 | E63: 0 | F63: 0 | G63: 0 | H63: 0 | I63: 0 | J63: 0 | K63: 0 | L63: 0 | M63: 0 | N63: 0 | O63: 0 | Q63: 0 | R63: 0
B64: Presint 6 | C64: 0 | D64: 0 | E64: 0 | F64: 0 | G64: 0 | H64: 0 | I64: 0 | J64: 0 | K64: 0 | L64: 0 | M64: 0 | N64: 0 | O64: 0 | Q64: 0 | R64: 0
B65: Presint 7 | C65: 0 | D65: 0 | E65: 0 | F65: 0 | G65: 0 | H65: 0 | I65: 0 | J65: 0 | K65: 0 | L65: 0 | M65: 0 | N65: 0 | O65: 0 | Q65: 0 | R65: 0
B66: Presint 8 | C66: 0 | D66: 0 | E66: 0 | F66: 0 | G66: 0 | H66: 0 | I66: 0 | J66: 0 | K66: 0 | L66: 0 | M66: 0 | N66: 0 | O66: 0 | Q66: 0 | R66: 0
B67: Presint 9 | C67: 0 | D67: 0 | E67: 0 | F67: 0 | G67: 0 | H67: 0 | I67: 0 | J67: 0 | K67: 0 | L67: 0 | M67: 0 | N67: 0 | O67: 0 | Q67: 0 | R67: 0
B68: Presint 10 | C68: 0 | D68: 0 | E68: 0 | F68: 0 | G68: 0 | H68: 0 | I68: 0 | J68: 0 | K68: 0 | L68: 0 | M68: 0 | N68: 0 | O68: 0 | Q68: 0 | R68: 0
B69: Presint 11 | C69: 0 | D69: 0 | E69: 0 | F69: 0 | G69: 0 | H69: 0 | I69: 0 | J69: 0 | K69: 0 | L69: 0 | M69: 0 | N69: 0 | O69: 0 | Q69: 0 | R69: 0
B70: Presint 12 | C70: 0 | D70: 0 | E70: 0 | F70: 0 | G70: 0 | H70: 0 | I70: 0 | J70: 0 | K70: 0 | L70: 0 | M70: 0 | N70: 0 | O70: 0 | Q70: 0 | R70: 0
B71: Presint 14 | C71: 0 | D71: 0 | E71: 0 | F71: 0 | G71: 0 | H71: 0 | I71: 0 | J71: 0 | K71: 0 | L71: 0 | M71: 0 | N71: 0 | O71: 0 | Q71: 0 | R71: 0
B72: Presint 15 | C72: 0 | D72: 0 | E72: 0 | F72: 0 | G72: 0 | H72: 0 | I72: 0 | J72: 0 | K72: 0 | L72: 0 | M72: 0 | N72: 0 | O72: 0 | Q72: 0 | R72: 0
B73: Presint 16 | C73: 0 | D73: 0 | E73: 0 | F73: 0 | G73: 0 | H73: 0 | I73: 0 | J73: 0 | K73: 0 | L73: 0 | M73: 0 | N73: 0 | O73: 0 | Q73: 0 | R73: 0
B74: Presint 17 | C74: 0 | D74: 0 | E74: 0 | F74: 0 | G74: 0 | H74: 0 | I74: 0 | J74: 0 | K74: 0 | L74: 0 | M74: 0 | N74: 0 | O74: 0 | Q74: 0 | R74: 0
... B77: W.P. PUTRAJAYA | C77: 0 | D77: 0 | E77: 0 | F77: 0 | G77: 0 | H77: 0 | I77: 0 | J77: 0 | K77: 0 | L77: 0 | M77: 0 | N77: 0 | O77: 0 | Q77: 0 | R77: 0
A79: H2 2025 | B79: Presint 1 | C79: 0 | D79: 0 | E79: 0 | F79: 0 | G79: 0 | H79: 0 | I79: 0 | J79: 0 | K79: 0 | L79: 0 | M79: 0 | N79: 0 | O79: 0 | Q79: 0 | R79: 0
B80: Presint 5 | C80: 0 | D80: 0 | E80: 0 | F80: 0 | G80: 0 | H80: 0 | I80: 0 | J80: 0 | K80: 0 | L80: 0 | M80: 0 | N80: 0 | O80: 0 | Q80: 0 | R80: 0
B81: Presint 6 | C81: 0 | D81: 0 | E81: 0 | F81: 0 | G81: 0 | H81: 0 | I81: 0 | J81: 0 | K81: 0 | L81: 0 | M81: 0 | N81: 0 | O81: 0 | Q81: 0 | R81: 0
B82: Presint 7 | C82: 0 | D82: 0 | E82: 0 | F82: 0 | G82: 0 | H82: 0 | I82: 0 | J82: 0 | K82: 0 | L82: 0 | M82: 0 | N82: 0 | O82: 0 | Q82: 0 | R82: 0
B83: Presint 8 | C83: 0 | D83: 0 | E83: 0 | F83: 0 | G83: 0 | H83: 0 | I83: 0 | J83: 0 | K83: 0 | L83: 0 | M83: 0 | N83: 0 | O83: 0 | Q83: 0 | R83: 0
B84: Presint 9 | C84: 0 | D84: 0 | E84: 0 | F84: 0 | G84: 0 | H84: 0 | I84: 0 | J84: 0 | K84: 0 | L84: 0 | M84: 0 | N84: 0 | O84: 0 | Q84: 0 | R84: 0
B85: Presint 10 | C85: 0 | D85: 0 | E85: 0 | F85: 0 | G85: 0 | H85: 0 | I85: 0 | J85: 0 | K85: 0 | L85: 0 | M85: 0 | N85: 0 | O85: 0 | Q85: 0 | R85: 0
B86: Presint 11 | C86: 0 | D86: 0 | E86: 0 | F86: 0 | G86: 0 | H86: 0 | I86: 0 | J86: 0 | K86: 0 | L86: 0 | M86: 0 | N86: 0 | O86: 0 | Q86: 0 | R86: 0
B87: Presint 12 | C87: 0 | D87: 0 | E87: 0 | F87: 0 | G87: 0 | H87: 0 | I87: 0 | J87: 0 | K87: 0 | L87: 0 | M87: 0 | N87: 0 | O87: 0 | Q87: 0 | R87: 0
B88: Presint 14 | C88: 0 | D88: 0 | E88: 0 | F88: 0 | G88: 0 | H88: 0 | I88: 0 | J88: 0 | K88: 0 | L88: 0 | M88: 0 | N88: 0 | O88: 0 | Q88: 0 | R88: 0
B89: Presint 15 | C89: 0 | D89: 0 | E89: 0 | F89: 0 | G89: 0 | H89: 0 | I89: 0 | J89: 0 | K89: 0 | L89: 0 | M89: 0 | N89: 0 | O89: 0 | Q89: 0 | R89: 0
B90: Presint 16 | C90: 0 | D90: 0 | E90: 0 | F90: 0 | G90: 0 | H90: 0 | I90: 0 | J90: 0 | K90: 0 | L90: 0 | M90: 0 | N90: 0 | O90: 0 | Q90: 0 | R90: 0
B91: Presint 17 | C91: 0 | D91: 0 | E91: 0 | F91: 0 | G91: 0 | H91: 0 | I91: 0 | J91: 0 | K91: 0 | L91: 0 | M91: 0 | N91: 0 | O91: 0 | Q91: 0 | R91: 0
... B94: W.P. PUTRAJAYA | C94: 0 | D94: 0 | E94: 0 | F94: 0 | G94: 0 | H94: 0 | I94: 0 | J94: 0 | K94: 0 | L94: 0 | M94: 0 | N94: 0 | O94: 0 | Q94: 0 | R94: 0
A96: H1 2026 | B96: Presint 1 | C96: 0 | D96: 0 | E96: 0 | F96: 0 | G96: 0 | H96: 0 | I96: 0 | J96: 0 | K96: 0 | L96: 0 | M96: 0 | N96: 0 | O96: 0 | Q96: 0 | R96: 0
B97: Presint 5 | C97: 0 | D97: 0 | E97: 0 | F97: 0 | G97: 0 | H97: 0 | I97: 0 | J97: 0 | K97: 0 | L97: 0 | M97: 0 | N97: 0 | O97: 0 | Q97: 0 | R97: 0
B98: Presint 6 | C98: 0 | D98: 0 | E98: 0 | F98: 0 | G98: 0 | H98: 0 | I98: 0 | J98: 0 | K98: 0 | L98: 0 | M98: 0 | N98: 0 | O98: 0 | Q98: 0 | R98: 0
B99: Presint 7 | C99: 0 | D99: 0 | E99: 0 | F99: 0 | G99: 0 | H99: 0 | I99: 0 | J99: 0 | K99: 0 | L99: 0 | M99: 0 | N99: 0 | O99: 0 | Q99: 0 | R99: 0
B100: Presint 8 | C100: 0 | D100: 0 | E100: 0 | F100: 0 | G100: 0 | H100: 0 | I100: 0 | J100: 0 | K100: 0 | L100: 0 | M100: 0 | N100: 0 | O100: 0 | Q100: 0 | R100: 0
B101: Presint 9 | C101: 0 | D101: 0 | E101: 0 | F101: 0 | G101: 0 | H101: 0 | I101: 0 | J101: 0 | K101: 0 | L101: 0 | M101: 0 | N101: 0 | O101: 0 | Q101: 0 | R101: 0
B102: Presint 10 | C102: 0 | D102: 0 | E102: 0 | F102: 0 | G102: 0 | H102: 0 | I102: 0 | J102: 0 | K102: 0 | L102: 0 | M102: 0 | N102: 0 | O102: 0 | Q102: 0 | R102: 0
B103: Presint 11 | C103: 0 | D103: 0 | E103: 0 | F103: 0 | G103: 0 | H103: 0 | I103: 0 | J103: 0 | K103: 0 | L103: 0 | M103: 0 | N103: 0 | O103: 0 | Q103: 0 | R103: 0
B104: Presint 12 | C104: 0 | D104: 0 | E104: 0 | F104: 0 | G104: 0 | H104: 0 | I104: 0 | J104: 0 | K104: 0 | L104: 0 | M104: 0 | N104: 0 | O104: 0 | Q104: 0 | R104: 0
B105: Presint 14 | C105: 0 | D105: 0 | E105: 0 | F105: 0 | G105: 0 | H105: 0 | I105: 0 | J105: 0 | K105: 0 | L105: 0 | M105: 0 | N105: 0 | O105: 0 | Q105: 0 | R105: 0
B106: Presint 15 | C106: 0 | D106: 0 | E106: 0 | F106: 0 | G106: 0 | H106: 0 | I106: 0 | J106: 0 | K106: 0 | L106: 0 | M106: 0 | N106: 0 | O106: 0 | Q106: 0 | R106: 0
B107: Presint 16 | C107: 0 | D107: 0 | E107: 0 | F107: 0 | G107: 0 | H107: 0 | I107: 0 | J107: 0 | K107: 0 | L107: 0 | M107: 0 | N107: 0 | O107: 0 | Q107: 0 | R107: 0
B108: Presint 17 | C108: 0 | D108: 0 | E108: 0 | F108: 0 | G108: 0 | H108: 0 | I108: 0 | J108: 0 | K108: 0 | L108: 0 | M108: 0 | N108: 0 | O108: 0 | Q108: 0 | R108: 0
... B111: W.P. PUTRAJAYA | C111: 0 | D111: 0 | E111: 0 | F111: 0 | G111: 0 | H111: 0 | I111: 0 | J111: 0 | K111: 0 | L111: 0 | M111: 0 | N111: 0 | O111: 0 | Q111: 0 | R111: 0
A113: INCOMING SUPPLY
A115: H1 2025 | B115: Presint 1 | C115: 0 | D115: 0 | E115: 0 | F115: 0 | G115: 0 | H115: 0 | I115: 0 | J115: 0 | K115: 0 | L115: 0 | M115: 0 | N115: 0 | O115: 0 | Q115: 0 | R115: 0
B116: Presint 5 | C116: 0 | D116: 0 | E116: 0 | F116: 0 | G116: 0 | H116: 0 | I116: 0 | J116: 0 | K116: 0 | L116: 0 | M116: 0 | N116: 0 | O116: 0 | Q116: 0 | R116: 0
B117: Presint 6 | C117: 0 | D117: 0 | E117: 0 | F117: 0 | G117: 0 | H117: 0 | I117: 0 | J117: 0 | K117: 0 | L117: 0 | M117: 0 | N117: 0 | O117: 0 | Q117: 0 | R117: 0
B118: Presint 7 | C118: 0 | D118: 0 | E118: 0 | F118: 0 | G118: 0 | H118: 0 | I118: 0 | J118: 0 | K118: 0 | L118: 0 | M118: 0 | N118: 0 | O118: 0 | Q118: 0 | R118: 0
B119: Presint 8 | C119: 0 | D119: 0 | E119: 0 | F119: 0 | G119: 0 | H119: 0 | I119: 0 | J119: 0 | K119: 0 | L119: 0 | M119: 0 | N119: 0 | O119: 0 | Q119: 0 | R119: 671
B120: Presint 9 | C120: 0 | D120: 0 | E120: 0 | F120: 0 | G120: 0 | H120: 0 | I120: 0 | J120: 0 | K120: 0 | L120: 0 | M120: 0 | N120: 0 | O120: 0 | Q120: 0 | R120: 0
B121: Presint 10 | C121: 0 | D121: 0 | E121: 0 | F121: 0 | G121: 0 | H121: 0 | I121: 0 | J121: 0 | K121: 0 | L121: 0 | M121: 0 | N121: 0 | O121: 0 | Q121: 0 | R121: 0
B122: Presint 11 | C122: 0 | D122: 0 | E122: 0 | F122: 0 | G122: 0 | H122: 0 | I122: 0 | J122: 0 | K122: 0 | L122: 0 | M122: 0 | N122: 0 | O122: 0 | Q122: 0 | R122: 0
B123: Presint 12 | C123: 0 | D123: 0 | E123: 0 | F123: 0 | G123: 0 | H123: 0 | I123: 0 | J123: 0 | K123: 0 | L123: 0 | M123: 0 | N123: 0 | O123: 0 | Q123: 0 | R123: 0
...

Sheet 2.3
A1: Table 2.3
A2: PENAWARAN UNIT KEDAI MENGIKUT JENIS DI WILAYAH PERSEKUTUAN LABUAN
A3: SUPPLY OF SHOP UNITS BY TYPE IN WILAYAH PERSEKUTUAN LABUAN
A5: Quarter Year | B5: Mukim | C5: Prewar | D5: 1 - 1 1/2 storey Terraced | E5: 2 - 2 1/2 storey Terraced | F5: 3 - 3 1/2 storey Terraced | G5: 4 - 4 1/2 storey Terraced | H5: 5 - 5 1/2 storey Terraced | I5: 6-6 1/2 storey Terraced | J5: > 6 1/2 storey Terraced | K5: Detached | L5: Semi-det. | M5: Cluster | N5: Stratified | O5: Total | Q5: Soho | R5: Serviced Apartment
A7: EXISTING STOCK
A9: H1 2025 | B9: Labuan | C9: 0 | D9: 26 | E9: 264 | F9: 390 | G9: 8 | H9: 32 | I9: 8 | J9: 2 | K9: 156 | L9: 4 | M9: 0 | N9: 183 | O9: 1073 | Q9: 0 | R9: 0
B11: W.P. Labuan | C11: 0 | D11: 26 | E11: 264 | F11: 390 | G11: 8 | H11: 32 | I11: 8 | J11: 2 | K11: 156 | L11: 4 | M11: 0 | N11: 183 | O11: 1073 | Q11: 0 | R11: 0
A13: H2 2025 | B13: Labuan | C13: 0 | D13: 26 | E13: 264 | F13: 390 | G13: 8 | H13: 32 | I13: 8 | J13: 2 | K13: 156 | L13: 4 | M13: 0 | N13: 183 | O13: 1073 | Q13: 0 | R13: 0
B15: W.P. Labuan | C15: 0 | D15: 26 | E15: 264 | F15: 390 | G15: 8 | H15: 32 | I15: 8 | J15: 2 | K15: 156 | L15: 4 | M15: 0 | N15: 183 | O15: 1073 | Q15: 0 | R15: 0
A17: H1 2026 | B17: Labuan | C17: 0 | D17: 26 | E17: 264 | F17: 390 | G17: 8 | H17: 32 | I17: 8 | J17: 2 | K17: 156 | L17: 4 | M17: 0 | N17: 183 | O17: 1073 | Q17: 0 | R17: 0
B19: W.P. Labuan | C19: 0 | D19: 26 | E19: 264 | F19: 390 | G19: 8 | H19: 32 | I19: 8 | J19: 2 | K19: 156 | L19: 4 | M19: 0 | N19: 183 | O19: 1073 | Q19: 0 | R19: 0
B21: COMPLETION
A23: H1 2025 | B23: Labuan | C23: 0 | D23: 0 | E23: 20 | F23: 0 | G23: 0 | H23: 0 | I23: 0 | J23: 0 | K23: 0 | L23: 0 | M23: 0 | N23: 0 | O23: 20 | Q23: 0 | R23: 0
B25: W.P. Labuan | C25: 0 | D25: 0 | E25: 20 | F25: 0 | G25: 0 | H25: 0 | I25: 0 | J25: 0 | K25: 0 | L25: 0 | M25: 0 | N25: 0 | O25: 20 | Q25: 0 | R25: 0
A27: H2 2025 | B27: Labuan | C27: 0 | D27: 0 | E27: 0 | F27: 0 | G27: 0 | H27: 0 | I27: 0 | J27: 0 | K27: 0 | L27: 0 | M27: 0 | N27: 0 | O27: 0 | Q27: 0 | R27: 0
B29: W.P. Labuan | C29: 0 | D29: 0 | E29: 0 | F29: 0 | G29: 0 | H29: 0 | I29: 0 | J29: 0 | K29: 0 | L29: 0 | M29: 0 | N29: 0 | O29: 0 | Q29: 0 | R29: 0
A31: H1 2026 | B31: Labuan | C31: 0 | D31: 0 | E31: 0 | F31: 0 | G31: 0 | H31: 0 | I31: 0 | J31: 0 | K31: 0 | L31: 0 | M31: 0 | N31: 0 | O31: 0 | Q31: 0 | R31: 0
B33: W.P. Labuan | C33: 0 | D33: 0 | E33: 0 | F33: 0 | G33: 0 | H33: 0 | I33: 0 | J33: 0 | K33: 0 | L33: 0 | M33: 0 | N33: 0 | O33: 0 | Q33: 0 | R33: 0
A35: INCOMING SUPPLY
A37: H1 2025 | B37: Labuan | C37: 0 | D37: 0 | E37: 12 | F37: 0 | G37: 0 | H37: 18 | I37: 0 | J37: 0 | K37: 0 | L37: 0 | M37: 0 | N37: 0 | O37: 30 | Q37: 0 | R37: 0
B39: W.P. Labuan | C39: 0 | D39: 0 | E39: 12 | F39: 0 | G39: 0 | H39: 18 | I39: 0 | J39: 0 | K39: 0 | L39: 0 | M39: 0 | N39: 0 | O39: 30 | Q39: 0 | R39: 0
A41: H2 2025 | B41: Labuan | C41: 0 | D41: 0 | E41: 12 | F41: 0 | G41: 0 | H41: 0 | I41: 0 | J41: 0 | K41: 0 | L41: 0 | M41: 0 | N41: 0 | O41: 12 | Q41: 0 | R41: 0
B43: W.P. Labuan | C43: 0 | D43: 0 | E43: 12 | F43: 0 | G43: 0 | H43: 0 | I43: 0 | J43: 0 | K43: 0 | L43: 0 | M43: 0 | N43: 0 | O43: 12 | Q43: 0 | R43: 0
A45: H1 2026 | B45: Labuan | C45: 0 | D45: 0 | E45: 12 | F45: 0 | G45: 0 | H45: 0 | I45: 0 | J45: 0 | K45: 0 | L45: 0 | M45: 0 | N45: 0 | O45: 12 | Q45: 0 | R45: 0
B47: W.P. Labuan | C47: 0 | D47: 0 | E47: 12 | F47: 0 | G47: 0 | H47: 0 | I47: 0 | J47: 0 | K47: 0 | L47: 0 | M47: 0 | N47: 0 | O47: 12 | Q47: 0 | R47: 0
B49: STARTS
A51: H1 2025 | B51: Labuan | C51: 0 | D51: 0 | E51: 0 | F51: 0 | G51: 0 | H51: 0 | I51: 0 | J51: 0 | K51: 0 | L51: 0 | M51: 0 | N51: 0 | O51: 0 | Q51: 0 | R51: 0
B53: W.P. Labuan | C53: 0 | D53: 0 | E53: 0 | F53: 0 | G53: 0 | H53: 0 | I53: 0 | J53: 0 | K53: 0 | L53: 0 | M53: 0 | N53: 0 | O53: 0 | Q53: 0 | R53: 0
A55: H2 2025 | B55: Labuan | C55: 0 | D55: 0 | E55: 0 | F55: 0 | G55: 0 | H55: 0 | I55: 0 | J55: 0 | K55: 0 | L55: 0 | M55: 0 | N55: 0 | O55: 0 | Q55: 0 | R55: 0
B57: W.P. Labuan | C57: 0 | D57: 0 | E57: 0 | F57: 0 | G57: 0 | H57: 0 | I57: 0 | J57: 0 | K57: 0 | L57: 0 | M57: 0 | N57: 0 | O57: 0 | Q57: 0 | R57: 0
A59: H1 2026 | B59: Labuan | C59: 0 | D59: 0 | E59: 0 | F59: 0 | G59: 0 | H59: 0 | I59: 0 | J59: 0 | K59: 0 | L59: 0 | M59: 0 | N59: 0 | O59: 0 | Q59: 0 | R59: 0
B61: W.P. Labuan | C61: 0 | D61: 0 | E61: 0 | F61: 0 | G61: 0 | H61: 0 | I61: 0 | J61: 0 | K61: 0 | L61: 0 | M61: 0 | N61: 0 | O61: 0 | Q61: 0 | R61: 0
A63: PLANNED SUPPLY
A65: H1 2025 | B65: Labuan | C65: 0 | D65: 0 | E65: 0 | F65: 0 | G65: 0 | H65: 0 | I65: 0 | J65: 0 | K65: 0 | L65: 0 | M65: 0 | N65: 0 | O65: 0 | Q65: 0 | R65: 0
B67: W.P. Labuan | C67: 0 | D67: 0 | E67: 0 | F67: 0 | G67: 0 | H67: 0 | I67: 0 | J67: 0 | K67: 0 | L67: 0 | M67: 0 | N67: 0 | O67: 0 | Q67: 0 | R67: 0
A69: H2 2025 | B69: Labuan | C69: 0 | D69: 0 | E69: 0 | F69: 0 | G69: 0 | H69: 0 | I69: 0 | J69: 0 | K69: 0 | L69: 0 | M69: 0 | N69: 0 | O69: 0 | Q69: 0 | R69: 0
B71: W.P. Labuan | C71: 0 | D71: 0 | E71: 0 | F71: 0 | G71: 0 | H71: 0 | I71: 0 | J71: 0 | K71: 0 | L71: 0 | M71: 0 | N71: 0 | O71: 0 | Q71: 0 | R71: 0
A73: H1 2026 | B73: Labuan | C73: 0 | D73: 0 | E73: 0 | F73: 0 | G73: 0 | H73: 0 | I73: 0 | J73: 0 | K73: 0 | L73: 0 | M73: 0 | N73: 0 | O73: 0 | Q73: 0 | R73: 0
B75: W.P. Labuan | C75: 0 | D75: 0 | E75: 0 | F75: 0 | G75: 0 | H75: 0 | I75: 0 | J75: 0 | K75: 0 | L75: 0 | M75: 0 | N75: 0 | O75: 0 | Q75: 0 | R75: 0
B77: NEW PLANNED SUPPLY
A79: H1 2025 | B79: Labuan | C79: 0 | D79: 0 | E79: 0 | F79: 0 | G79: 0 | H79: 0 | I79: 0 | J79: 0 | K79: 0 | L79: 0 | M79: 0 | N79: 0 | O79: 0 | Q79: 0 | R79: 0
B81: W.P. Labuan | C81: 0 | D81: 0 | E81: 0 | F81: 0 | G81: 0 | H81: 0 | I81: 0 | J81: 0 | K81: 0 | L81: 0 | M81: 0 | N81: 0 | O81: 0 | Q81: 0 | R81: 0
A83: H2 2025 | B83: Labuan | C83: 0 | D83: 0 | E83: 0 | F83: 0 | G83: 0 | H83: 0 | I83: 0 | J83: 0 | K83: 0 | L83: 0 | M83: 0 | N83: 0 | O83: 0 | Q83: 0 | R83: 0
B85: W.P. Labuan | C85: 0 | D85: 0 | E85: 0 | F85: 0 | G85: 0 | H85: 0 | I85: 0 | J85: 0 | K85: 0 | L85: 0 | M85: 0 | N85: 0 | O85: 0 | Q85: 0 | R85: 0
A87: H1 2026 | B87: Labuan | C87: 0 | D87: 0 | E87: 0 | F87: 0 | G87: 0 | H87: 0 | I87: 0 | J87: 0 | K87: 0 | L87: 0 | M87: 0 | N87: 0 | O87: 0 | Q87: 0 | R87: 0
B89: W.P. Labuan | C89: 0 | D89: 0 | E89: 0 | F89: 0 | G89: 0 | H89: 0 | I89: 0 | J89: 0 | K89: 0 | L89: 0 | M89: 0 | N89: 0 | O89: 0 | Q89: 0 | R89: 0

Sheet 2.4
A1: Table 2.4
A2: PENAWARAN UNIT KEDAI MENGIKUT JENIS DI SELANGOR
A3: SUPPLY OF SHOP UNITS BY TYPES IN SELANGOR
A5: Quarter Year | B5: Mukim | C5: Prewar | D5: 1 - 1 1/2 storey Terraced | E5: 2 - 2 1/2 storey Terraced | F5: 3 - 3 1/2 storey Terraced | G5: 4 - 4 1/2 storey Terraced | H5: 5 - 5 1/2 storey Terraced | I5: 6-6 1/2 storey Terraced | J5: > 6 1/2 storey Terraced | K5: Detached | L5: Semi-det. | M5: Cluster | N5: Stratified | O5: Total | Q5: Soho | R5: Serviced Apartment
A7: EXISTING STOCK
A9: H1 2025 | B9: Gombak | C9: 153 | D9: 384 | E9: 3341 | F9: 3588 | G9: 1579 | H9: 4 | I9: 0 | J9: 492 | K9: 40 | L9: 4 | M9: 0 | N9: 2941 | O9: 12526 | Q9: 2491 | R9: 10041
B10: Hulu Langat | C10: 0 | D10: 834 | E10: 7020 | F10: 6055 | G10: 3183 | H10: 304 | I10: 308 | J10: 92 | K10: 80 | L10: 16 | M10: 0 | N10: 5095 | O10: 22987 | Q10: 7127 | R10: 26749
B11: Hulu Selangor | C11: 231 | D11: 753 | E11: 2480 | F11: 256 | G11: 633 | H11: 0 | I11: 0 | J11: 158 | K11: 57 | L11: 0 | M11: 0 | N11: 188 | O11: 4756 | Q11: 0 | R11: 0
B12: Klang | C12: 211 | D12: 969 | E12: 4993 | F12: 3687 | G12: 1022 | H12: 2 | I12: 3 | J12: 0 | K12: 15 | L12: 84 | M12: 15 | N12: 1467 | O12: 12468 | Q12: 0 | R12: 6837
B13: Kuala Langat | C13: 0 | D13: 990 | E13: 2793 | F13: 531 | G13: 88 | H13: 0 | I13: 0 | J13: 0 | K13: 0 | L13: 0 | M13: 0 | N13: 80 | O13: 4482 | Q13: 0 | R13: 5819
B14: Kuala Selangor | C14: 28 | D14: 669 | E14: 4365 | F14: 537 | G14: 9 | H14: 1 | I14: 0 | J14: 0 | K14: 25 | L14: 38 | M14: 0 | N14: 217 | O14: 5889 | Q14: 0 | R14: 798
B15: Petaling | C15: 0 | D15: 2218 | E15: 8472 | F15: 11418 | G15: 5502 | H15: 1312 | I15: 951 | J15: 759 | K15: 31 | L15: 266 | M15: 0 | N15: 9590 | O15: 40519 | Q15: 29011 | R15: 66369
B16: Sabak Bernam | C16: 0 | D16: 77 | E16: 954 | F16: 208 | G16: 3 | H16: 0 | I16: 0 | J16: 0 | K16: 1 | L16: 0 | M16: 0 | N16: 8 | O16: 1251 | Q16: 0 | R16: 0
B17: Sepang | C17: 93 | D17: 1075 | E17: 2079 | F17: 1845 | G17: 522 | H17: 289 | I17: 4 | J17: 0 | K17: 63 | L17: 30 | M17: 0 | N17: 385 | O17: 6385 | Q17: 9285 | R17: 21386
B19: SELANGOR | C19: 716 | D19: 7969 | E19: 36497 | F19: 28125 | G19: 12541 | H19: 1912 | I19: 1266 | J19: 1501 | K19: 312 | L19: 438 | M19: 15 | N19: 19971 | O19: 111263 | Q19: 47914 | R19: 137999
A21: H2 2025 | B21: Gombak | C21: 153 | D21: 384 | E21: 3387 | F21: 3606 | G21: 1579 | H21: 10 | I21: 0 | J21: 492 | K21: 40 | L21: 4 | M21: 0 | N21: 2941 | O21: 12596 | Q21: 2491 | R21: 10041
B22: Hulu Langat | C22: 0 | D22: 834 | E22: 7139 | F22: 6057 | G22: 3183 | H22: 304 | I22: 308 | J22: 92 | K22: 80 | L22: 16 | M22: 0 | N22: 5063 | O22: 23076 | Q22: 7899 | R22: 27247
B23: Hulu Selangor | C23: 231 | D23: 753 | E23: 2492 | F23: 256 | G23: 633 | H23: 0 | I23: 0 | J23: 158 | K23: 57 | L23: 0 | M23: 0 | N23: 188 | O23: 4768 | Q23: 0 | R23: 0
B24: Klang | C24: 211 | D24: 969 | E24: 5004 | F24: 3687 | G24: 1022 | H24: 2 | I24: 3 | J24: 0 | K24: 15 | L24: 84 | M24: 15 | N24: 1467 | O24: 12479 | Q24: 0 | R24: 6837
B25: Kuala Langat | C25: 0 | D25: 1005 | E25: 3156 | F25: 613 | G25: 88 | H25: 0 | I25: 0 | J25: 0 | K25: 1 | L25: 156 | M25: 0 | N25: 80 | O25: 5099 | Q25: 0 | R25: 7415
B26: Kuala Selangor | C26: 28 | D26: 658 | E26: 4368 | F26: 577 | G26: 9 | H26: 0 | I26: 0 | J26: 0 | K26: 25 | L26: 38 | M26: 0 | N26: 217 | O26: 5920 | Q26: 0 | R26: 798
B27: Petaling | C27: 0 | D27: 2218 | E27: 8472 | F27: 11434 | G27: 5588 | H27: 1524 | I27: 951 | J27: 759 | K27: 31 | L27: 266 | M27: 0 | N27: 9603 | O27: 40846 | Q27: 31559 | R27: 73625
B28: Sabak Bernam | C28: 0 | D28: 77 | E28: 954 | F28: 230 | G28: 3 | H28: 0 | I28: 0 | J28: 0 | K28: 1 | L28: 0 | M28: 0 | N28: 8 | O28: 1273 | Q28: 0 | R28: 0
B29: Sepang | C29: 93 | D29: 1083 | E29: 2132 | F29: 2103 | G29: 591 | H29: 341 | I29: 4 | J29: 0 | K29: 63 | L29: 132 | M29: 0 | N29: 647 | O29: 7189 | Q29: 9992 | R29: 24422
B31: SELANGOR | C31: 716 | D31: 7981 | E31: 37104 | F31: 28563 | G31: 12696 | H31: 2181 | I31: 1266 | J31: 1501 | K31: 313 | L31: 696 | M31: 15 | N31: 20214 | O31: 113246 | Q31: 51941 | R31: 150385
A33: H1 2026 | B33: Gombak | C33: 153 | D33: 384 | E33: 3357 | F33: 3662 | G33: 1579 | H33: 14 | I33: 0 | J33: 492 | K33: 40 | L33: 4 | M33: 0 | N33: 3011 | O33: 12696 | Q33: 2491 | R33: 11804
B34: Hulu Langat | C34: 0 | D34: 875 | E34: 7539 | F34: 6090 | G34: 3183 | H34: 304 | I34: 308 | J34: 92 | K34: 80 | L34: 22 | M34: 0 | N34: 5124 | O34: 23617 | Q34: 7899 | R34: 31147
B35: Hulu Selangor | C35: 231 | D35: 753 | E35: 2492 | F35: 256 | G35: 633 | H35: 0 | I35: 0 | J35: 158 | K35: 57 | L35: 0 | M35: 0 | N35: 188 | O35: 4768 | Q35: 0 | R35: 0
B36: Klang | C36: 211 | D36: 996 | E36: 5165 | F36: 3700 | G36: 1022 | H36: 2 | I36: 3 | J36: 0 | K36: 16 | L36: 84 | M36: 15 | N36: 1467 | O36: 12681 | Q36: 0 | R36: 6837
B37: Kuala Langat | C37: 0 | D37: 1005 | E37: 3254 | F37: 656 | G37: 88 | H37: 0 | I37: 0 | J37: 0 | K37: 1 | L37: 0 | M37: 0 | N37: 80 | O37: 5084 | Q37: 0 | R37: 7415
B38: Kuala Selangor | C38: 28 | D38: 658 | E38: 4449 | F38: 577 | G38: 9 | H38: 0 | I38: 0 | J38: 0 | K38: 25 | L38: 38 | M38: 0 | N38: 255 | O38: 6039 | Q38: 0 | R38: 798
B39: Petaling | C39: 0 | D39: 2230 | E39: 8517 | F39: 11448 | G39: 5588 | H39: 1524 | I39: 951 | J39: 759 | K39: 31 | L39: 266 | M39: 0 | N39: 9603 | O39: 40917 | Q39: 32081 | R39: 78564
B40: Sabak Bernam | C40: 0 | D40: 77 | E40: 980 | F40: 230 | G40: 3 | H40: 0 | I40: 0 | J40: 0 | K40: 1 | L40: 0 | M40: 0 | N40: 8 | O40: 1299 | Q40: 0 | R40: 0
B41: Sepang | C41: 93 | D41: 1083 | E41: 2157 | F41: 2104 | G41: 710 | H41: 401 | I41: 4 | J41: 0 | K41: 63 | L41: 132 | M41: 0 | N41: 647 | O41: 7394 | Q41: 9992 | R41: 25820
B43: SELANGOR | C43: 716 | D43: 8061 | E43: 37910 | F43: 28723 | G43: 12815 | H43: 2245 | I43: 1266 | J43: 1501 | K43: 314 | L43: 546 | M43: 15 | N43: 20383 | O43: 114495 | Q43: 52463 | R43: 162385
B45: COMPLETION
A47: H1 2025 | B47: Gombak | C47: 0 | D47: 0 | E47: 0 | F47: 0 | G47: 0 | H47: 0 | I47: 0 | J47: 0 | K47: 0 | L47: 0 | M47: 0 | N47: 20 | O47: 20 | Q47: 0 | R47: 1240
B48: Hulu Langat | C48: 0 | D48: 0 | E48: 0 | F48: 0 | G48: 0 | H48: 0 | I48: 0 | J48: 0 | K48: 0 | L48: 0 | M48: 0 | N48: 26 | O48: 26 | Q48: 0 | R48: 1496
B49: Hulu Selangor | C49: 0 | D49: 0 | E49: 0 | F49: 0 | G49: 0 | H49: 0 | I49: 0 | J49: 0 | K49: 0 | L49: 0 | M49: 0 | N49: 0 | O49: 0 | Q49: 0 | R49: 0
B50: Klang | C50: 0 | D50: 0 | E50: 0 | F50: 0 | G50: 0 | H50: 0 | I50: 0 | J50: 0 | K50: 0 | L50: 0 | M50: 0 | N50: 0 | O50: 0 | Q50: 0 | R50: 0
B51: Kuala Langat | C51: 0 | D51: 0 | E51: 11 | F51: 1 | G51: 0 | H51: 0 | I51: 0 | J51: 0 | K51: 0 | L51: 0 | M51: 0 | N51: 0 | O51: 12 | Q51: 0 | R51: 0
B52: Kuala Selangor | C52: 0 | D52: 20 | E52: 88 | F52: 0 | G52: 0 | H52: 0 | I52: 0 | J52: 0 | K52: 0 | L52: 0 | M52: 0 | N52: 0 | O52: 108 | Q52: 0 | R52: 0
B53: Petaling | C53: 0 | D53: 0 | E53: 0 | F53: 0 | G53: 0 | H53: 0 | I53: 0 | J53: 0 | K53: 0 | L53: 0 | M53: 0 | N53: 0 | O53: 0 | Q53: 865 | R53: 408
B54: Sabak Bernam | C54: 0 | D54: 0 | E54: 0 | F54: 0 | G54: 0 | H54: 0 | I54: 0 | J54: 0 | K54: 0 | L54: 0 | M54: 0 | N54: 0 | O54: 0 | Q54: 0 | R54: 0
B55: Sepang | C55: 0 | D55: 0 | E55: 0 | F55: 0 | G55: 0 | H55: 0 | I55: 0 | J55: 0 | K55: 0 | L55: 0 | M55: 0 | N55: 0 | O55: 0 | Q55: 0 | R55: 0
B57: SELANGOR | C57: 0 | D57: 20 | E57: 99 | F57: 1 | G57: 0 | H57: 0 | I57: 0 | J57: 0 | K57: 0 | L57: 0 | M57: 0 | N57: 46 | O57: 166 | Q57: 865 | R57: 3144
A59: H2 2025 | B59: Gombak | C59: 0 | D59: 0 | E59: 46 | F59: 21 | G59: 0 | H59: 3 | I59: 0 | J59: 0 | K59: 0 | L59: 0 | M59: 0 | N59: 0 | O59: 70 | Q59: 0 | R59: 0
B60: Hulu Langat | C60: 0 | D60: 0 | E60: 119 | F60: 2 | G60: 0 | H60: 0 | I60: 0 | J60: 0 | K60: 0 | L60: 0 | M60: 0 | N60: 9 | O60: 130 | Q60: 0 | R60: 1986
B61: Hulu Selangor | C61: 0 | D61: 0 | E61: 0 | F61: 0 | G61: 0 | H61: 0 | I61: 0 | J61: 0 | K61: 0 | L61: 0 | M61: 0 | N61: 0 | O61: 0 | Q61: 0 | R61: 0
B62: Klang | C62: 0 | D62: 0 | E62: 11 | F62: 0 | G62: 0 | H62: 0 | I62: 0 | J62: 0 | K62: 0 | L62: 0 | M62: 0 | N62: 0 | O62: 11 | Q62: 0 | R62: 0
B63: Kuala Langat | C63: 0 | D63: 0 | E63: 72 | F63: 12 | G63: 0 | H63: 0 | I63: 0 | J63: 0 | K63: 0 | L63: 0 | M63: 0 | N63: 0 | O63: 84 | Q63: 0 | R63: 269
B64: Kuala Selangor | C64: 0 | D64: 0 | E64: 0 | F64: 0 | G64: 0 | H64: 0 | I64: 0 | J64: 0 | K64: 0 | L64: 0 | M64: 0 | N64: 0 | O64: 0 | Q64: 0 | R64: 0
B65: Petaling | C65: 0 | D65: 0 | E65: 0 | F65: 0 | G65: 58 | H65: 30 | I65: 0 | J65: 0 | K65: 0 | L65: 0 | M65: 0 | N65: 0 | O65: 88 | Q65: 0 | R65: 4443
B66: Sabak Bernam | C66: 0 | D66: 0 | E66: 0 | F66: 27 | G66: 0 | H66: 0 | I66: 0 | J66: 0 | K66: 0 | L66: 0 | M66: 0 | N66: 0 | O66: 27 | Q66: 0 | R66: 0
B67: Sepang | C67: 0 | D67: 0 | E67: 0 | F67: 0 | G67: 0 | H67: 0 | I67: 0 | J67: 0 | K67: 0 | L67: 0 | M67: 0 | N67: 0 | O67: 0 | Q67: 369 | R67: 2703
B69: SELANGOR | C69: 0 | D69: 0 | E69: 248 | F69: 62 | G69: 58 | H69: 33 | I69: 0 | J69: 0 | K69: 0 | L69: 0 | M69: 0 | N69: 9 | O69: 410 | Q69: 369 | R69: 9401
A71: H1 2026 | B71: Gombak | C71: 0 | D71: 0 | E71: 18 | F71: 56 | G71: 0 | H71: 4 | I71: 0 | J71: 0 | K71: 0 | L71: 0 | M71: 0 | N71: 6 | O71: 84 | Q71: 0 | R71: 506
B72: Hulu Langat | C72: 0 | D72: 0 | E72: 190 | F72: 16 | G72: 0 | H72: 0 | I72: 0 | J72: 0 | K72: 0 | L72: 6 | M72: 0 | N72: 61 | O72: 273 | Q72: 0 | R72: 3676
B73: Hulu Selangor | C73: 0 | D73: 0 | E73: 0 | F73: 0 | G73: 0 | H73: 0 | I73: 0 | J73: 0 | K73: 0 | L73: 0 | M73: 0 | N73: 0 | O73: 0 | Q73: 0 | R73: 0
B74: Klang | C74: 0 | D74: 0 | E74: 40 | F74: 0 | G74: 0 | H74: 0 | I74: 0 | J74: 0 | K74: 0 | L74: 0 | M74: 0 | N74: 0 | O74: 40 | Q74: 0 | R74: 0
B75: Kuala Langat | C75: 0 | D75: 0 | E75: 82 | F75: 18 | G75: 0 | H75: 0 | I75: 0 | J75: 0 | K75: 0 | L75: 0 | M75: 0 | N75: 0 | O75: 100 | Q75: 0 | R75: 0
B76: Kuala Selangor | C76: 0 | D76: 0 | E76: 81 | F76: 0 | G76: 0 | H76: 0 | I76: 0 | J76: 0 | K76: 0 | L76: 0 | M76: 0 | N76: 0 | O76: 81 | Q76: 0 | R76: 0
B77: Petaling | C77: 0 | D77: 12 | E77: 45 | F77: 14 | G77: 0 | H77: 0 | I77: 0 | J77: 0 | K77: 0 | L77: 0 | M77: 0 | N77: 0 | O77: 71 | Q77: 522 | R77: 1523
B78: Sabak Bernam | C78: 0 | D78: 0 | E78: 0 | F78: 0 | G78: 0 | H78: 0 | I78: 0 | J78: 0 | K78: 0 | L78: 0 | M78: 0 | N78: 0 | O78: 0 | Q78: 0 | R78: 0
B79: Sepang | C79: 0 | D79: 0 | E79: 0 | F79: 0 | G79: 0 | H79: 0 | I79: 0 | J79: 0 | K79: 0 | L79: 0 | M79: 0 | N79: 0 | O79: 0 | Q79: 0 | R79: 1054
B81: SELANGOR | C81: 0 | D81: 12 | E81: 456 | F81: 104 | G81: 0 | H81: 4 | I81: 0 | J81: 0 | K81: 0 | L81: 6 | M81: 0 | N81: 67 | O81: 649 | Q81: 522 | R81: 6759
A83: INCOMING SUPPLY
A85: H1 2025 | B85: Gombak | C85: 0 | D85: 0 | E85: 83 | F85: 75 | G85: 0 | H85: 6 | I85: 0 | J85: 0 | K85: 0 | L85: 0 | M85: 0 | N85: 72 | O85: 236 | Q85: 4096 | R85: 1229
B86: Hulu Langat | C86: 0 | D86: 54 | E86: 603 | F86: 28 | G86: 0 | H86: 0 | I86: 0 | J86: 0 | K86: 0 | L86: 12 | M86: 0 | N86: 597 | O86: 1294 | Q86: 4812 | R86: 13772
B87: Hulu Selangor | C87: 0 | D87: 2 | E87: 102 | F87: 0 | G87: 0 | H87: 0 | I87: 0 | J87: 0 | K87: 0 | L87: 0 | M87: 0 | N87: 0 | O87: 104 | Q87: 0 | R87: 0
B88: Klang | C88: 0 | D88: 94 | E88: 387 | F88: 26 | G88: 0 | H88: 0 | I88: 0 | J88: 0 | K88: 2 | L88: 14 | M88: 0 | N88: 105 | O88: 628 | Q88: 0 | R88: 5203
B89: Kuala Langat | C89: 0 | D89: 12 | E89: 480 | F89: 122 | G89: 0 | H89: 0 | I89: 0 | J89: 0 | K89: 0 | L89: 0 | M89: 0 | N89: 0 | O89: 614 | Q89: 0 | R89: 899
B90: Kuala Selangor | C90: 0 | D90: 20 | E90: 755 | F90: 62 | G90: 0 | H90: 0 | I90: 0 | J90: 0 | K90: 0 | L90: 0 | M90: 0 | N90: 4 | O90: 841 | Q90: 0 | R90: 0
B91: Petaling | C91: 0 | D91: 0 | E91: 17 | F91: 16 | G91: 86 | H91: 212 | I91: 0 | J91: 0 | K91: 0 | L91: 0 | M91: 0 | N91: 637 | O91: 968 | Q91: 6256 | R91: 38170
B92: Sabak Bernam | C92: 0 | D92: 4 | E92: 26 | F92: 22 | G92: 0 | H92: 0 | I92: 0 | J92: 0 | K92: 0 | L92: 0 | M92: 0 | N92: 0 | O92: 52 | Q92: 0 | R92: 0
B93: Sepang | C93: 0 | D93: 22 | E93: 166 | F93: 224 | G93: 12 | H93: 57 | I93: 0 | J93: 0 | K93: 0 | L93: 0 | M93: 0 | N93: 239 | O93: 720 | Q93: 1936 | R93: 9378
B95: SELANGOR | C95: 0 | D95: 208 | E95: 2619 | F95: 575 | G95: 98 | H95: 275 | I95: 0 | J95: 0 | K95: 2 | L95: 26 | M95: 0 | N95: 1654 | O95: 5457 | Q95: 17100 | R95: 68651
A97: H2 2025 | B97: Gombak | C97: 0 | D97: 0 | E97: 350 | F97: 73 | G97: 0 | H97: 4 | I97: 0 | J97: 0 | K97: 0 | L97: 0 | M97: 0 | N97: 105 | O97: 532 | Q97: 4096 | R97: 2219
B98: Hulu Langat | C98: 0 | D98: 54 | E98: 517 | F98: 26 | G98: 0 | H98: 0 | I98: 0 | J98: 0 | K98: 0 | L98: 12 | M98: 0 | N98: 560 | O98: 1169 | Q98: 1690 | R98: 13555
B99: Hulu Selangor | C99: 0 | D99: 2 | E99: 208 | F99: 2 | G99: 0 | H99: 0 | I99: 0 | J99: 0 | K99: 0 | L99: 0 | M99: 0 | N99: 0 | O99: 212 | Q99: 0 | R99: 0
B100: Klang | C100: 0 | D100: 94 | E100: 487 | F100: 28 | G100: 0 | H100: 0 | I100: 0 | J100: 0 | K100: 3 | L100: 42 | M100: 0 | N100: 243 | O100: 897 | Q100: 0 | R100: 5056
B101: Kuala Langat | C101: 0 | D101: 66 | E101: 397 | F101: 126 | G101: 16 | H101: 0 | I101: 0 | J101: 0 | K101: 0 | L101: 0 | M101: 0 | N101: 0 | O101: 605 | Q101: 0 | R101: 1095
B102: Kuala Selangor | C102: 0 | D102: 49 | E102: 769 | F102: 18 | G102: 0 | H102: 0 | I102: 0 | J102: 0 | K102: 0 | L102: 0 | M102: 0 | N102: 115 | O102: 951 | Q102: 0 | R102: 0
B103: Petaling | C103: 0 | D103: 49 | E103: 17 | F103: 0 | G103: 0 | H103: 0 | I103: 0 | J103: 0 | K103: 0 | L103: 0 | M103: 0 | N103: 659 | O103: 725 | Q103: 3708 | R103: 38193
B104: Sabak Bernam | C104: 0 | D104: 4 | E104: 26 | F104: 0 | G104: 0 | H104: 0 | I104: 0 | J104: 0 | K104: 0 | L104: 0 | M104: 0 | N104: 0 | O104: 30 | Q104: 0 | R104: 0
B105: Sepang | C105: 0 | D105: 2 | E105: 141 | F105: 7 | G105: 132 | H105: 0 | I105: 0 | J105: 0 | K105: 0 | L105: 0 | M105: 0 | N105: 15 | O105: 297 | Q105: 1184 | R105: 4390
B107: SELANGOR | C107: 0 | D107: 320 | E107: 2912 | F107: 280 | G107: 148 | H107: 4 | I107: 0 | J107: 0 | K107: 3 | L107: 54 | M107: 0 | N107: 1697 | O107: 5418 | Q107: 10678 | R107: 64508
A109: H1 2026 | B109: Gombak | C109: 0 | D109: 0 | E109: 430 | F109: 17 | G109: 0 | H109: 0 | I109: 0 | J109: 0 | K109: 0 | L109: 0 | M109: 0 | N109: 112 | O109: 559 | Q109: 4760 | R109: 4231
B110: Hulu Langat | C110: 0 | D110: 54 | E110: 324 | F110: 28 | G110: 0 | H110: 0 | I110: 0 | J110: 0 | K110: 12 | L110: 24 | M110: 0 | N110: 572 | O110: 1014 | Q110: 1690 | R110: 10123
B111: Hulu Selangor | C111: 0 | D111: 2 | E111: 208 | F111: 2 | G111: 0 | H111: 0 | I111: 0 | J111: 0 | K111: 0 | L111: 0 | M111: 0 | N111: 0 | O111: 212 | Q111: 0 | R111: 0
B112: Klang | C112: 0 | D112: 67 | E112: 690 | F112: 14 | G112: 69 | H112: 0 | I112: 0 | J112: 0 | K112: 2 | L112: 42 | M112: 0 | N112: 243 | O112: 1127 | Q112: 0 | R112: 5710
B113: Kuala Langat | C113: 0 | D113: 94 | E113: 431 | F113: 83 | G113: 16 | H113: 0 | I113: 0 | J113: 0 | K113: 0 | L113: 0 | M113: 0 | N113: 0 | O113: 624 | Q113: 0 | R113: 1578
B114: Kuala Selangor | C114: 0 | D114: 49 | E114: 740 | F114: 18 | G114: 0 | H114: 0 | I114: 0 | J114: 0 | K114: 0 | L114: 0 | M114: 0 | N114: 85 | O114: 892 | Q114: 0 | R114: 0
B115: Petaling | C115: 0 | D115: 49 | E115: 29 | F115: 62 | G115: 0 | H115: 0 | I115: 0 | J115: 0 | K115: 0 | L115: 0 | M115: 0 | N115: 659 | O115: 799 | Q115: 3730 | R115: 37849
B116: Sabak Bernam | C116: 0 | D116: 4 | E116: 0 | F116: 20 | G116: 0 | H116: 0 | I116: 0 | J116: 0 | K116: 0 | L116: 8 | M116: 0 | N116: 0 | O116: 32 | Q116: 0 | R116: 0
B117: Sepang | C117: 0 | D117: 20 | E117: 280 | F117: 48 | G117: 8 | H117: 0 | I117: 0 | J117: 0 | K117: 0 | L117: 0 | M117: 0 | N117: 15 | O117: 371 | Q117: 1184 | R117: 3492
B119: SELANGOR | C119: 0 | D119: 339 | E119: 3132 | F119: 292 | G119: 93 | H119: 0 | I119: 0 | J119: 0 | K119: 14 | L119: 74 | M119: 0 | N119: 1686 | O119: 5630 | Q119: 11364 | R119: 62983
B121: STARTS
A123: H1 2025 | B123: Gombak | C123: 0 | D123: 0 | E123: 0 | F123: 0 | G123: 0 | H123: 0 | I123: 0 | J123: 0 | K123: 0 | L123: 0 | M123: 0 | N123: 24 | O123: 24 | Q123: 0 | R123: 489
B124: Hulu Langat | C124: 0 | D124: 0 | E124: 48 | F124: 0 | G124: 0 | H124: 0 | I124: 0 | J124: 0 | K124: 0 | L124: 0 | M124: 0 | N124: 161 | O124: 209 | Q124: 0 | R124: 4964
...

Sheet 2.5
A1: Table 2.5
A2: PENAWARAN UNIT KEDAI MENGIKUT JENIS DI JOHOR
A3: SUPPLY OF SHOP UNITS BY TYPE IN JOHOR
A5: Quarter Year | B5: Mukim | C5: Prewar | D5: 1 - 1 1/2 storey Terraced | E5: 2 - 2 1/2 storey Terraced | F5: 3 - 3 1/2 storey Terraced | G5: 4 - 4 1/2 storey Terraced | H5: 5 - 5 1/2 storey Terraced | I5: 6-6 1/2 storey Terraced | J5: > 6 1/2 storey Terraced | K5: Detached | L5: Semi-det. | M5: Cluster | N5: Stratified | O5: Total | Q5: Soho | R5: Serviced Apartment
A7: EXISTING STOCK
A9: H1 2025 | B9: Batu Pahat | C9: 617 | D9: 1794 | E9: 6997 | F9: 2055 | G9: 249 | H9: 30 | I9: 2 | J9: 46 | K9: 50 | L9: 22 | M9: 0 | N9: 723 | O9: 12585 | Q9: 0 | R9: 0
B10: Johor Bahru | C10: 268 | D10: 3912 | E10: 21479 | F10: 11901 | G10: 3213 | H10: 126 | I10: 10 | J10: 214 | K10: 391 | L10: 98 | M10: 0 | N10: 4775 | O10: 46387 | Q10: 3567 | R10: 108200
B11: Kluang | C11: 296 | D11: 1407 | E11: 4673 | F11: 1094 | G11: 1081 | H11: 42 | I11: 0 | J11: 2 | K11: 19 | L11: 26 | M11: 0 | N11: 101 | O11: 8741 | Q11: 0 | R11: 0
B12: Kota Tinggi | C12: 53 | D12: 819 | E12: 1585 | F12: 310 | G12: 11 | H12: 0 | I12: 0 | J12: 0 | K12: 0 | L12: 0 | M12: 0 | N12: 32 | O12: 2810 | Q12: 0 | R12: 711
B13: Kulai | C13: 160 | D13: 1110 | E13: 3894 | F13: 1372 | G13: 1051 | H13: 0 | I13: 0 | J13: 56 | K13: 2 | L13: 2 | M13: 0 | N13: 126 | O13: 7773 | Q13: 0 | R13: 514
B14: Mersing | C14: 0 | D14: 219 | E14: 516 | F14: 410 | G14: 84 | H14: 2 | I14: 0 | J14: 0 | K14: 7 | L14: 0 | M14: 0 | N14: 0 | O14: 1238 | Q14: 0 | R14: 0
B15: Muar | C15: 710 | D15: 713 | E15: 2573 | F15: 900 | G15: 150 | H15: 14 | I15: 0 | J15: 0 | K15: 224 | L15: 118 | M15: 0 | N15: 130 | O15: 5532 | Q15: 0 | R15: 0
B16: Pontian | C16: 106 | D16: 797 | E16: 2110 | F16: 783 | G16: 45 | H16: 0 | I16: 0 | J16: 0 | K16: 26 | L16: 2 | M16: 0 | N16: 0 | O16: 3869 | Q16: 0 | R16: 0
B17: Segamat | C17: 482 | D17: 826 | E17: 3457 | F17: 1011 | G17: 218 | H17: 10 | I17: 0 | J17: 2 | K17: 16 | L17: 2 | M17: 0 | N17: 0 | O17: 6024 | Q17: 0 | R17: 0
B18: Tangkak | C18: 129 | D18: 162 | E18: 2230 | F18: 447 | G18: 40 | H18: 0 | I18: 0 | J18: 24 | K18: 27 | L18: 8 | M18: 0 | N18: 5 | O18: 3072 | Q18: 0 | R18: 0
B20: JOHOR | C20: 2821 | D20: 11759 | E20: 49514 | F20: 20283 | G20: 6142 | H20: 224 | I20: 12 | J20: 344 | K20: 762 | L20: 278 | M20: 0 | N20: 5892 | O20: 98031 | Q20: 3567 | R20: 109425
A22: H2 2025 | B22: Batu Pahat | C22: 617 | D22: 1794 | E22: 7043 | F22: 2055 | G22: 249 | H22: 30 | I22: 2 | J22: 46 | K22: 40 | L22: 22 | M22: 0 | N22: 723 | O22: 12621 | Q22: 0 | R22: 0
B23: Johor Bahru | C23: 268 | D23: 3947 | E23: 21933 | F23: 12014 | G23: 3266 | H23: 66 | I23: 10 | J23: 214 | K23: 391 | L23: 96 | M23: 0 | N23: 4412 | O23: 46617 | Q23: 2928 | R23: 108625
B24: Kluang | C24: 296 | D24: 1407 | E24: 4673 | F24: 1094 | G24: 1081 | H24: 42 | I24: 0 | J24: 2 | K24: 19 | L24: 26 | M24: 0 | N24: 101 | O24: 8741 | Q24: 0 | R24: 0
B25: Kota Tinggi | C25: 53 | D25: 819 | E25: 1692 | F25: 350 | G25: 13 | H25: 0 | I25: 0 | J25: 0 | K25: 0 | L25: 0 | M25: 0 | N25: 32 | O25: 2959 | Q25: 0 | R25: 711
B26: Kulai | C26: 160 | D26: 1087 | E26: 3919 | F26: 1379 | G26: 1051 | H26: 0 | I26: 0 | J26: 56 | K26: 2 | L26: 2 | M26: 0 | N26: 126 | O26: 7782 | Q26: 0 | R26: 514
B27: Mersing | C27: 0 | D27: 219 | E27: 516 | F27: 410 | G27: 84 | H27: 2 | I27: 0 | J27: 0 | K27: 7 | L27: 0 | M27: 0 | N27: 0 | O27: 1238 | Q27: 0 | R27: 0
B28: Muar | C28: 710 | D28: 713 | E28: 2588 | F28: 924 | G28: 150 | H28: 14 | I28: 0 | J28: 0 | K28: 224 | L28: 118 | M28: 0 | N28: 130 | O28: 5571 | Q28: 0 | R28: 0
B29: Pontian | C29: 106 | D29: 797 | E29: 2131 | F29: 843 | G29: 49 | H29: 0 | I29: 0 | J29: 0 | K29: 26 | L29: 2 | M29: 0 | N29: 0 | O29: 3954 | Q29: 0 | R29: 0
B30: Segamat | C30: 482 | D30: 826 | E30: 3457 | F30: 1011 | G30: 218 | H30: 10 | I30: 0 | J30: 2 | K30: 16 | L30: 2 | M30: 0 | N30: 0 | O30: 6024 | Q30: 0 | R30: 0
B31: Tangkak | C31: 129 | D31: 186 | E31: 2303 | F31: 525 | G31: 46 | H31: 0 | I31: 0 | J31: 24 | K31: 27 | L31: 8 | M31: 0 | N31: 5 | O31: 3253 | Q31: 0 | R31: 0
B33: JOHOR | C33: 2821 | D33: 11795 | E33: 50255 | F33: 20605 | G33: 6207 | H33: 164 | I33: 12 | J33: 344 | K33: 752 | L33: 276 | M33: 0 | N33: 5529 | O33: 98760 | Q33: 2928 | R33: 109850
A35: H1 2026 | B35: Batu Pahat | C35: 617 | D35: 1808 | E35: 7081 | F35: 2054 | G35: 249 | H35: 30 | I35: 2 | J35: 46 | K35: 40 | L35: 22 | M35: 0 | N35: 723 | O35: 12672 | Q35: 0 | R35: 0
B36: Johor Bahru | C36: 268 | D36: 3962 | E36: 22034 | F36: 12240 | G36: 3314 | H36: 66 | I36: 10 | J36: 214 | K36: 392 | L36: 96 | M36: 0 | N36: 4417 | O36: 47013 | Q36: 2928 | R36: 109247
B37: Kluang | C37: 296 | D37: 1447 | E37: 4691 | F37: 1094 | G37: 1081 | H37: 42 | I37: 0 | J37: 2 | K37: 19 | L37: 78 | M37: 0 | N37: 101 | O37: 8851 | Q37: 0 | R37: 0
B38: Kota Tinggi | C38: 53 | D38: 848 | E38: 1717 | F38: 358 | G38: 13 | H38: 0 | I38: 0 | J38: 0 | K38: 0 | L38: 0 | M38: 0 | N38: 32 | O38: 3021 | Q38: 0 | R38: 711
B39: Kulai | C39: 160 | D39: 1141 | E39: 4010 | F39: 1379 | G39: 1051 | H39: 0 | I39: 0 | J39: 56 | K39: 2 | L39: 2 | M39: 0 | N39: 126 | O39: 7927 | Q39: 0 | R39: 642
B40: Mersing | C40: 0 | D40: 219 | E40: 516 | F40: 421 | G40: 84 | H40: 2 | I40: 0 | J40: 0 | K40: 7 | L40: 0 | M40: 0 | N40: 0 | O40: 1249 | Q40: 0 | R40: 0
B41: Muar | C41: 710 | D41: 768 | E41: 2655 | F41: 1005 | G41: 150 | H41: 14 | I41: 0 | J41: 0 | K41: 225 | L41: 122 | M41: 0 | N41: 130 | O41: 5779 | Q41: 0 | R41: 0
B42: Pontian | C42: 106 | D42: 797 | E42: 2131 | F42: 843 | G42: 49 | H42: 0 | I42: 0 | J42: 0 | K42: 26 | L42: 2 | M42: 0 | N42: 0 | O42: 3954 | Q42: 0 | R42: 0
B43: Segamat | C43: 482 | D43: 826 | E43: 3457 | F43: 1011 | G43: 218 | H43: 10 | I43: 0 | J43: 2 | K43: 16 | L43: 2 | M43: 0 | N43: 0 | O43: 6024 | Q43: 0 | R43: 0
B44: Tangkak | C44: 129 | D44: 186 | E44: 2303 | F44: 525 | G44: 53 | H44: 0 | I44: 0 | J44: 24 | K44: 27 | L44: 8 | M44: 0 | N44: 5 | O44: 3260 | Q44: 0 | R44: 0
B46: JOHOR | C46: 2821 | D46: 12002 | E46: 50595 | F46: 20930 | G46: 6262 | H46: 164 | I46: 12 | J46: 344 | K46: 754 | L46: 332 | M46: 0 | N46: 5534 | O46: 99750 | Q46: 2928 | R46: 110600
B48: COMPLETION
A50: H1 2025 | B50: Batu Pahat | C50: 0 | D50: 0 | E50: 22 | F50: 4 | G50: 0 | H50: 0 | I50: 0 | J50: 0 | K50: 1 | L50: 0 | M50: 0 | N50: 0 | O50: 27 | Q50: 0 | R50: 0
B51: Johor Bahru | C51: 0 | D51: 0 | E51: 30 | F51: 0 | G51: 57 | H51: 0 | I51: 0 | J51: 0 | K51: 0 | L51: 0 | M51: 0 | N51: 0 | O51: 87 | Q51: 0 | R51: 995
B52: Kluang | C52: 0 | D52: 7 | E52: 44 | F52: 0 | G52: 0 | H52: 0 | I52: 0 | J52: 0 | K52: 2 | L52: 0 | M52: 0 | N52: 0 | O52: 53 | Q52: 0 | R52: 0
B53: Kota Tinggi | C53: 0 | D53: 0 | E53: 0 | F53: 0 | G53: 0 | H53: 0 | I53: 0 | J53: 0 | K53: 0 | L53: 0 | M53: 0 | N53: 0 | O53: 0 | Q53: 0 | R53: 0
B54: Kulai | C54: 0 | D54: 0 | E54: 11 | F54: 0 | G54: 0 | H54: 0 | I54: 0 | J54: 0 | K54: 0 | L54: 0 | M54: 0 | N54: 0 | O54: 11 | Q54: 0 | R54: 0
B55: Mersing | C55: 0 | D55: 0 | E55: 7 | F55: 6 | G55: 0 | H55: 0 | I55: 0 | J55: 0 | K55: 0 | L55: 0 | M55: 0 | N55: 0 | O55: 13 | Q55: 0 | R55: 0
B56: Muar | C56: 0 | D56: 0 | E56: 6 | F56: 0 | G56: 0 | H56: 0 | I56: 0 | J56: 0 | K56: 0 | L56: 0 | M56: 0 | N56: 0 | O56: 6 | Q56: 0 | R56: 0
B57: Pontian | C57: 0 | D57: 0 | E57: 0 | F57: 0 | G57: 0 | H57: 0 | I57: 0 | J57: 0 | K57: 0 | L57: 0 | M57: 0 | N57: 0 | O57: 0 | Q57: 0 | R57: 0
B58: Segamat | C58: 0 | D58: 0 | E58: 1 | F58: 0 | G58: 0 | H58: 0 | I58: 0 | J58: 0 | K58: 0 | L58: 0 | M58: 0 | N58: 0 | O58: 1 | Q58: 0 | R58: 0
B59: Tangkak | C59: 0 | D59: 0 | E59: 0 | F59: 0 | G59: 0 | H59: 0 | I59: 0 | J59: 0 | K59: 0 | L59: 0 | M59: 0 | N59: 0 | O59: 0 | Q59: 0 | R59: 0
B61: JOHOR | C61: 0 | D61: 7 | E61: 121 | F61: 10 | G61: 57 | H61: 0 | I61: 0 | J61: 0 | K61: 3 | L61: 0 | M61: 0 | N61: 0 | O61: 198 | Q61: 0 | R61: 995
A63: H2 2025 | B63: Batu Pahat | C63: 0 | D63: 0 | E63: 46 | F63: 0 | G63: 0 | H63: 0 | I63: 0 | J63: 0 | K63: 0 | L63: 0 | M63: 0 | N63: 0 | O63: 46 | Q63: 0 | R63: 0
B64: Johor Bahru | C64: 0 | D64: 0 | E64: 147 | F64: 106 | G64: 0 | H64: 0 | I64: 0 | J64: 0 | K64: 0 | L64: 0 | M64: 0 | N64: 24 | O64: 277 | Q64: 0 | R64: 1639
B65: Kluang | C65: 0 | D65: 0 | E65: 0 | F65: 0 | G65: 0 | H65: 0 | I65: 0 | J65: 0 | K65: 0 | L65: 0 | M65: 0 | N65: 0 | O65: 0 | Q65: 0 | R65: 0
B66: Kota Tinggi | C66: 0 | D66: 0 | E66: 35 | F66: 0 | G66: 0 | H66: 0 | I66: 0 | J66: 0 | K66: 0 | L66: 0 | M66: 0 | N66: 0 | O66: 35 | Q66: 0 | R66: 0
B67: Kulai | C67: 0 | D67: 0 | E67: 32 | F67: 0 | G67: 0 | H67: 0 | I67: 0 | J67: 0 | K67: 0 | L67: 0 | M67: 0 | N67: 0 | O67: 32 | Q67: 0 | R67: 0
B68: Mersing | C68: 0 | D68: 0 | E68: 0 | F68: 0 | G68: 0 | H68: 0 | I68: 0 | J68: 0 | K68: 0 | L68: 0 | M68: 0 | N68: 0 | O68: 0 | Q68: 0 | R68: 0
B69: Muar | C69: 0 | D69: 0 | E69: 15 | F69: 23 | G69: 0 | H69: 0 | I69: 0 | J69: 0 | K69: 0 | L69: 0 | M69: 0 | N69: 0 | O69: 38 | Q69: 0 | R69: 0
B70: Pontian | C70: 0 | D70: 0 | E70: 6 | F70: 60 | G70: 4 | H70: 0 | I70: 0 | J70: 0 | K70: 0 | L70: 0 | M70: 0 | N70: 0 | O70: 70 | Q70: 0 | R70: 0
B71: Segamat | C71: 0 | D71: 0 | E71: 0 | F71: 0 | G71: 0 | H71: 0 | I71: 0 | J71: 0 | K71: 0 | L71: 0 | M71: 0 | N71: 0 | O71: 0 | Q71: 0 | R71: 0
B72: Tangkak | C72: 0 | D72: 24 | E72: 68 | F72: 78 | G72: 6 | H72: 0 | I72: 0 | J72: 0 | K72: 0 | L72: 0 | M72: 0 | N72: 0 | O72: 176 | Q72: 0 | R72: 0
B74: JOHOR | C74: 0 | D74: 24 | E74: 349 | F74: 267 | G74: 10 | H74: 0 | I74: 0 | J74: 0 | K74: 0 | L74: 0 | M74: 0 | N74: 24 | O74: 674 | Q74: 0 | R74: 1639
A76: H1 2026 | B76: Batu Pahat | C76: 0 | D76: 14 | E76: 130 | F76: 0 | G76: 0 | H76: 0 | I76: 0 | J76: 0 | K76: 0 | L76: 0 | M76: 0 | N76: 0 | O76: 144 | Q76: 0 | R76: 0
B77: Johor Bahru | C77: 0 | D77: 0 | E77: 87 | F77: 6 | G77: 48 | H77: 0 | I77: 0 | J77: 0 | K77: 0 | L77: 0 | M77: 0 | N77: 0 | O77: 141 | Q77: 0 | R77: 0
B78: Kluang | C78: 0 | D78: 40 | E78: 70 | F78: 0 | G78: 0 | H78: 0 | I78: 0 | J78: 0 | K78: 0 | L78: 0 | M78: 0 | N78: 0 | O78: 110 | Q78: 0 | R78: 0
B79: Kota Tinggi | C79: 0 | D79: 13 | E79: 0 | F79: 0 | G79: 0 | H79: 0 | I79: 0 | J79: 0 | K79: 0 | L79: 0 | M79: 0 | N79: 0 | O79: 13 | Q79: 0 | R79: 0
B80: Kulai | C80: 0 | D80: 0 | E80: 0 | F80: 0 | G80: 0 | H80: 0 | I80: 0 | J80: 0 | K80: 0 | L80: 0 | M80: 0 | N80: 0 | O80: 0 | Q80: 0 | R80: 0
B81: Mersing | C81: 0 | D81: 0 | E81: 0 | F81: 11 | G81: 0 | H81: 0 | I81: 0 | J81: 0 | K81: 0 | L81: 0 | M81: 0 | N81: 0 | O81: 11 | Q81: 0 | R81: 0
B82: Muar | C82: 0 | D82: 49 | E82: 19 | F82: 68 | G82: 0 | H82: 0 | I82: 0 | J82: 0 | K82: 0 | L82: 0 | M82: 0 | N82: 0 | O82: 136 | Q82: 0 | R82: 0
B83: Pontian | C83: 0 | D83: 0 | E83: 0 | F83: 0 | G83: 0 | H83: 0 | I83: 0 | J83: 0 | K83: 0 | L83: 0 | M83: 0 | N83: 0 | O83: 0 | Q83: 0 | R83: 0
B84: Segamat | C84: 0 | D84: 0 | E84: 0 | F84: 0 | G84: 0 | H84: 0 | I84: 0 | J84: 0 | K84: 0 | L84: 0 | M84: 0 | N84: 0 | O84: 0 | Q84: 0 | R84: 0
B85: Tangkak | C85: 0 | D85: 0 | E85: 0 | F85: 0 | G85: 7 | H85: 0 | I85: 0 | J85: 0 | K85: 0 | L85: 0 | M85: 0 | N85: 0 | O85: 7 | Q85: 0 | R85: 0
B87: JOHOR | C87: 0 | D87: 116 | E87: 306 | F87: 85 | G87: 55 | H87: 0 | I87: 0 | J87: 0 | K87: 0 | L87: 0 | M87: 0 | N87: 0 | O87: 562 | Q87: 0 | R87: 0
A89: INCOMING SUPPLY
A91: H1 2025 | B91: Batu Pahat | C91: 0 | D91: 27 | E91: 338 | F91: 22 | G91: 0 | H91: 0 | I91: 0 | J91: 0 | K91: 0 | L91: 0 | M91: 0 | N91: 0 | O91: 387 | Q91: 0 | R91: 0
B92: Johor Bahru | C92: 0 | D92: 88 | E92: 1051 | F92: 671 | G92: 267 | H92: 0 | I92: 0 | J92: 0 | K92: 4 | L92: 112 | M92: 0 | N92: 69 | O92: 2262 | Q92: 1824 | R92: 26972
B93: Kluang | C93: 0 | D93: 77 | E93: 114 | F93: 0 | G93: 0 | H93: 0 | I93: 0 | J93: 0 | K93: 0 | L93: 54 | M93: 0 | N93: 0 | O93: 245 | Q93: 0 | R93: 0
B94: Kota Tinggi | C94: 0 | D94: 96 | E94: 422 | F94: 70 | G94: 2 | H94: 2 | I94: 0 | J94: 0 | K94: 0 | L94: 0 | M94: 0 | N94: 0 | O94: 592 | Q94: 0 | R94: 0
B95: Kulai | C95: 0 | D95: 108 | E95: 123 | F95: 0 | G95: 0 | H95: 0 | I95: 0 | J95: 0 | K95: 0 | L95: 0 | M95: 0 | N95: 0 | O95: 231 | Q95: 0 | R95: 644
B96: Mersing | C96: 0 | D96: 0 | E96: 0 | F96: 19 | G96: 0 | H96: 0 | I96: 0 | J96: 0 | K96: 0 | L96: 0 | M96: 0 | N96: 0 | O96: 19 | Q96: 0 | R96: 0
B97: Muar | C97: 0 | D97: 28 | E97: 258 | F97: 188 | G97: 0 | H97: 0 | I97: 0 | J97: 0 | K97: 0 | L97: 4 | M97: 0 | N97: 0 | O97: 478 | Q97: 0 | R97: 0
B98: Pontian | C98: 0 | D98: 0 | E98: 21 | F98: 60 | G98: 4 | H98: 0 | I98: 0 | J98: 0 | K98: 0 | L98: 0 | M98: 0 | N98: 0 | O98: 85 | Q98: 0 | R98: 0
B99: Segamat | C99: 0 | D99: 0 | E99: 125 | F99: 0 | G99: 0 | H99: 0 | I99: 0 | J99: 0 | K99: 0 | L99: 0 | M99: 0 | N99: 0 | O99: 125 | Q99: 0 | R99: 0
B100: Tangkak | C100: 0 | D100: 38 | E100: 210 | F100: 160 | G100: 24 | H100: 1 | I100: 0 | J100: 0 | K100: 0 | L100: 0 | M100: 0 | N100: 0 | O100: 433 | Q100: 0 | R100: 0
B102: JOHOR | C102: 0 | D102: 462 | E102: 2662 | F102: 1190 | G102: 297 | H102: 3 | I102: 0 | J102: 0 | K102: 4 | L102: 170 | M102: 0 | N102: 69 | O102: 4857 | Q102: 1824 | R102: 27616
A104: H2 2025 | B104: Batu Pahat | C104: 0 | D104: 114 | E104: 339 | F104: 9 | G104: 0 | H104: 0 | I104: 0 | J104: 0 | K104: 0 | L104: 8 | M104: 16 | N104: 0 | O104: 486 | Q104: 0 | R104: 0
B105: Johor Bahru | C105: 0 | D105: 139 | E105: 1264 | F105: 951 | G105: 59 | H105: 0 | I105: 0 | J105: 0 | K105: 4 | L105: 182 | M105: 0 | N105: 534 | O105: 3133 | Q105: 1114 | R105: 34667
B106: Kluang | C106: 0 | D106: 77 | E106: 114 | F106: 0 | G106: 0 | H106: 0 | I106: 0 | J106: 0 | K106: 0 | L106: 54 | M106: 0 | N106: 0 | O106: 245 | Q106: 0 | R106: 0
B107: Kota Tinggi | C107: 0 | D107: 88 | E107: 417 | F107: 53 | G107: 0 | H107: 2 | I107: 0 | J107: 0 | K107: 0 | L107: 0 | M107: 0 | N107: 0 | O107: 560 | Q107: 0 | R107: 0
B108: Kulai | C108: 0 | D108: 108 | E108: 215 | F108: 0 | G108: 0 | H108: 0 | I108: 0 | J108: 0 | K108: 0 | L108: 0 | M108: 0 | N108: 0 | O108: 323 | Q108: 0 | R108: 1166
B109: Mersing | C109: 0 | D109: 52 | E109: 0 | F109: 19 | G109: 0 | H109: 0 | I109: 0 | J109: 0 | K109: 0 | L109: 0 | M109: 0 | N109: 0 | O109: 71 | Q109: 0 | R109: 0
B110: Muar | C110: 0 | D110: 21 | E110: 220 | F110: 166 | G110: 0 | H110: 0 | I110: 0 | J110: 0 | K110: 0 | L110: 4 | M110: 0 | N110: 0 | O110: 411 | Q110: 0 | R110: 0
B111: Pontian | C111: 0 | D111: 0 | E111: 0 | F111: 0 | G111: 0 | H111: 0 | I111: 0 | J111: 0 | K111: 0 | L111: 0 | M111: 0 | N111: 0 | O111: 0 | Q111: 0 | R111: 0
B112: Segamat | C112: 0 | D112: 73 | E112: 123 | F112: 0 | G112: 0 | H112: 0 | I112: 0 | J112: 0 | K112: 0 | L112: 4 | M112: 0 | N112: 0 | O112: 200 | Q112: 0 | R112: 0
B113: Tangkak | C113: 0 | D113: 14 | E113: 67 | F113: 66 | G113: 18 | H113: 1 | I113: 0 | J113: 0 | K113: 0 | L113: 0 | M113: 0 | N113: 0 | O113: 166 | Q113: 0 | R113: 0
B115: JOHOR | C115: 0 | D115: 686 | E115: 2759 | F115: 1264 | G115: 77 | H115: 3 | I115: 0 | J115: 0 | K115: 4 | L115: 252 | M115: 16 | N115: 534 | O115: 5595 | Q115: 1114 | R115: 35833
A117: H1 2026 | B117: Batu Pahat | C117: 0 | D117: 169 | E117: 267 | F117: 18 | G117: 0 | H117: 0 | I117: 0 | J117: 0 | K117: 0 | L117: 8 | M117: 16 | N117: 0 | O117: 478 | Q117: 0 | R117: 0
B118: Johor Bahru | C118: 0 | D118: 124 | E118: 1744 | F118: 851 | G118: 23 | H118: 0 | I118: 0 | J118: 0 | K118: 3 | L118: 182 | M118: 0 | N118: 502 | O118: 3429 | Q118: 1114 | R118: 48046
B119: Kluang | C119: 0 | D119: 37 | E119: 44 | F119: 0 | G119: 0 | H119: 0 | I119: 0 | J119: 0 | K119: 0 | L119: 54 | M119: 0 | N119: 0 | O119: 135 | Q119: 0 | R119: 0
B120: Kota Tinggi | C120: 0 | D120: 0 | E120: 222 | F120: 45 | G120: 0 | H120: 2 | I120: 0 | J120: 0 | K120: 0 | L120: 0 | M120: 0 | N120: 0 | O120: 269 | Q120: 0 | R120: 0
B121: Kulai | C121: 0 | D121: 366 | E121: 170 | F121: 36 | G121: 0 | H121: 0 | I121: 0 | J121: 0 | K121: 0 | L121: 0 | M121: 0 | N121: 0 | O121: 572 | Q121: 0 | R121: 1038
...

Sheet 2.6
A1: Table 2.6
A2: PENAWARAN UNIT KEDAI MENGIKUT JENIS DI PULAU PINANG
A3: SUPPLY OF SHOP UNITS BY TYPE IN PULAU PINANG
A5: Quarter Year | B5: Mukim | C5: Prewar | D5: 1 - 1 1/2 storey Terraced | E5: 2 - 2 1/2 storey Terraced | F5: 3 - 3 1/2 storey Terraced | G5: 4 - 4 1/2 storey Terraced | H5: 5 - 5 1/2 storey Terraced | I5: 6-6 1/2 storey Terraced | J5: > 6 1/2 storey Terraced | K5: Detached | L5: Semi-det. | M5: Cluster | N5: Stratified | O5: Total | Q5: Soho | R5: Serviced Apartment
A7: EXISTING STOCK
A9: H1 2025 | B9: Barat Daya | C9: 330 | D9: 94 | E9: 922 | F9: 1065 | G9: 18 | H9: 11 | I9: 0 | J9: 0 | K9: 10 | L9: 16 | M9: 0 | N9: 1798 | O9: 4264 | Q9: 590 | R9: 1010
B10: Seberang Perai Selatan | C10: 341 | D10: 199 | E10: 4293 | F10: 792 | G10: 102 | H10: 1 | I10: 0 | J10: 0 | K10: 7 | L10: 174 | M10: 0 | N10: 308 | O10: 6217 | Q10: 0 | R10: 2714
B11: Seberang Perai Tengah | C11: 247 | D11: 507 | E11: 4696 | F11: 2683 | G11: 776 | H11: 0 | I11: 1 | J11: 3 | K11: 57 | L11: 188 | M11: 0 | N11: 945 | O11: 10103 | Q11: 721 | R11: 2026
B12: Seberang Perai Utara | C12: 117 | D12: 159 | E12: 4618 | F12: 1453 | G12: 343 | H12: 0 | I12: 0 | J12: 0 | K12: 43 | L12: 86 | M12: 0 | N12: 633 | O12: 7452 | Q12: 0 | R12: 1023
B13: Timur Laut | C13: 3518 | D13: 123 | E13: 1523 | F13: 1317 | G13: 718 | H13: 154 | I13: 6 | J13: 0 | K13: 39 | L13: 10 | M13: 0 | N13: 4049 | O13: 11457 | Q13: 3403 | R13: 3978
B15: PULAU PINANG | C15: 4553 | D15: 1082 | E15: 16052 | F15: 7310 | G15: 1957 | H15: 166 | I15: 7 | J15: 3 | K15: 156 | L15: 474 | M15: 0 | N15: 7733 | O15: 39493 | Q15: 4714 | R15: 10751
A17: H2 2025 | B17: Barat Daya | C17: 330 | D17: 94 | E17: 922 | F17: 1032 | G17: 16 | H17: 11 | I17: 0 | J17: 0 | K17: 10 | L17: 16 | M17: 0 | N17: 1944 | O17: 4375 | Q17: 590 | R17: 1010
B18: Seberang Perai Selatan | C18: 341 | D18: 199 | E18: 4293 | F18: 792 | G18: 102 | H18: 1 | I18: 0 | J18: 0 | K18: 7 | L18: 174 | M18: 0 | N18: 308 | O18: 6217 | Q18: 0 | R18: 2714
B19: Seberang Perai Tengah | C19: 247 | D19: 507 | E19: 4696 | F19: 2696 | G19: 776 | H19: 0 | I19: 1 | J19: 3 | K19: 56 | L19: 188 | M19: 0 | N19: 996 | O19: 10166 | Q19: 1681 | R19: 2026
B20: Seberang Perai Utara | C20: 117 | D20: 159 | E20: 4818 | F20: 1476 | G20: 343 | H20: 0 | I20: 0 | J20: 0 | K20: 43 | L20: 86 | M20: 0 | N20: 636 | O20: 7678 | Q20: 0 | R20: 1023
B21: Timur Laut | C21: 3518 | D21: 123 | E21: 1523 | F21: 1317 | G21: 718 | H21: 154 | I21: 6 | J21: 0 | K21: 39 | L21: 10 | M21: 0 | N21: 4071 | O21: 11479 | Q21: 3403 | R21: 3978
B23: PULAU PINANG | C23: 4553 | D23: 1082 | E23: 16252 | F23: 7313 | G23: 1955 | H23: 166 | I23: 7 | J23: 3 | K23: 155 | L23: 474 | M23: 0 | N23: 7955 | O23: 39915 | Q23: 5674 | R23: 10751
A25: H1 2026 | B25: Barat Daya | C25: 330 | D25: 94 | E25: 844 | F25: 1038 | G25: 16 | H25: 11 | I25: 0 | J25: 0 | K25: 10 | L25: 16 | M25: 0 | N25: 2107 | O25: 4466 | Q25: 590 | R25: 1010
B26: Seberang Perai Selatan | C26: 341 | D26: 199 | E26: 4294 | F26: 792 | G26: 102 | H26: 1 | I26: 0 | J26: 0 | K26: 10 | L26: 196 | M26: 0 | N26: 327 | O26: 6262 | Q26: 0 | R26: 3236
B27: Seberang Perai Tengah | C27: 247 | D27: 507 | E27: 4703 | F27: 2696 | G27: 782 | H27: 0 | I27: 1 | J27: 3 | K27: 56 | L27: 188 | M27: 0 | N27: 996 | O27: 10179 | Q27: 1681 | R27: 2026
B28: Seberang Perai Utara | C28: 117 | D28: 159 | E28: 4867 | F28: 1476 | G28: 343 | H28: 0 | I28: 0 | J28: 0 | K28: 43 | L28: 88 | M28: 0 | N28: 636 | O28: 7729 | Q28: 0 | R28: 1253
B29: Timur Laut | C29: 3518 | D29: 123 | E29: 1537 | F29: 1325 | G29: 718 | H29: 154 | I29: 6 | J29: 0 | K29: 40 | L29: 10 | M29: 0 | N29: 4078 | O29: 11509 | Q29: 3403 | R29: 3978
B31: PULAU PINANG | C31: 4553 | D31: 1082 | E31: 16245 | F31: 7327 | G31: 1961 | H31: 166 | I31: 7 | J31: 3 | K31: 159 | L31: 498 | M31: 0 | N31: 8144 | O31: 40145 | Q31: 5674 | R31: 11503
B33: COMPLETION
A35: H1 2025 | B35: Barat Daya | C35: 0 | D35: 0 | E35: 0 | F35: 0 | G35: 0 | H35: 0 | I35: 0 | J35: 0 | K35: 0 | L35: 0 | M35: 0 | N35: 0 | O35: 0 | Q35: 0 | R35: 0
B36: Seberang Perai Selatan | C36: 0 | D36: 0 | E36: 0 | F36: 0 | G36: 0 | H36: 0 | I36: 0 | J36: 0 | K36: 0 | L36: 0 | M36: 0 | N36: 23 | O36: 23 | Q36: 0 | R36: 0
B37: Seberang Perai Tengah | C37: 0 | D37: 0 | E37: 13 | F37: 0 | G37: 0 | H37: 0 | I37: 0 | J37: 0 | K37: 0 | L37: 0 | M37: 0 | N37: 4 | O37: 17 | Q37: 18 | R37: 0
B38: Seberang Perai Utara | C38: 0 | D38: 0 | E38: 0 | F38: 0 | G38: 0 | H38: 0 | I38: 0 | J38: 0 | K38: 0 | L38: 0 | M38: 0 | N38: 4 | O38: 4 | Q38: 0 | R38: 0
B39: Timur Laut | C39: 0 | D39: 0 | E39: 0 | F39: 0 | G39: 0 | H39: 0 | I39: 0 | J39: 0 | K39: 0 | L39: 0 | M39: 0 | N39: 14 | O39: 14 | Q39: 0 | R39: 418
B41: PULAU PINANG | C41: 0 | D41: 0 | E41: 13 | F41: 0 | G41: 0 | H41: 0 | I41: 0 | J41: 0 | K41: 0 | L41: 0 | M41: 0 | N41: 45 | O41: 58 | Q41: 18 | R41: 418
A43: H2 2025 | B43: Barat Daya | C43: 0 | D43: 0 | E43: 0 | F43: 0 | G43: 0 | H43: 0 | I43: 0 | J43: 0 | K43: 0 | L43: 0 | M43: 0 | N43: 134 | O43: 134 | Q43: 0 | R43: 0
B44: Seberang Perai Selatan | C44: 0 | D44: 0 | E44: 0 | F44: 0 | G44: 0 | H44: 0 | I44: 0 | J44: 0 | K44: 0 | L44: 0 | M44: 0 | N44: 0 | O44: 0 | Q44: 0 | R44: 0
B45: Seberang Perai Tengah | C45: 0 | D45: 0 | E45: 0 | F45: 0 | G45: 0 | H45: 0 | I45: 0 | J45: 0 | K45: 0 | L45: 0 | M45: 0 | N45: 51 | O45: 51 | Q45: 960 | R45: 0
B46: Seberang Perai Utara | C46: 0 | D46: 0 | E46: 242 | F46: 25 | G46: 0 | H46: 0 | I46: 0 | J46: 0 | K46: 0 | L46: 0 | M46: 0 | N46: 0 | O46: 267 | Q46: 0 | R46: 0
B47: Timur Laut | C47: 0 | D47: 0 | E47: 0 | F47: 0 | G47: 0 | H47: 0 | I47: 0 | J47: 0 | K47: 0 | L47: 0 | M47: 0 | N47: 0 | O47: 0 | Q47: 0 | R47: 0
B49: PULAU PINANG | C49: 0 | D49: 0 | E49: 242 | F49: 25 | G49: 0 | H49: 0 | I49: 0 | J49: 0 | K49: 0 | L49: 0 | M49: 0 | N49: 185 | O49: 452 | Q49: 960 | R49: 0
A51: H1 2026 | B51: Barat Daya | C51: 0 | D51: 0 | E51: 0 | F51: 6 | G51: 0 | H51: 0 | I51: 0 | J51: 0 | K51: 0 | L51: 0 | M51: 0 | N51: 0 | O51: 6 | Q51: 0 | R51: 0
B52: Seberang Perai Selatan | C52: 0 | D52: 0 | E52: 0 | F52: 0 | G52: 0 | H52: 0 | I52: 0 | J52: 0 | K52: 3 | L52: 22 | M52: 0 | N52: 0 | O52: 25 | Q52: 0 | R52: 0
B53: Seberang Perai Tengah | C53: 0 | D53: 0 | E53: 7 | F53: 0 | G53: 6 | H53: 0 | I53: 0 | J53: 0 | K53: 0 | L53: 0 | M53: 0 | N53: 0 | O53: 13 | Q53: 0 | R53: 0
B54: Seberang Perai Utara | C54: 0 | D54: 0 | E54: 0 | F54: 0 | G54: 0 | H54: 0 | I54: 0 | J54: 0 | K54: 0 | L54: 0 | M54: 0 | N54: 0 | O54: 0 | Q54: 0 | R54: 0
B55: Timur Laut | C55: 0 | D55: 0 | E55: 0 | F55: 8 | G55: 0 | H55: 0 | I55: 0 | J55: 0 | K55: 1 | L55: 0 | M55: 0 | N55: 0 | O55: 9 | Q55: 0 | R55: 0
B57: PULAU PINANG | C57: 0 | D57: 0 | E57: 7 | F57: 14 | G57: 6 | H57: 0 | I57: 0 | J57: 0 | K57: 4 | L57: 22 | M57: 0 | N57: 0 | O57: 53 | Q57: 0 | R57: 0
A59: INCOMING SUPPLY
A61: H1 2025 | B61: Barat Daya | C61: 0 | D61: 0 | E61: 0 | F61: 6 | G61: 0 | H61: 0 | I61: 0 | J61: 0 | K61: 0 | L61: 0 | M61: 0 | N61: 210 | O61: 216 | Q61: 0 | R61: 2289
B62: Seberang Perai Selatan | C62: 0 | D62: 11 | E62: 28 | F62: 4 | G62: 0 | H62: 0 | I62: 0 | J62: 0 | K62: 3 | L62: 42 | M62: 0 | N62: 99 | O62: 187 | Q62: 0 | R62: 2235
B63: Seberang Perai Tengah | C63: 0 | D63: 0 | E63: 11 | F63: 15 | G63: 6 | H63: 0 | I63: 0 | J63: 0 | K63: 5 | L63: 10 | M63: 0 | N63: 78 | O63: 125 | Q63: 960 | R63: 165
B64: Seberang Perai Utara | C64: 0 | D64: 0 | E64: 349 | F64: 27 | G64: 44 | H64: 0 | I64: 0 | J64: 0 | K64: 0 | L64: 8 | M64: 0 | N64: 2 | O64: 430 | Q64: 0 | R64: 230
B65: Timur Laut | C65: 0 | D65: 0 | E65: 36 | F65: 8 | G65: 0 | H65: 0 | I65: 0 | J65: 0 | K65: 1 | L65: 0 | M65: 0 | N65: 146 | O65: 191 | Q65: 435 | R65: 3963
B67: PULAU PINANG | C67: 0 | D67: 11 | E67: 424 | F67: 60 | G67: 50 | H67: 0 | I67: 0 | J67: 0 | K67: 9 | L67: 60 | M67: 0 | N67: 535 | O67: 1149 | Q67: 1395 | R67: 8882
A69: H2 2025 | B69: Barat Daya | C69: 0 | D69: 0 | E69: 0 | F69: 0 | G69: 0 | H69: 0 | I69: 0 | J69: 0 | K69: 0 | L69: 0 | M69: 0 | N69: 0 | O69: 0 | Q69: 38 | R69: 0
B70: Seberang Perai Selatan | C70: 0 | D70: 0 | E70: 111 | F70: 0 | G70: 0 | H70: 0 | I70: 0 | J70: 0 | K70: 0 | L70: 0 | M70: 0 | N70: 0 | O70: 111 | Q70: 0 | R70: 359
B71: Seberang Perai Tengah | C71: 0 | D71: 0 | E71: 0 | F71: 0 | G71: 0 | H71: 0 | I71: 0 | J71: 0 | K71: 0 | L71: 64 | M71: 0 | N71: 0 | O71: 64 | Q71: 0 | R71: 417
B72: Seberang Perai Utara | C72: 0 | D72: 0 | E72: 0 | F72: 0 | G72: 0 | H72: 0 | I72: 0 | J72: 0 | K72: 0 | L72: 0 | M72: 0 | N72: 0 | O72: 0 | Q72: 0 | R72: 0
B73: Timur Laut | C73: 0 | D73: 0 | E73: 14 | F73: 0 | G73: 0 | H73: 0 | I73: 0 | J73: 0 | K73: 0 | L73: 0 | M73: 0 | N73: 271 | O73: 285 | Q73: 0 | R73: 1110
B75: PULAU PINANG | C75: 0 | D75: 0 | E75: 125 | F75: 0 | G75: 0 | H75: 0 | I75: 0 | J75: 0 | K75: 0 | L75: 64 | M75: 0 | N75: 271 | O75: 460 | Q75: 38 | R75: 1886
A77: H1 2026 | B77: Barat Daya | C77: 0 | D77: 0 | E77: 0 | F77: 0 | G77: 0 | H77: 0 | I77: 0 | J77: 0 | K77: 0 | L77: 0 | M77: 0 | N77: 83 | O77: 83 | Q77: 38 | R77: 2289
B78: Seberang Perai Selatan | C78: 0 | D78: 11 | E78: 146 | F78: 0 | G78: 0 | H78: 0 | I78: 0 | J78: 0 | K78: 2 | L78: 34 | M78: 0 | N78: 49 | O78: 242 | Q78: 0 | R78: 2470
B79: Seberang Perai Tengah | C79: 0 | D79: 0 | E79: 98 | F79: 2 | G79: 0 | H79: 0 | I79: 0 | J79: 0 | K79: 5 | L79: 92 | M79: 0 | N79: 67 | O79: 264 | Q79: 0 | R79: 884
B80: Seberang Perai Utara | C80: 0 | D80: 0 | E80: 200 | F80: 10 | G80: 32 | H80: 0 | I80: 0 | J80: 0 | K80: 0 | L80: 6 | M80: 0 | N80: 2 | O80: 250 | Q80: 0 | R80: 0
B81: Timur Laut | C81: 0 | D81: 23 | E81: 36 | F81: 0 | G81: 0 | H81: 0 | I81: 0 | J81: 0 | K81: 0 | L81: 0 | M81: 0 | N81: 502 | O81: 561 | Q81: 936 | R81: 7446
B83: PULAU PINANG | C83: 0 | D83: 34 | E83: 480 | F83: 12 | G83: 32 | H83: 0 | I83: 0 | J83: 0 | K83: 7 | L83: 132 | M83: 0 | N83: 703 | O83: 1400 | Q83: 974 | R83: 13089
B85: STARTS
A87: H1 2025 | B87: Barat Daya | C87: 0 | D87: 0 | E87: 0 | F87: 0 | G87: 0 | H87: 0 | I87: 0 | J87: 0 | K87: 0 | L87: 0 | M87: 0 | N87: 26 | O87: 26 | Q87: 0 | R87: 0
B88: Seberang Perai Selatan | C88: 0 | D88: 0 | E88: 0 | F88: 0 | G88: 0 | H88: 0 | I88: 0 | J88: 0 | K88: 0 | L88: 0 | M88: 0 | N88: 19 | O88: 19 | Q88: 0 | R88: 411
B89: Seberang Perai Tengah | C89: 0 | D89: 0 | E89: 0 | F89: 0 | G89: 0 | H89: 0 | I89: 0 | J89: 0 | K89: 0 | L89: 0 | M89: 0 | N89: 0 | O89: 0 | Q89: 0 | R89: 0
B90: Seberang Perai Utara | C90: 0 | D90: 0 | E90: 92 | F90: 0 | G90: 22 | H90: 0 | I90: 0 | J90: 0 | K90: 0 | L90: 0 | M90: 0 | N90: 0 | O90: 114 | Q90: 0 | R90: 0
B91: Timur Laut | C91: 0 | D91: 0 | E91: 0 | F91: 0 | G91: 0 | H91: 0 | I91: 0 | J91: 0 | K91: 0 | L91: 0 | M91: 0 | N91: 0 | O91: 0 | Q91: 0 | R91: 0
B93: PULAU PINANG | C93: 0 | D93: 0 | E93: 92 | F93: 0 | G93: 22 | H93: 0 | I93: 0 | J93: 0 | K93: 0 | L93: 0 | M93: 0 | N93: 45 | O93: 159 | Q93: 0 | R93: 411
A95: H2 2025 | B95: Barat Daya | C95: 0 | D95: 0 | E95: 0 | F95: 0 | G95: 0 | H95: 0 | I95: 0 | J95: 0 | K95: 0 | L95: 0 | M95: 0 | N95: 0 | O95: 0 | Q95: 0 | R95: 0
B96: Seberang Perai Selatan | C96: 0 | D96: 0 | E96: 36 | F96: 0 | G96: 0 | H96: 0 | I96: 0 | J96: 0 | K96: 0 | L96: 0 | M96: 0 | N96: 4 | O96: 40 | Q96: 0 | R96: 359
B97: Seberang Perai Tengah | C97: 0 | D97: 0 | E97: 0 | F97: 0 | G97: 0 | H97: 0 | I97: 0 | J97: 0 | K97: 0 | L97: 0 | M97: 0 | N97: 0 | O97: 0 | Q97: 0 | R97: 0
B98: Seberang Perai Utara | C98: 0 | D98: 0 | E98: 0 | F98: 0 | G98: 0 | H98: 0 | I98: 0 | J98: 0 | K98: 0 | L98: 0 | M98: 0 | N98: 0 | O98: 0 | Q98: 0 | R98: 0
B99: Timur Laut | C99: 0 | D99: 0 | E99: 14 | F99: 0 | G99: 0 | H99: 0 | I99: 0 | J99: 0 | K99: 0 | L99: 0 | M99: 0 | N99: 31 | O99: 45 | Q99: 0 | R99: 1445
B101: PULAU PINANG | C101: 0 | D101: 0 | E101: 50 | F101: 0 | G101: 0 | H101: 0 | I101: 0 | J101: 0 | K101: 0 | L101: 0 | M101: 0 | N101: 35 | O101: 85 | Q101: 0 | R101: 1804
A103: H1 2026 | B103: Barat Daya | C103: 0 | D103: 0 | E103: 0 | F103: 0 | G103: 0 | H103: 0 | I103: 0 | J103: 0 | K103: 0 | L103: 0 | M103: 0 | N103: 0 | O103: 0 | Q103: 0 | R103: 0
B104: Seberang Perai Selatan | C104: 0 | D104: 0 | E104: 7 | F104: 0 | G104: 0 | H104: 0 | I104: 0 | J104: 0 | K104: 2 | L104: 14 | M104: 0 | N104: 0 | O104: 23 | Q104: 0 | R104: 398
B105: Seberang Perai Tengah | C105: 0 | D105: 0 | E105: 0 | F105: 0 | G105: 0 | H105: 0 | I105: 0 | J105: 0 | K105: 0 | L105: 0 | M105: 0 | N105: 0 | O105: 0 | Q105: 0 | R105: 0
B106: Seberang Perai Utara | C106: 0 | D106: 0 | E106: 23 | F106: 10 | G106: 0 | H106: 0 | I106: 0 | J106: 0 | K106: 0 | L106: 0 | M106: 0 | N106: 0 | O106: 33 | Q106: 0 | R106: 0
B107: Timur Laut | C107: 0 | D107: 23 | E107: 0 | F107: 0 | G107: 0 | H107: 0 | I107: 0 | J107: 0 | K107: 0 | L107: 0 | M107: 0 | N107: 34 | O107: 57 | Q107: 624 | R107: 1391
B109: PULAU PINANG | C109: 0 | D109: 23 | E109: 30 | F109: 10 | G109: 0 | H109: 0 | I109: 0 | J109: 0 | K109: 2 | L109: 14 | M109: 0 | N109: 34 | O109: 113 | Q109: 624 | R109: 1789
A111: PLANNED SUPPLY
A113: H1 2025 | B113: Barat Daya | C113: 0 | D113: 0 | E113: 11 | F113: 0 | G113: 0 | H113: 0 | I113: 0 | J113: 0 | K113: 0 | L113: 0 | M113: 0 | N113: 88 | O113: 99 | Q113: 0 | R113: 1108
B114: Seberang Perai Selatan | C114: 0 | D114: 0 | E114: 10 | F114: 0 | G114: 0 | H114: 0 | I114: 0 | J114: 0 | K114: 0 | L114: 0 | M114: 0 | N114: 0 | O114: 10 | Q114: 0 | R114: 359
B115: Seberang Perai Tengah | C115: 0 | D115: 0 | E115: 30 | F115: 0 | G115: 0 | H115: 0 | I115: 0 | J115: 0 | K115: 0 | L115: 64 | M115: 0 | N115: 98 | O115: 192 | Q115: 0 | R115: 932
B116: Seberang Perai Utara | C116: 0 | D116: 0 | E116: 136 | F116: 0 | G116: 0 | H116: 0 | I116: 0 | J116: 0 | K116: 0 | L116: 0 | M116: 0 | N116: 3 | O116: 139 | Q116: 0 | R116: 205
B117: Timur Laut | C117: 0 | D117: 0 | E117: 36 | F117: 2 | G117: 0 | H117: 0 | I117: 0 | J117: 22 | K117: 0 | L117: 0 | M117: 0 | N117: 1299 | O117: 1359 | Q117: 1207 | R117: 4395
B119: PULAU PINANG | C119: 0 | D119: 0 | E119: 223 | F119: 2 | G119: 0 | H119: 0 | I119: 0 | J119: 22 | K119: 0 | L119: 64 | M119: 0 | N119: 1488 | O119: 1799 | Q119: 1207 | R119: 6999
A121: H2 2025 | B121: Barat Daya | C121: 0 | D121: 0 | E121: 13 | F121: 8 | G121: 0 | H121: 0 | I121: 0 | J121: 0 | K121: 0 | L121: 0 | M121: 0 | N121: 44 | O121: 65 | Q121: 0 | R121: 2134
B122: Seberang Perai Selatan | C122: 0 | D122: 0 | E122: 1 | F122: 0 | G122: 0 | H122: 0 | I122: 0 | J122: 0 | K122: 0 | L122: 0 | M122: 0 | N122: 391 | O122: 392 | Q122: 0 | R122: 0
B123: Seberang Perai Tengah | C123: 0 | D123: 0 | E123: 30 | F123: 0 | G123: 0 | H123: 0 | I123: 0 | J123: 0 | K123: 0 | L123: 0 | M123: 0 | N123: 143 | O123: 173 | Q123: 0 | R123: 302
B124: Seberang Perai Utara | C124: 0 | D124: 0 | E124: 30 | F124: 0 | G124: 0 | H124: 0 | I124: 0 | J124: 0 | K124: 0 | L124: 0 | M124: 0 | N124: 0 | O124: 30 | Q124: 0 | R124: 0
B125: Timur Laut | C125: 0 | D125: 0 | E125: 0 | F125: 2 | G125: 0 | H125: 0 | I125: 0 | J125: 22 | K125: 0 | L125: 0 | M125: 0 | N125: 162 | O125: 186 | Q125: 624 | R125: 4850
B127: PULAU PINANG | C127: 0 | D127: 0 | E127: 74 | F127: 10 | G127: 0 | H127: 0 | I127: 0 | J127: 22 | K127: 0 | L127: 0 | M127: 0 | N127: 740 | O127: 846 | Q127: 624 | R127: 7286
A129: H1 2026 | B129: Barat Daya | C129: 0 | D129: 0 | E129: 13 | F129: 8 | G129: 0 | H129: 0 | I129: 0 | J129: 0 | K129: 0 | L129: 0 | M129: 0 | N129: 55 | O129: 76 | Q129: 0 | R129: 3865
B130: Seberang Perai Selatan | C130: 0 | D130: 0 | E130: 10 | F130: 0 | G130: 0 | H130: 0 | I130: 0 | J130: 0 | K130: 0 | L130: 0 | M130: 0 | N130: 413 | O130: 423 | Q130: 0 | R130: 0
B131: Seberang Perai Tengah | C131: 0 | D131: 0 | E131: 0 | F131: 0 | G131: 0 | H131: 0 | I131: 0 | J131: 0 | K131: 0 | L131: 0 | M131: 0 | N131: 143 | O131: 143 | Q131: 0 | R131: 0
B132: Seberang Perai Utara | C132: 0 | D132: 0 | E132: 12 | F132: 0 | G132: 0 | H132: 0 | I132: 0 | J132: 0 | K132: 6 | L132: 28 | M132: 0 | N132: 0 | O132: 46 | Q132: 0 | R132: 0
B133: Timur Laut | C133: 0 | D133: 0 | E133: 0 | F133: 2 | G133: 0 | H133: 0 | I133: 0 | J133: 22 | K133: 0 | L133: 0 | M133: 0 | N133: 99 | O133: 123 | Q133: 0 | R133: 4181
B135: PULAU PINANG | C135: 0 | D135: 0 | E135: 35 | F135: 10 | G135: 0 | H135: 0 | I135: 0 | J135: 22 | K135: 6 | L135: 28 | M135: 0 | N135: 710 | O135: 811 | Q135: 0 | R135: 8046
B137: NEW PLANNED SUPPLY
...

Sheet 2.7
A1: Table 2.7
A2: PENAWARAN UNIT KEDAI MENGIKUT JENIS DI PERAK
A3: SUPPLY OF SHOP UNITS BY TYPE IN PERAK
A5: Quarter Year | B5: Mukim | C5: Prewar | D5: 1 - 1 1/2 storey Terraced | E5: 2 - 2 1/2 storey Terraced | F5: 3 - 3 1/2 storey Terraced | G5: 4 - 4 1/2 storey Terraced | H5: 5 - 5 1/2 storey Terraced | I5: 6-6 1/2 storey Terraced | J5: > 6 1/2 storey Terraced | K5: Detached | L5: Semi-det. | M5: Cluster | N5: Stratified | O5: Total | Q5: Soho | R5: Serviced Apartment
A7: EXISTING STOCK
A9: H1 2025 | B9: Bagan Datuk | C9: 0 | D9: 42 | E9: 341 | F9: 142 | G9: 73 | H9: 0 | I9: 0 | J9: 0 | K9: 0 | L9: 0 | M9: 0 | N9: 0 | O9: 598 | Q9: 0 | R9: 0
B10: Batang Padang | C10: 480 | D10: 87 | E10: 939 | F10: 288 | G10: 23 | H10: 3 | I10: 0 | J10: 0 | K10: 10 | L10: 0 | M10: 0 | N10: 0 | O10: 1830 | Q10: 0 | R10: 0
B11: Hilir Perak | C11: 344 | D11: 165 | E11: 1212 | F11: 738 | G11: 169 | H11: 0 | I11: 0 | J11: 0 | K11: 0 | L11: 0 | M11: 0 | N11: 28 | O11: 2656 | Q11: 0 | R11: 0
B12: Hulu Perak | C12: 167 | D12: 128 | E12: 658 | F12: 251 | G12: 19 | H12: 0 | I12: 0 | J12: 0 | K12: 65 | L12: 0 | M12: 0 | N12: 0 | O12: 1288 | Q12: 0 | R12: 0
B13: Kampar | C13: 572 | D13: 195 | E13: 1488 | F13: 3747 | G13: 21 | H13: 1 | I13: 0 | J13: 0 | K13: 135 | L13: 0 | M13: 0 | N13: 343 | O13: 6502 | Q13: 0 | R13: 632
B14: Kerian | C14: 344 | D14: 182 | E14: 1591 | F14: 325 | G14: 13 | H14: 0 | I14: 0 | J14: 0 | K14: 11 | L14: 12 | M14: 0 | N14: 0 | O14: 2478 | Q14: 0 | R14: 205
B15: Kinta | C15: 2299 | D15: 2836 | E15: 15012 | F15: 3174 | G15: 1003 | H15: 58 | I15: 282 | J15: 3 | K15: 221 | L15: 86 | M15: 0 | N15: 98 | O15: 25072 | Q15: 577 | R15: 295
B16: Kuala Kangsar | C16: 332 | D16: 499 | E16: 1588 | F16: 299 | G16: 56 | H16: 3 | I16: 0 | J16: 0 | K16: 14 | L16: 56 | M16: 0 | N16: 353 | O16: 3200 | Q16: 0 | R16: 0
B17: Larut Matang | C17: 659 | D17: 312 | E17: 2549 | F17: 1100 | G17: 277 | H17: 9 | I17: 0 | J17: 0 | K17: 40 | L17: 0 | M17: 0 | N17: 14 | O17: 4960 | Q17: 0 | R17: 0
B18: Manjung | C18: 194 | D18: 338 | E18: 4778 | F18: 1271 | G18: 131 | H18: 0 | I18: 0 | J18: 0 | K18: 11 | L18: 0 | M18: 0 | N18: 239 | O18: 6962 | Q18: 0 | R18: 435
B19: Muallim | C19: 31 | D19: 152 | E19: 1235 | F19: 160 | G19: 7 | H19: 0 | I19: 0 | J19: 0 | K19: 18 | L19: 0 | M19: 0 | N19: 0 | O19: 1603 | Q19: 0 | R19: 0
B20: Perak Tengah | C20: 61 | D20: 103 | E20: 943 | F20: 248 | G20: 10 | H20: 0 | I20: 6 | J20: 0 | K20: 1 | L20: 0 | M20: 0 | N20: 0 | O20: 1372 | Q20: 466 | R20: 0
B21: Selama | C21: 24 | D21: 66 | E21: 292 | F21: 17 | G21: 0 | H21: 0 | I21: 0 | J21: 0 | K21: 3 | L21: 0 | M21: 0 | N21: 0 | O21: 402 | Q21: 0 | R21: 0
B23: PERAK | C23: 5507 | D23: 5105 | E23: 32626 | F23: 11760 | G23: 1802 | H23: 74 | I23: 288 | J23: 3 | K23: 529 | L23: 154 | M23: 0 | N23: 1075 | O23: 58923 | Q23: 1043 | R23: 1567
A25: H2 2025 | B25: Bagan Datuk | C25: 0 | D25: 42 | E25: 341 | F25: 142 | G25: 73 | H25: 0 | I25: 0 | J25: 0 | K25: 0 | L25: 0 | M25: 0 | N25: 0 | O25: 598 | Q25: 0 | R25: 0
B26: Batang Padang | C26: 480 | D26: 98 | E26: 884 | F26: 270 | G26: 23 | H26: 3 | I26: 0 | J26: 0 | K26: 10 | L26: 0 | M26: 0 | N26: 0 | O26: 1768 | Q26: 0 | R26: 0
B27: Hilir Perak | C27: 344 | D27: 165 | E27: 1212 | F27: 738 | G27: 169 | H27: 0 | I27: 0 | J27: 0 | K27: 0 | L27: 0 | M27: 0 | N27: 28 | O27: 2656 | Q27: 0 | R27: 0
B28: Hulu Perak | C28: 167 | D28: 128 | E28: 658 | F28: 253 | G28: 19 | H28: 0 | I28: 0 | J28: 0 | K28: 65 | L28: 0 | M28: 0 | N28: 0 | O28: 1290 | Q28: 0 | R28: 0
B29: Kampar | C29: 572 | D29: 195 | E29: 1539 | F29: 3747 | G29: 21 | H29: 1 | I29: 0 | J29: 0 | K29: 135 | L29: 0 | M29: 0 | N29: 343 | O29: 6553 | Q29: 0 | R29: 632
B30: Kerian | C30: 344 | D30: 182 | E30: 1591 | F30: 325 | G30: 13 | H30: 0 | I30: 0 | J30: 0 | K30: 11 | L30: 12 | M30: 0 | N30: 0 | O30: 2478 | Q30: 0 | R30: 205
B31: Kinta | C31: 2299 | D31: 2878 | E31: 15071 | F31: 3159 | G31: 1005 | H31: 58 | I31: 282 | J31: 3 | K31: 219 | L31: 86 | M31: 0 | N31: 173 | O31: 25233 | Q31: 577 | R31: 951
B32: Kuala Kangsar | C32: 332 | D32: 499 | E32: 1598 | F32: 299 | G32: 56 | H32: 3 | I32: 0 | J32: 0 | K32: 14 | L32: 56 | M32: 0 | N32: 353 | O32: 3210 | Q32: 0 | R32: 0
B33: Larut Matang | C33: 659 | D33: 312 | E33: 2576 | F33: 1104 | G33: 277 | H33: 9 | I33: 0 | J33: 0 | K33: 41 | L33: 0 | M33: 0 | N33: 14 | O33: 4992 | Q33: 0 | R33: 0
B34: Manjung | C34: 194 | D34: 338 | E34: 4775 | F34: 1285 | G34: 129 | H34: 0 | I34: 0 | J34: 0 | K34: 11 | L34: 0 | M34: 0 | N34: 233 | O34: 6965 | Q34: 0 | R34: 435
B35: Muallim | C35: 31 | D35: 152 | E35: 1283 | F35: 168 | G35: 7 | H35: 0 | I35: 0 | J35: 0 | K35: 18 | L35: 0 | M35: 0 | N35: 0 | O35: 1659 | Q35: 0 | R35: 0
B36: Perak Tengah | C36: 61 | D36: 103 | E36: 943 | F36: 248 | G36: 10 | H36: 0 | I36: 6 | J36: 0 | K36: 1 | L36: 0 | M36: 0 | N36: 0 | O36: 1372 | Q36: 466 | R36: 0
B37: Selama | C37: 24 | D37: 66 | E37: 292 | F37: 17 | G37: 0 | H37: 0 | I37: 0 | J37: 0 | K37: 3 | L37: 0 | M37: 0 | N37: 0 | O37: 402 | Q37: 0 | R37: 0
B39: PERAK | C39: 5507 | D39: 5158 | E39: 32763 | F39: 11755 | G39: 1802 | H39: 74 | I39: 288 | J39: 3 | K39: 528 | L39: 154 | M39: 0 | N39: 1144 | O39: 59176 | Q39: 1043 | R39: 2223
A41: H1 2026 | B41: Bagan Datuk | C41: 0 | D41: 55 | E41: 362 | F41: 142 | G41: 73 | H41: 0 | I41: 0 | J41: 0 | K41: 0 | L41: 0 | M41: 0 | N41: 0 | O41: 632 | Q41: 0 | R41: 0
B42: Batang Padang | C42: 480 | D42: 98 | E42: 993 | F42: 278 | G42: 23 | H42: 3 | I42: 0 | J42: 0 | K42: 10 | L42: 0 | M42: 0 | N42: 0 | O42: 1885 | Q42: 0 | R42: 0
B43: Hilir Perak | C43: 344 | D43: 165 | E43: 1212 | F43: 738 | G43: 169 | H43: 0 | I43: 0 | J43: 0 | K43: 0 | L43: 0 | M43: 0 | N43: 28 | O43: 2656 | Q43: 0 | R43: 0
B44: Hulu Perak | C44: 167 | D44: 128 | E44: 658 | F44: 253 | G44: 19 | H44: 0 | I44: 0 | J44: 0 | K44: 65 | L44: 0 | M44: 0 | N44: 0 | O44: 1290 | Q44: 0 | R44: 0
B45: Kampar | C45: 572 | D45: 195 | E45: 1539 | F45: 3747 | G45: 21 | H45: 1 | I45: 0 | J45: 0 | K45: 135 | L45: 0 | M45: 0 | N45: 343 | O45: 6553 | Q45: 0 | R45: 632
B46: Kerian | C46: 344 | D46: 182 | E46: 1615 | F46: 325 | G46: 13 | H46: 0 | I46: 0 | J46: 0 | K46: 14 | L46: 14 | M46: 0 | N46: 0 | O46: 2507 | Q46: 0 | R46: 205
B47: Kinta | C47: 2299 | D47: 2940 | E47: 15241 | F47: 3170 | G47: 1005 | H47: 58 | I47: 282 | J47: 3 | K47: 221 | L47: 86 | M47: 0 | N47: 179 | O47: 25484 | Q47: 1001 | R47: 951
B48: Kuala Kangsar | C48: 332 | D48: 499 | E48: 1612 | F48: 299 | G48: 56 | H48: 3 | I48: 0 | J48: 0 | K48: 14 | L48: 56 | M48: 0 | N48: 353 | O48: 3224 | Q48: 0 | R48: 0
B49: Larut Matang | C49: 659 | D49: 336 | E49: 2618 | F49: 1104 | G49: 277 | H49: 9 | I49: 0 | J49: 0 | K49: 41 | L49: 0 | M49: 0 | N49: 14 | O49: 5058 | Q49: 0 | R49: 0
B50: Manjung | C50: 194 | D50: 360 | E50: 4799 | F50: 1286 | G50: 129 | H50: 0 | I50: 0 | J50: 0 | K50: 11 | L50: 0 | M50: 0 | N50: 233 | O50: 7012 | Q50: 0 | R50: 435
B51: Muallim | C51: 31 | D51: 152 | E51: 1283 | F51: 168 | G51: 7 | H51: 0 | I51: 0 | J51: 0 | K51: 18 | L51: 0 | M51: 0 | N51: 0 | O51: 1659 | Q51: 0 | R51: 0
B52: Perak Tengah | C52: 61 | D52: 103 | E52: 1084 | F52: 248 | G52: 10 | H52: 0 | I52: 6 | J52: 0 | K52: 1 | L52: 0 | M52: 0 | N52: 100 | O52: 1613 | Q52: 697 | R52: 0
B53: Selama | C53: 24 | D53: 66 | E53: 292 | F53: 17 | G53: 0 | H53: 0 | I53: 0 | J53: 0 | K53: 3 | L53: 0 | M53: 0 | N53: 0 | O53: 402 | Q53: 0 | R53: 0
B55: PERAK | C55: 5507 | D55: 5279 | E55: 33308 | F55: 11775 | G55: 1802 | H55: 74 | I55: 288 | J55: 3 | K55: 533 | L55: 156 | M55: 0 | N55: 1250 | O55: 59975 | Q55: 1698 | R55: 2223
B57: COMPLETION
A59: H1 2025 | B59: Bagan Datuk | C59: 0 | D59: 0 | E59: 0 | F59: 0 | G59: 0 | H59: 0 | I59: 0 | J59: 0 | K59: 0 | L59: 0 | M59: 0 | N59: 0 | O59: 0 | Q59: 0 | R59: 0
B60: Batang Padang | C60: 0 | D60: 0 | E60: 0 | F60: 0 | G60: 0 | H60: 0 | I60: 0 | J60: 0 | K60: 0 | L60: 0 | M60: 0 | N60: 0 | O60: 0 | Q60: 0 | R60: 0
B61: Hilir Perak | C61: 0 | D61: 0 | E61: 0 | F61: 0 | G61: 0 | H61: 0 | I61: 0 | J61: 0 | K61: 0 | L61: 0 | M61: 0 | N61: 0 | O61: 0 | Q61: 0 | R61: 0
B62: Hulu Perak | C62: 0 | D62: 0 | E62: 0 | F62: 0 | G62: 0 | H62: 0 | I62: 0 | J62: 0 | K62: 0 | L62: 0 | M62: 0 | N62: 0 | O62: 0 | Q62: 0 | R62: 0
B63: Kampar | C63: 0 | D63: 0 | E63: 0 | F63: 0 | G63: 0 | H63: 0 | I63: 0 | J63: 0 | K63: 0 | L63: 0 | M63: 0 | N63: 0 | O63: 0 | Q63: 0 | R63: 0
B64: Kerian | C64: 0 | D64: 0 | E64: 35 | F64: 38 | G64: 0 | H64: 0 | I64: 0 | J64: 0 | K64: 0 | L64: 0 | M64: 0 | N64: 0 | O64: 73 | Q64: 0 | R64: 0
B65: Kinta | C65: 0 | D65: 9 | E65: 22 | F65: 0 | G65: 0 | H65: 0 | I65: 0 | J65: 0 | K65: 0 | L65: 0 | M65: 0 | N65: 0 | O65: 31 | Q65: 0 | R65: 0
B66: Kuala Kangsar | C66: 0 | D66: 0 | E66: 1 | F66: 0 | G66: 0 | H66: 0 | I66: 0 | J66: 0 | K66: 0 | L66: 0 | M66: 0 | N66: 0 | O66: 1 | Q66: 0 | R66: 0
B67: Larut Matang | C67: 0 | D67: 0 | E67: 0 | F67: 0 | G67: 0 | H67: 0 | I67: 0 | J67: 0 | K67: 0 | L67: 0 | M67: 0 | N67: 0 | O67: 0 | Q67: 0 | R67: 0
B68: Manjung | C68: 0 | D68: 0 | E68: 12 | F68: 2 | G68: 0 | H68: 0 | I68: 0 | J68: 0 | K68: 0 | L68: 0 | M68: 0 | N68: 0 | O68: 14 | Q68: 0 | R68: 0
B69: Muallim | C69: 0 | D69: 0 | E69: 0 | F69: 0 | G69: 0 | H69: 0 | I69: 0 | J69: 0 | K69: 0 | L69: 0 | M69: 0 | N69: 0 | O69: 0 | Q69: 0 | R69: 0
B70: Perak Tengah | C70: 0 | D70: 0 | E70: 0 | F70: 0 | G70: 0 | H70: 0 | I70: 0 | J70: 0 | K70: 0 | L70: 0 | M70: 0 | N70: 0 | O70: 0 | Q70: 0 | R70: 0
B71: Selama | C71: 0 | D71: 0 | E71: 0 | F71: 0 | G71: 0 | H71: 0 | I71: 0 | J71: 0 | K71: 0 | L71: 0 | M71: 0 | N71: 0 | O71: 0 | Q71: 0 | R71: 0
B73: PERAK | C73: 0 | D73: 9 | E73: 70 | F73: 40 | G73: 0 | H73: 0 | I73: 0 | J73: 0 | K73: 0 | L73: 0 | M73: 0 | N73: 0 | O73: 119 | Q73: 0 | R73: 0
A75: H2 2025 | B75: Bagan Datuk | C75: 0 | D75: 0 | E75: 0 | F75: 0 | G75: 0 | H75: 0 | I75: 0 | J75: 0 | K75: 0 | L75: 0 | M75: 0 | N75: 0 | O75: 0 | Q75: 0 | R75: 0
B76: Batang Padang | C76: 0 | D76: 11 | E76: 0 | F76: 0 | G76: 0 | H76: 0 | I76: 0 | J76: 0 | K76: 0 | L76: 0 | M76: 0 | N76: 0 | O76: 11 | Q76: 0 | R76: 0
B77: Hilir Perak | C77: 0 | D77: 0 | E77: 0 | F77: 0 | G77: 0 | H77: 0 | I77: 0 | J77: 0 | K77: 0 | L77: 0 | M77: 0 | N77: 0 | O77: 0 | Q77: 0 | R77: 0
B78: Hulu Perak | C78: 0 | D78: 0 | E78: 0 | F78: 0 | G78: 0 | H78: 0 | I78: 0 | J78: 0 | K78: 0 | L78: 0 | M78: 0 | N78: 0 | O78: 0 | Q78: 0 | R78: 0
B79: Kampar | C79: 0 | D79: 0 | E79: 39 | F79: 0 | G79: 0 | H79: 0 | I79: 0 | J79: 0 | K79: 0 | L79: 0 | M79: 0 | N79: 0 | O79: 39 | Q79: 0 | R79: 0
B80: Kerian | C80: 0 | D80: 0 | E80: 0 | F80: 0 | G80: 0 | H80: 0 | I80: 0 | J80: 0 | K80: 0 | L80: 0 | M80: 0 | N80: 0 | O80: 0 | Q80: 0 | R80: 0
B81: Kinta | C81: 0 | D81: 16 | E81: 41 | F81: 22 | G81: 2 | H81: 0 | I81: 0 | J81: 0 | K81: 0 | L81: 0 | M81: 0 | N81: 66 | O81: 147 | Q81: 0 | R81: 656
B82: Kuala Kangsar | C82: 0 | D82: 0 | E82: 0 | F82: 0 | G82: 0 | H82: 0 | I82: 0 | J82: 0 | K82: 0 | L82: 0 | M82: 0 | N82: 0 | O82: 0 | Q82: 0 | R82: 0
B83: Larut Matang | C83: 0 | D83: 0 | E83: 27 | F83: 4 | G83: 0 | H83: 0 | I83: 0 | J83: 0 | K83: 0 | L83: 0 | M83: 0 | N83: 0 | O83: 31 | Q83: 0 | R83: 0
B84: Manjung | C84: 0 | D84: 0 | E84: 0 | F84: 0 | G84: 0 | H84: 0 | I84: 0 | J84: 0 | K84: 0 | L84: 0 | M84: 0 | N84: 0 | O84: 0 | Q84: 0 | R84: 0
B85: Muallim | C85: 0 | D85: 0 | E85: 0 | F85: 0 | G85: 0 | H85: 0 | I85: 0 | J85: 0 | K85: 0 | L85: 0 | M85: 0 | N85: 0 | O85: 0 | Q85: 0 | R85: 0
B86: Perak Tengah | C86: 0 | D86: 0 | E86: 0 | F86: 0 | G86: 0 | H86: 0 | I86: 0 | J86: 0 | K86: 0 | L86: 0 | M86: 0 | N86: 0 | O86: 0 | Q86: 0 | R86: 0
B87: Selama | C87: 0 | D87: 0 | E87: 0 | F87: 0 | G87: 0 | H87: 0 | I87: 0 | J87: 0 | K87: 0 | L87: 0 | M87: 0 | N87: 0 | O87: 0 | Q87: 0 | R87: 0
B89: PERAK | C89: 0 | D89: 27 | E89: 107 | F89: 26 | G89: 2 | H89: 0 | I89: 0 | J89: 0 | K89: 0 | L89: 0 | M89: 0 | N89: 66 | O89: 228 | Q89: 0 | R89: 656
A91: H1 2026 | B91: Bagan Datuk | C91: 0 | D91: 0 | E91: 0 | F91: 0 | G91: 0 | H91: 0 | I91: 0 | J91: 0 | K91: 0 | L91: 0 | M91: 0 | N91: 0 | O91: 0 | Q91: 0 | R91: 0
B92: Batang Padang | C92: 0 | D92: 0 | E92: 0 | F92: 0 | G92: 0 | H92: 0 | I92: 0 | J92: 0 | K92: 0 | L92: 0 | M92: 0 | N92: 0 | O92: 0 | Q92: 0 | R92: 0
B93: Hilir Perak | C93: 0 | D93: 0 | E93: 0 | F93: 0 | G93: 0 | H93: 0 | I93: 0 | J93: 0 | K93: 0 | L93: 0 | M93: 0 | N93: 0 | O93: 0 | Q93: 0 | R93: 0
B94: Hulu Perak | C94: 0 | D94: 0 | E94: 0 | F94: 0 | G94: 0 | H94: 0 | I94: 0 | J94: 0 | K94: 0 | L94: 0 | M94: 0 | N94: 0 | O94: 0 | Q94: 0 | R94: 0
B95: Kampar | C95: 0 | D95: 0 | E95: 0 | F95: 0 | G95: 0 | H95: 0 | I95: 0 | J95: 0 | K95: 0 | L95: 0 | M95: 0 | N95: 0 | O95: 0 | Q95: 0 | R95: 0
B96: Kerian | C96: 0 | D96: 0 | E96: 20 | F96: 0 | G96: 0 | H96: 0 | I96: 0 | J96: 0 | K96: 3 | L96: 2 | M96: 0 | N96: 0 | O96: 25 | Q96: 0 | R96: 0
B97: Kinta | C97: 0 | D97: 52 | E97: 87 | F97: 3 | G97: 0 | H97: 0 | I97: 0 | J97: 0 | K97: 0 | L97: 0 | M97: 0 | N97: 0 | O97: 142 | Q97: 0 | R97: 0
B98: Kuala Kangsar | C98: 0 | D98: 0 | E98: 14 | F98: 0 | G98: 0 | H98: 0 | I98: 0 | J98: 0 | K98: 0 | L98: 0 | M98: 0 | N98: 0 | O98: 14 | Q98: 0 | R98: 0
B99: Larut Matang | C99: 0 | D99: 24 | E99: 29 | F99: 0 | G99: 0 | H99: 0 | I99: 0 | J99: 0 | K99: 0 | L99: 0 | M99: 0 | N99: 0 | O99: 53 | Q99: 0 | R99: 0
B100: Manjung | C100: 0 | D100: 0 | E100: 13 | F100: 0 | G100: 0 | H100: 0 | I100: 0 | J100: 0 | K100: 0 | L100: 0 | M100: 0 | N100: 0 | O100: 13 | Q100: 0 | R100: 0
B101: Muallim | C101: 0 | D101: 0 | E101: 0 | F101: 0 | G101: 0 | H101: 0 | I101: 0 | J101: 0 | K101: 0 | L101: 0 | M101: 0 | N101: 0 | O101: 0 | Q101: 0 | R101: 0
B102: Perak Tengah | C102: 0 | D102: 0 | E102: 0 | F102: 0 | G102: 0 | H102: 0 | I102: 0 | J102: 0 | K102: 0 | L102: 0 | M102: 0 | N102: 0 | O102: 0 | Q102: 0 | R102: 0
B103: Selama | C103: 0 | D103: 0 | E103: 0 | F103: 0 | G103: 0 | H103: 0 | I103: 0 | J103: 0 | K103: 0 | L103: 0 | M103: 0 | N103: 0 | O103: 0 | Q103: 0 | R103: 0
B105: PERAK | C105: 0 | D105: 76 | E105: 163 | F105: 3 | G105: 0 | H105: 0 | I105: 0 | J105: 0 | K105: 3 | L105: 2 | M105: 0 | N105: 0 | O105: 247 | Q105: 0 | R105: 0
A107: INCOMING SUPPLY
A109: H1 2025 | B109: Bagan Datuk | C109: 0 | D109: 13 | E109: 21 | F109: 0 | G109: 0 | H109: 0 | I109: 0 | J109: 0 | K109: 0 | L109: 0 | M109: 0 | N109: 0 | O109: 34 | Q109: 0 | R109: 0
B110: Batang Padang | C110: 0 | D110: 0 | E110: 94 | F110: 8 | G110: 0 | H110: 0 | I110: 0 | J110: 0 | K110: 0 | L110: 0 | M110: 0 | N110: 0 | O110: 102 | Q110: 0 | R110: 0
B111: Hilir Perak | C111: 0 | D111: 0 | E111: 0 | F111: 0 | G111: 0 | H111: 0 | I111: 0 | J111: 0 | K111: 0 | L111: 0 | M111: 0 | N111: 0 | O111: 0 | Q111: 0 | R111: 0
B112: Hulu Perak | C112: 0 | D112: 6 | E112: 58 | F112: 13 | G112: 0 | H112: 0 | I112: 0 | J112: 0 | K112: 0 | L112: 0 | M112: 0 | N112: 0 | O112: 77 | Q112: 0 | R112: 151
B113: Kampar | C113: 0 | D113: 10 | E113: 114 | F113: 22 | G113: 0 | H113: 0 | I113: 0 | J113: 0 | K113: 0 | L113: 0 | M113: 0 | N113: 0 | O113: 146 | Q113: 0 | R113: 0
B114: Kerian | C114: 0 | D114: 14 | E114: 117 | F114: 10 | G114: 0 | H114: 0 | I114: 0 | J114: 0 | K114: 3 | L114: 6 | M114: 0 | N114: 0 | O114: 150 | Q114: 0 | R114: 0
B115: Kinta | C115: 0 | D115: 71 | E115: 304 | F115: 81 | G115: 2 | H115: 0 | I115: 0 | J115: 0 | K115: 0 | L115: 32 | M115: 0 | N115: 81 | O115: 571 | Q115: 548 | R115: 817
B116: Kuala Kangsar | C116: 0 | D116: 22 | E116: 120 | F116: 15 | G116: 0 | H116: 0 | I116: 0 | J116: 0 | K116: 0 | L116: 0 | M116: 0 | N116: 0 | O116: 157 | Q116: 0 | R116: 0
B117: Larut Matang | C117: 0 | D117: 0 | E117: 110 | F117: 101 | G117: 2 | H117: 0 | I117: 0 | J117: 0 | K117: 1 | L117: 0 | M117: 0 | N117: 26 | O117: 240 | Q117: 196 | R117: 136
...

Sheet 2.8
A1: Table 2.8
A2: PENAWARAN UNIT KEDAI MENGIKUT JENIS DI NEGERI SEMBILAN
A3: SUPPLY OF SHOP UNITS BY TYPE IN NEGERI SEMBILAN
A5: Quarter Year | B5: Mukim | C5: Prewar | D5: 1 - 1 1/2 storey Terraced | E5: 2 - 2 1/2 storey Terraced | F5: 3 - 3 1/2 storey Terraced | G5: 4 - 4 1/2 storey Terraced | H5: 5 - 5 1/2 storey Terraced | I5: 6-6 1/2 storey Terraced | J5: > 6 1/2 storey Terraced | K5: Detached | L5: Semi-det. | M5: Cluster | N5: Stratified | O5: Total | Q5: Soho | R5: Serviced Apartment
A7: EXISTING STOCK
A9: H1 2025 | B9: Jelebu | C9: 68 | D9: 254 | E9: 509 | F9: 15 | G9: 5 | H9: 0 | I9: 0 | J9: 0 | K9: 3 | L9: 2 | M9: 0 | N9: 0 | O9: 856 | Q9: 0 | R9: 0
B10: Jempol | C10: 50 | D10: 358 | E10: 1389 | F10: 409 | G10: 42 | H10: 0 | I10: 0 | J10: 0 | K10: 18 | L10: 0 | M10: 0 | N10: 20 | O10: 2286 | Q10: 0 | R10: 0
B11: Kuala Pilah | C11: 207 | D11: 270 | E11: 380 | F11: 67 | G11: 7 | H11: 0 | I11: 0 | J11: 0 | K11: 1 | L11: 0 | M11: 0 | N11: 24 | O11: 956 | Q11: 0 | R11: 0
B12: Port Dickson | C12: 82 | D12: 257 | E12: 1837 | F12: 390 | G12: 37 | H12: 3 | I12: 0 | J12: 0 | K12: 7 | L12: 0 | M12: 0 | N12: 10 | O12: 2623 | Q12: 0 | R12: 7944
B13: Rembau | C13: 62 | D13: 93 | E13: 340 | F13: 26 | G13: 1 | H13: 0 | I13: 0 | J13: 0 | K13: 6 | L13: 0 | M13: 0 | N13: 0 | O13: 528 | Q13: 0 | R13: 0
B14: Seremban | C14: 317 | D14: 1633 | E14: 9958 | F14: 4276 | G14: 1103 | H14: 110 | I14: 18 | J14: 1 | K14: 80 | L14: 64 | M14: 0 | N14: 223 | O14: 17783 | Q14: 104 | R14: 8239
B15: Tampin | C15: 90 | D15: 439 | E15: 1239 | F15: 309 | G15: 24 | H15: 1 | I15: 0 | J15: 0 | K15: 1 | L15: 0 | M15: 0 | N15: 0 | O15: 2103 | Q15: 0 | R15: 0
B17: NEGERI SEMBILAN | C17: 876 | D17: 3304 | E17: 15652 | F17: 5492 | G17: 1219 | H17: 114 | I17: 18 | J17: 1 | K17: 116 | L17: 66 | M17: 0 | N17: 277 | O17: 27135 | Q17: 104 | R17: 16183
A19: H2 2025 | B19: Jelebu | C19: 68 | D19: 254 | E19: 509 | F19: 15 | G19: 5 | H19: 0 | I19: 0 | J19: 0 | K19: 3 | L19: 2 | M19: 0 | N19: 0 | O19: 856 | Q19: 0 | R19: 0
B20: Jempol | C20: 50 | D20: 358 | E20: 1389 | F20: 409 | G20: 42 | H20: 0 | I20: 0 | J20: 0 | K20: 18 | L20: 0 | M20: 0 | N20: 20 | O20: 2286 | Q20: 0 | R20: 0
B21: Kuala Pilah | C21: 207 | D21: 270 | E21: 380 | F21: 67 | G21: 7 | H21: 0 | I21: 0 | J21: 0 | K21: 1 | L21: 0 | M21: 0 | N21: 24 | O21: 956 | Q21: 0 | R21: 0
B22: Port Dickson | C22: 82 | D22: 262 | E22: 1848 | F22: 471 | G22: 37 | H22: 3 | I22: 0 | J22: 0 | K22: 7 | L22: 0 | M22: 0 | N22: 10 | O22: 2720 | Q22: 0 | R22: 7944
B23: Rembau | C23: 62 | D23: 93 | E23: 353 | F23: 36 | G23: 1 | H23: 0 | I23: 0 | J23: 0 | K23: 6 | L23: 0 | M23: 0 | N23: 0 | O23: 551 | Q23: 0 | R23: 0
B24: Seremban | C24: 317 | D24: 1727 | E24: 10339 | F24: 4330 | G24: 1103 | H24: 169 | I24: 18 | J24: 1 | K24: 35 | L24: 64 | M24: 0 | N24: 223 | O24: 18326 | Q24: 104 | R24: 8800
B25: Tampin | C25: 90 | D25: 439 | E25: 1218 | F25: 309 | G25: 24 | H25: 1 | I25: 0 | J25: 0 | K25: 1 | L25: 0 | M25: 0 | N25: 0 | O25: 2082 | Q25: 0 | R25: 0
B27: NEGERI SEMBILAN | C27: 876 | D27: 3403 | E27: 16036 | F27: 5637 | G27: 1219 | H27: 173 | I27: 18 | J27: 1 | K27: 71 | L27: 66 | M27: 0 | N27: 277 | O27: 27777 | Q27: 104 | R27: 16744
A29: H1 2026 | B29: Jelebu | C29: 68 | D29: 254 | E29: 509 | F29: 15 | G29: 5 | H29: 0 | I29: 0 | J29: 0 | K29: 3 | L29: 2 | M29: 0 | N29: 0 | O29: 856 | Q29: 0 | R29: 0
B30: Jempol | C30: 50 | D30: 358 | E30: 1389 | F30: 409 | G30: 42 | H30: 0 | I30: 0 | J30: 0 | K30: 18 | L30: 0 | M30: 0 | N30: 20 | O30: 2286 | Q30: 0 | R30: 0
B31: Kuala Pilah | C31: 207 | D31: 270 | E31: 380 | F31: 67 | G31: 7 | H31: 0 | I31: 0 | J31: 0 | K31: 1 | L31: 0 | M31: 0 | N31: 24 | O31: 956 | Q31: 0 | R31: 0
B32: Port Dickson | C32: 82 | D32: 262 | E32: 1850 | F32: 471 | G32: 37 | H32: 3 | I32: 0 | J32: 0 | K32: 7 | L32: 0 | M32: 0 | N32: 10 | O32: 2722 | Q32: 0 | R32: 7944
B33: Rembau | C33: 62 | D33: 93 | E33: 353 | F33: 36 | G33: 1 | H33: 0 | I33: 0 | J33: 0 | K33: 6 | L33: 0 | M33: 0 | N33: 0 | O33: 551 | Q33: 0 | R33: 0
B34: Seremban | C34: 317 | D34: 1759 | E34: 10747 | F34: 4356 | G34: 1103 | H34: 169 | I34: 18 | J34: 1 | K34: 37 | L34: 64 | M34: 0 | N34: 223 | O34: 18794 | Q34: 104 | R34: 9024
B35: Tampin | C35: 90 | D35: 439 | E35: 1329 | F35: 309 | G35: 24 | H35: 1 | I35: 0 | J35: 0 | K35: 1 | L35: 0 | M35: 0 | N35: 0 | O35: 2193 | Q35: 0 | R35: 0
B37: NEGERI SEMBILAN | C37: 876 | D37: 3435 | E37: 16557 | F37: 5663 | G37: 1219 | H37: 173 | I37: 18 | J37: 1 | K37: 73 | L37: 66 | M37: 0 | N37: 277 | O37: 28358 | Q37: 104 | R37: 16968
B39: COMPLETION
A41: H1 2025 | B41: Jelebu | C41: 0 | D41: 0 | E41: 0 | F41: 0 | G41: 0 | H41: 0 | I41: 0 | J41: 0 | K41: 0 | L41: 0 | M41: 0 | N41: 0 | O41: 0 | Q41: 0 | R41: 0
B42: Jempol | C42: 0 | D42: 0 | E42: 0 | F42: 0 | G42: 0 | H42: 0 | I42: 0 | J42: 0 | K42: 0 | L42: 0 | M42: 0 | N42: 0 | O42: 0 | Q42: 0 | R42: 0
B43: Kuala Pilah | C43: 0 | D43: 0 | E43: 0 | F43: 0 | G43: 0 | H43: 0 | I43: 0 | J43: 0 | K43: 0 | L43: 0 | M43: 0 | N43: 0 | O43: 0 | Q43: 0 | R43: 0
B44: Port Dickson | C44: 0 | D44: 21 | E44: 0 | F44: 0 | G44: 0 | H44: 0 | I44: 0 | J44: 0 | K44: 0 | L44: 0 | M44: 0 | N44: 0 | O44: 21 | Q44: 0 | R44: 0
B45: Rembau | C45: 0 | D45: 0 | E45: 0 | F45: 0 | G45: 0 | H45: 0 | I45: 0 | J45: 0 | K45: 0 | L45: 0 | M45: 0 | N45: 0 | O45: 0 | Q45: 0 | R45: 0
B46: Seremban | C46: 0 | D46: 32 | E46: 87 | F46: 0 | G46: 0 | H46: 0 | I46: 0 | J46: 0 | K46: 0 | L46: 0 | M46: 0 | N46: 0 | O46: 119 | Q46: 0 | R46: 1106
B47: Tampin | C47: 0 | D47: 0 | E47: 0 | F47: 0 | G47: 0 | H47: 0 | I47: 0 | J47: 0 | K47: 0 | L47: 0 | M47: 0 | N47: 0 | O47: 0 | Q47: 0 | R47: 0
B49: NEGERI SEMBILAN | C49: 0 | D49: 53 | E49: 87 | F49: 0 | G49: 0 | H49: 0 | I49: 0 | J49: 0 | K49: 0 | L49: 0 | M49: 0 | N49: 0 | O49: 140 | Q49: 0 | R49: 1106
A51: H2 2025 | B51: Jelebu | C51: 0 | D51: 0 | E51: 0 | F51: 0 | G51: 0 | H51: 0 | I51: 0 | J51: 0 | K51: 0 | L51: 0 | M51: 0 | N51: 0 | O51: 0 | Q51: 0 | R51: 0
B52: Jempol | C52: 0 | D52: 0 | E52: 0 | F52: 0 | G52: 0 | H52: 0 | I52: 0 | J52: 0 | K52: 0 | L52: 0 | M52: 0 | N52: 0 | O52: 0 | Q52: 0 | R52: 0
B53: Kuala Pilah | C53: 0 | D53: 0 | E53: 0 | F53: 0 | G53: 0 | H53: 0 | I53: 0 | J53: 0 | K53: 0 | L53: 0 | M53: 0 | N53: 0 | O53: 0 | Q53: 0 | R53: 0
B54: Port Dickson | C54: 0 | D54: 17 | E54: 7 | F54: 25 | G54: 2 | H54: 0 | I54: 0 | J54: 0 | K54: 0 | L54: 0 | M54: 0 | N54: 0 | O54: 51 | Q54: 0 | R54: 0
B55: Rembau | C55: 0 | D55: 0 | E55: 13 | F55: 0 | G55: 0 | H55: 0 | I55: 0 | J55: 0 | K55: 0 | L55: 0 | M55: 0 | N55: 0 | O55: 13 | Q55: 0 | R55: 0
B56: Seremban | C56: 0 | D56: 44 | E56: 260 | F56: 7 | G56: 0 | H56: 0 | I56: 0 | J56: 0 | K56: 1 | L56: 0 | M56: 0 | N56: 0 | O56: 312 | Q56: 0 | R56: 512
B57: Tampin | C57: 0 | D57: 0 | E57: 0 | F57: 0 | G57: 0 | H57: 0 | I57: 0 | J57: 0 | K57: 0 | L57: 0 | M57: 0 | N57: 0 | O57: 0 | Q57: 0 | R57: 0
B59: NEGERI SEMBILAN | C59: 0 | D59: 61 | E59: 280 | F59: 32 | G59: 2 | H59: 0 | I59: 0 | J59: 0 | K59: 1 | L59: 0 | M59: 0 | N59: 0 | O59: 376 | Q59: 0 | R59: 512
A61: H1 2026 | B61: Jelebu | C61: 0 | D61: 0 | E61: 0 | F61: 0 | G61: 0 | H61: 0 | I61: 0 | J61: 0 | K61: 0 | L61: 0 | M61: 0 | N61: 0 | O61: 0 | Q61: 0 | R61: 0
B62: Jempol | C62: 0 | D62: 0 | E62: 0 | F62: 0 | G62: 0 | H62: 0 | I62: 0 | J62: 0 | K62: 0 | L62: 0 | M62: 0 | N62: 0 | O62: 0 | Q62: 0 | R62: 0
B63: Kuala Pilah | C63: 0 | D63: 0 | E63: 0 | F63: 0 | G63: 0 | H63: 0 | I63: 0 | J63: 0 | K63: 0 | L63: 0 | M63: 0 | N63: 0 | O63: 0 | Q63: 0 | R63: 0
B64: Port Dickson | C64: 0 | D64: 0 | E64: 2 | F64: 0 | G64: 0 | H64: 0 | I64: 0 | J64: 0 | K64: 0 | L64: 0 | M64: 0 | N64: 0 | O64: 2 | Q64: 0 | R64: 0
B65: Rembau | C65: 0 | D65: 0 | E65: 0 | F65: 0 | G65: 0 | H65: 0 | I65: 0 | J65: 0 | K65: 0 | L65: 0 | M65: 0 | N65: 0 | O65: 0 | Q65: 0 | R65: 0
B66: Seremban | C66: 0 | D66: 0 | E66: 305 | F66: 20 | G66: 0 | H66: 0 | I66: 0 | J66: 0 | K66: 0 | L66: 0 | M66: 0 | N66: 0 | O66: 325 | Q66: 0 | R66: 224
B67: Tampin | C67: 0 | D67: 0 | E67: 16 | F67: 0 | G67: 0 | H67: 0 | I67: 0 | J67: 0 | K67: 0 | L67: 0 | M67: 0 | N67: 0 | O67: 16 | Q67: 0 | R67: 0
B69: NEGERI SEMBILAN | C69: 0 | D69: 0 | E69: 323 | F69: 20 | G69: 0 | H69: 0 | I69: 0 | J69: 0 | K69: 0 | L69: 0 | M69: 0 | N69: 0 | O69: 343 | Q69: 0 | R69: 224
A71: INCOMING SUPPLY
A73: H1 2025 | B73: Jelebu | C73: 0 | D73: 8 | E73: 0 | F73: 0 | G73: 0 | H73: 0 | I73: 0 | J73: 0 | K73: 0 | L73: 0 | M73: 0 | N73: 0 | O73: 8 | Q73: 0 | R73: 0
B74: Jempol | C74: 0 | D74: 0 | E74: 0 | F74: 0 | G74: 0 | H74: 0 | I74: 0 | J74: 0 | K74: 0 | L74: 0 | M74: 0 | N74: 0 | O74: 0 | Q74: 0 | R74: 0
B75: Kuala Pilah | C75: 0 | D75: 7 | E75: 0 | F75: 0 | G75: 0 | H75: 0 | I75: 0 | J75: 0 | K75: 0 | L75: 0 | M75: 0 | N75: 0 | O75: 7 | Q75: 0 | R75: 0
B76: Port Dickson | C76: 0 | D76: 17 | E76: 163 | F76: 12 | G76: 2 | H76: 0 | I76: 0 | J76: 0 | K76: 0 | L76: 0 | M76: 0 | N76: 0 | O76: 194 | Q76: 0 | R76: 0
B77: Rembau | C77: 0 | D77: 0 | E77: 35 | F77: 10 | G77: 0 | H77: 0 | I77: 0 | J77: 0 | K77: 0 | L77: 0 | M77: 0 | N77: 0 | O77: 45 | Q77: 0 | R77: 0
B78: Seremban | C78: 0 | D78: 126 | E78: 969 | F78: 172 | G78: 92 | H78: 210 | I78: 0 | J78: 0 | K78: 0 | L78: 0 | M78: 0 | N78: 6 | O78: 1575 | Q78: 0 | R78: 1286
B79: Tampin | C79: 0 | D79: 0 | E79: 58 | F79: 0 | G79: 0 | H79: 0 | I79: 0 | J79: 0 | K79: 0 | L79: 0 | M79: 0 | N79: 0 | O79: 58 | Q79: 0 | R79: 0
B81: NEGERI SEMBILAN | C81: 0 | D81: 158 | E81: 1225 | F81: 194 | G81: 94 | H81: 210 | I81: 0 | J81: 0 | K81: 0 | L81: 0 | M81: 0 | N81: 6 | O81: 1887 | Q81: 0 | R81: 1286
A83: H2 2025 | B83: Jelebu | C83: 0 | D83: 0 | E83: 8 | F83: 0 | G83: 0 | H83: 0 | I83: 0 | J83: 0 | K83: 0 | L83: 0 | M83: 0 | N83: 0 | O83: 8 | Q83: 0 | R83: 0
B84: Jempol | C84: 0 | D84: 0 | E84: 0 | F84: 0 | G84: 0 | H84: 0 | I84: 0 | J84: 0 | K84: 0 | L84: 0 | M84: 0 | N84: 0 | O84: 0 | Q84: 0 | R84: 0
B85: Kuala Pilah | C85: 0 | D85: 7 | E85: 7 | F85: 2 | G85: 0 | H85: 0 | I85: 0 | J85: 0 | K85: 0 | L85: 0 | M85: 0 | N85: 0 | O85: 16 | Q85: 0 | R85: 0
B86: Port Dickson | C86: 0 | D86: 0 | E86: 63 | F86: 1 | G86: 0 | H86: 0 | I86: 0 | J86: 0 | K86: 0 | L86: 0 | M86: 0 | N86: 0 | O86: 64 | Q86: 0 | R86: 0
B87: Rembau | C87: 0 | D87: 0 | E87: 30 | F87: 0 | G87: 0 | H87: 0 | I87: 0 | J87: 0 | K87: 0 | L87: 0 | M87: 0 | N87: 0 | O87: 30 | Q87: 0 | R87: 0
B88: Seremban | C88: 0 | D88: 33 | E88: 495 | F88: 104 | G88: 0 | H88: 1 | I88: 0 | J88: 0 | K88: 2 | L88: 6 | M88: 0 | N88: 0 | O88: 641 | Q88: 0 | R88: 419
B89: Tampin | C89: 0 | D89: 0 | E89: 16 | F89: 0 | G89: 0 | H89: 0 | I89: 0 | J89: 0 | K89: 0 | L89: 0 | M89: 0 | N89: 0 | O89: 16 | Q89: 0 | R89: 0
B91: NEGERI SEMBILAN | C91: 0 | D91: 40 | E91: 619 | F91: 107 | G91: 0 | H91: 1 | I91: 0 | J91: 0 | K91: 2 | L91: 6 | M91: 0 | N91: 0 | O91: 775 | Q91: 0 | R91: 419
A93: H1 2026 | B93: Jelebu | C93: 0 | D93: 0 | E93: 8 | F93: 0 | G93: 0 | H93: 0 | I93: 0 | J93: 0 | K93: 0 | L93: 0 | M93: 0 | N93: 0 | O93: 8 | Q93: 0 | R93: 0
B94: Jempol | C94: 0 | D94: 0 | E94: 0 | F94: 0 | G94: 0 | H94: 0 | I94: 0 | J94: 0 | K94: 0 | L94: 0 | M94: 0 | N94: 0 | O94: 0 | Q94: 0 | R94: 0
B95: Kuala Pilah | C95: 0 | D95: 7 | E95: 7 | F95: 2 | G95: 0 | H95: 0 | I95: 0 | J95: 0 | K95: 0 | L95: 0 | M95: 0 | N95: 0 | O95: 16 | Q95: 0 | R95: 0
B96: Port Dickson | C96: 0 | D96: 26 | E96: 61 | F96: 1 | G96: 0 | H96: 0 | I96: 0 | J96: 0 | K96: 0 | L96: 0 | M96: 0 | N96: 0 | O96: 88 | Q96: 0 | R96: 0
B97: Rembau | C97: 0 | D97: 0 | E97: 30 | F97: 0 | G97: 0 | H97: 0 | I97: 0 | J97: 0 | K97: 0 | L97: 0 | M97: 0 | N97: 0 | O97: 30 | Q97: 0 | R97: 0
B98: Seremban | C98: 0 | D98: 27 | E98: 445 | F98: 116 | G98: 0 | H98: 1 | I98: 0 | J98: 0 | K98: 1 | L98: 6 | M98: 0 | N98: 10 | O98: 606 | Q98: 0 | R98: 195
B99: Tampin | C99: 0 | D99: 0 | E99: 0 | F99: 0 | G99: 0 | H99: 0 | I99: 0 | J99: 0 | K99: 0 | L99: 0 | M99: 0 | N99: 0 | O99: 0 | Q99: 0 | R99: 0
B101: NEGERI SEMBILAN | C101: 0 | D101: 60 | E101: 551 | F101: 119 | G101: 0 | H101: 1 | I101: 0 | J101: 0 | K101: 1 | L101: 6 | M101: 0 | N101: 10 | O101: 748 | Q101: 0 | R101: 195
B103: STARTS
A105: H1 2025 | B105: Jelebu | C105: 0 | D105: 0 | E105: 0 | F105: 0 | G105: 0 | H105: 0 | I105: 0 | J105: 0 | K105: 0 | L105: 0 | M105: 0 | N105: 0 | O105: 0 | Q105: 0 | R105: 0
B106: Jempol | C106: 0 | D106: 0 | E106: 0 | F106: 0 | G106: 0 | H106: 0 | I106: 0 | J106: 0 | K106: 0 | L106: 0 | M106: 0 | N106: 0 | O106: 0 | Q106: 0 | R106: 0
B107: Kuala Pilah | C107: 0 | D107: 0 | E107: 0 | F107: 0 | G107: 0 | H107: 0 | I107: 0 | J107: 0 | K107: 0 | L107: 0 | M107: 0 | N107: 0 | O107: 0 | Q107: 0 | R107: 0
B108: Port Dickson | C108: 0 | D108: 0 | E108: 0 | F108: 0 | G108: 0 | H108: 0 | I108: 0 | J108: 0 | K108: 0 | L108: 0 | M108: 0 | N108: 0 | O108: 0 | Q108: 0 | R108: 0
B109: Rembau | C109: 0 | D109: 0 | E109: 0 | F109: 0 | G109: 0 | H109: 0 | I109: 0 | J109: 0 | K109: 0 | L109: 0 | M109: 0 | N109: 0 | O109: 0 | Q109: 0 | R109: 0
B110: Seremban | C110: 0 | D110: 1 | E110: 62 | F110: 24 | G110: 0 | H110: 0 | I110: 0 | J110: 0 | K110: 0 | L110: 0 | M110: 0 | N110: 0 | O110: 87 | Q110: 0 | R110: 0
B111: Tampin | C111: 0 | D111: 0 | E111: 0 | F111: 0 | G111: 0 | H111: 0 | I111: 0 | J111: 0 | K111: 0 | L111: 0 | M111: 0 | N111: 0 | O111: 0 | Q111: 0 | R111: 0
B113: NEGERI SEMBILAN | C113: 0 | D113: 1 | E113: 62 | F113: 24 | G113: 0 | H113: 0 | I113: 0 | J113: 0 | K113: 0 | L113: 0 | M113: 0 | N113: 0 | O113: 87 | Q113: 0 | R113: 0
A115: H2 2025 | B115: Jelebu | C115: 0 | D115: 0 | E115: 8 | F115: 0 | G115: 0 | H115: 0 | I115: 0 | J115: 0 | K115: 0 | L115: 0 | M115: 0 | N115: 0 | O115: 8 | Q115: 0 | R115: 0
B116: Jempol | C116: 0 | D116: 0 | E116: 0 | F116: 0 | G116: 0 | H116: 0 | I116: 0 | J116: 0 | K116: 0 | L116: 0 | M116: 0 | N116: 0 | O116: 0 | Q116: 0 | R116: 0
B117: Kuala Pilah | C117: 0 | D117: 0 | E117: 7 | F117: 2 | G117: 0 | H117: 0 | I117: 0 | J117: 0 | K117: 0 | L117: 0 | M117: 0 | N117: 0 | O117: 9 | Q117: 0 | R117: 0
B118: Port Dickson | C118: 0 | D118: 0 | E118: 53 | F118: 0 | G118: 0 | H118: 0 | I118: 0 | J118: 0 | K118: 0 | L118: 0 | M118: 0 | N118: 0 | O118: 53 | Q118: 0 | R118: 0
B119: Rembau | C119: 0 | D119: 0 | E119: 30 | F119: 0 | G119: 0 | H119: 0 | I119: 0 | J119: 0 | K119: 0 | L119: 0 | M119: 0 | N119: 0 | O119: 30 | Q119: 0 | R119: 0
B120: Seremban | C120: 0 | D120: 0 | E120: 75 | F120: 45 | G120: 0 | H120: 0 | I120: 0 | J120: 0 | K120: 2 | L120: 6 | M120: 0 | N120: 0 | O120: 128 | Q120: 0 | R120: 0
B121: Tampin | C121: 0 | D121: 0 | E121: 11 | F121: 0 | G121: 0 | H121: 0 | I121: 0 | J121: 0 | K121: 0 | L121: 0 | M121: 0 | N121: 0 | O121: 11 | Q121: 0 | R121: 0
B123: NEGERI SEMBILAN | C123: 0 | D123: 0 | E123: 184 | F123: 47 | G123: 0 | H123: 0 | I123: 0 | J123: 0 | K123: 2 | L123: 6 | M123: 0 | N123: 0 | O123: 239 | Q123: 0 | R123: 0
A125: H1 2026 | B125: Jelebu | C125: 0 | D125: 0 | E125: 0 | F125: 0 | G125: 0 | H125: 0 | I125: 0 | J125: 0 | K125: 0 | L125: 0 | M125: 0 | N125: 0 | O125: 0 | Q125: 0 | R125: 0
B126: Jempol | C126: 0 | D126: 0 | E126: 0 | F126: 0 | G126: 0 | H126: 0 | I126: 0 | J126: 0 | K126: 0 | L126: 0 | M126: 0 | N126: 0 | O126: 0 | Q126: 0 | R126: 0
B127: Kuala Pilah | C127: 0 | D127: 0 | E127: 0 | F127: 0 | G127: 0 | H127: 0 | I127: 0 | J127: 0 | K127: 0 | L127: 0 | M127: 0 | N127: 0 | O127: 0 | Q127: 0 | R127: 0
B128: Port Dickson | C128: 0 | D128: 26 | E128: 0 | F128: 0 | G128: 0 | H128: 0 | I128: 0 | J128: 0 | K128: 0 | L128: 0 | M128: 0 | N128: 0 | O128: 26 | Q128: 0 | R128: 0
...

Sheet 2.9
A1: Table 2.9
A2: PENAWARAN UNIT KEDAI MENGIKUT JENIS DI MELAKA
A3: SUPPLY OF SHOP UNITS BY TYPE IN MELAKA
A5: Quarter Year | B5: Mukim | C5: Prewar | D5: 1 - 1 1/2 storey Terraced | E5: 2 - 2 1/2 storey Terraced | F5: 3 - 3 1/2 storey Terraced | G5: 4 - 4 1/2 storey Terraced | H5: 5 - 5 1/2 storey Terraced | I5: 6-6 1/2 storey Terraced | J5: > 6 1/2 storey Terraced | K5: Detached | L5: Semi-det. | M5: Cluster | N5: Stratified | O5: Total | Q5: Soho | R5: Serviced Apartment
A7: EXISTING STOCK
A9: H1 2025 | B9: Alor Gajah | C9: 241 | D9: 892 | E9: 1929 | F9: 402 | G9: 0 | H9: 0 | I9: 0 | J9: 1 | K9: 3 | L9: 0 | M9: 0 | N9: 0 | O9: 3468 | Q9: 0 | R9: 0
B10: Jasin | C10: 142 | D10: 466 | E10: 1375 | F10: 374 | G10: 0 | H10: 0 | I10: 0 | J10: 0 | K10: 38 | L10: 30 | M10: 0 | N10: 0 | O10: 2425 | Q10: 0 | R10: 0
B11: Melaka Tengah | C11: 1711 | D11: 1184 | E11: 8123 | F11: 3847 | G11: 2009 | H11: 85 | I11: 106 | J11: 174 | K11: 40 | L11: 16 | M11: 0 | N11: 1411 | O11: 18706 | Q11: 0 | R11: 10820
B13: MELAKA | C13: 2094 | D13: 2542 | E13: 11427 | F13: 4623 | G13: 2009 | H13: 85 | I13: 106 | J13: 175 | K13: 81 | L13: 46 | M13: 0 | N13: 1411 | O13: 24599 | Q13: 0 | R13: 10820
A15: H2 2025 | B15: Alor Gajah | C15: 241 | D15: 921 | E15: 2002 | F15: 402 | G15: 0 | H15: 0 | I15: 0 | J15: 1 | K15: 3 | L15: 0 | M15: 0 | N15: 0 | O15: 3570 | Q15: 0 | R15: 0
B16: Jasin | C16: 142 | D16: 466 | E16: 1416 | F16: 374 | G16: 0 | H16: 0 | I16: 0 | J16: 0 | K16: 38 | L16: 30 | M16: 0 | N16: 0 | O16: 2466 | Q16: 0 | R16: 0
B17: Melaka Tengah | C17: 1711 | D17: 1184 | E17: 8225 | F17: 3916 | G17: 2009 | H17: 85 | I17: 106 | J17: 174 | K17: 40 | L17: 16 | M17: 0 | N17: 1411 | O17: 18877 | Q17: 0 | R17: 12420
B19: MELAKA | C19: 2094 | D19: 2571 | E19: 11643 | F19: 4692 | G19: 2009 | H19: 85 | I19: 106 | J19: 175 | K19: 81 | L19: 46 | M19: 0 | N19: 1411 | O19: 24913 | Q19: 0 | R19: 12420
A21: H1 2026 | B21: Alor Gajah | C21: 241 | D21: 933 | E21: 2013 | F21: 402 | G21: 0 | H21: 0 | I21: 0 | J21: 1 | K21: 3 | L21: 0 | M21: 0 | N21: 0 | O21: 3593 | Q21: 0 | R21: 0
B22: Jasin | C22: 142 | D22: 466 | E22: 1466 | F22: 374 | G22: 0 | H22: 0 | I22: 0 | J22: 0 | K22: 38 | L22: 30 | M22: 0 | N22: 0 | O22: 2516 | Q22: 0 | R22: 0
B23: Melaka Tengah | C23: 1711 | D23: 1184 | E23: 8225 | F23: 3916 | G23: 2009 | H23: 85 | I23: 106 | J23: 174 | K23: 40 | L23: 16 | M23: 0 | N23: 1411 | O23: 18877 | Q23: 352 | R23: 12420
B25: MELAKA | C25: 2094 | D25: 2583 | E25: 11704 | F25: 4692 | G25: 2009 | H25: 85 | I25: 106 | J25: 175 | K25: 81 | L25: 46 | M25: 0 | N25: 1411 | O25: 24986 | Q25: 352 | R25: 12420
B27: COMPLETION
A29: H1 2025 | B29: Alor Gajah | C29: 0 | D29: 0 | E29: 0 | F29: 0 | G29: 0 | H29: 0 | I29: 0 | J29: 0 | K29: 0 | L29: 0 | M29: 0 | N29: 0 | O29: 0 | Q29: 0 | R29: 0
B30: Jasin | C30: 0 | D30: 0 | E30: 16 | F30: 0 | G30: 0 | H30: 0 | I30: 0 | J30: 0 | K30: 0 | L30: 0 | M30: 0 | N30: 0 | O30: 16 | Q30: 0 | R30: 0
B31: Melaka Tengah | C31: 0 | D31: 21 | E31: 116 | F31: 0 | G31: 0 | H31: 0 | I31: 0 | J31: 0 | K31: 0 | L31: 0 | M31: 0 | N31: 34 | O31: 171 | Q31: 0 | R31: 130
B33: MELAKA | C33: 0 | D33: 21 | E33: 132 | F33: 0 | G33: 0 | H33: 0 | I33: 0 | J33: 0 | K33: 0 | L33: 0 | M33: 0 | N33: 34 | O33: 187 | Q33: 0 | R33: 130
A35: H2 2025 | B35: Alor Gajah | C35: 0 | D35: 0 | E35: 50 | F35: 0 | G35: 0 | H35: 0 | I35: 0 | J35: 0 | K35: 0 | L35: 0 | M35: 0 | N35: 0 | O35: 50 | Q35: 0 | R35: 0
B36: Jasin | C36: 0 | D36: 0 | E36: 36 | F36: 0 | G36: 0 | H36: 0 | I36: 0 | J36: 0 | K36: 0 | L36: 0 | M36: 0 | N36: 0 | O36: 36 | Q36: 0 | R36: 0
B37: Melaka Tengah | C37: 0 | D37: 0 | E37: 40 | F37: 69 | G37: 0 | H37: 0 | I37: 0 | J37: 0 | K37: 0 | L37: 0 | M37: 0 | N37: 0 | O37: 109 | Q37: 0 | R37: 1134
B39: MELAKA | C39: 0 | D39: 0 | E39: 126 | F39: 69 | G39: 0 | H39: 0 | I39: 0 | J39: 0 | K39: 0 | L39: 0 | M39: 0 | N39: 0 | O39: 195 | Q39: 0 | R39: 1134
A41: H1 2026 | B41: Alor Gajah | C41: 0 | D41: 12 | E41: 11 | F41: 0 | G41: 0 | H41: 0 | I41: 0 | J41: 0 | K41: 0 | L41: 0 | M41: 0 | N41: 0 | O41: 23 | Q41: 0 | R41: 0
B42: Jasin | C42: 0 | D42: 0 | E42: 0 | F42: 0 | G42: 0 | H42: 0 | I42: 0 | J42: 0 | K42: 0 | L42: 0 | M42: 0 | N42: 0 | O42: 0 | Q42: 0 | R42: 0
B43: Melaka Tengah | C43: 0 | D43: 0 | E43: 0 | F43: 0 | G43: 0 | H43: 0 | I43: 0 | J43: 0 | K43: 0 | L43: 0 | M43: 0 | N43: 0 | O43: 0 | Q43: 352 | R43: 0
B45: MELAKA | C45: 0 | D45: 12 | E45: 11 | F45: 0 | G45: 0 | H45: 0 | I45: 0 | J45: 0 | K45: 0 | L45: 0 | M45: 0 | N45: 0 | O45: 23 | Q45: 352 | R45: 0
A47: INCOMING SUPPLY
A49: H1 2025 | B49: Alor Gajah | C49: 0 | D49: 0 | E49: 115 | F49: 25 | G49: 0 | H49: 0 | I49: 0 | J49: 0 | K49: 0 | L49: 0 | M49: 0 | N49: 0 | O49: 140 | Q49: 0 | R49: 0
B50: Jasin | C50: 0 | D50: 67 | E50: 228 | F50: 0 | G50: 0 | H50: 0 | I50: 0 | J50: 0 | K50: 0 | L50: 0 | M50: 0 | N50: 0 | O50: 295 | Q50: 0 | R50: 0
B51: Melaka Tengah | C51: 0 | D51: 26 | E51: 267 | F51: 138 | G51: 0 | H51: 0 | I51: 0 | J51: 0 | K51: 1 | L51: 12 | M51: 0 | N51: 148 | O51: 592 | Q51: 352 | R51: 6344
B53: MELAKA | C53: 0 | D53: 93 | E53: 610 | F53: 163 | G53: 0 | H53: 0 | I53: 0 | J53: 0 | K53: 1 | L53: 12 | M53: 0 | N53: 148 | O53: 1027 | Q53: 352 | R53: 6344
A55: H2 2025 | B55: Alor Gajah | C55: 0 | D55: 0 | E55: 42 | F55: 0 | G55: 0 | H55: 0 | I55: 0 | J55: 0 | K55: 0 | L55: 6 | M55: 0 | N55: 0 | O55: 48 | Q55: 0 | R55: 0
B56: Jasin | C56: 0 | D56: 74 | E56: 232 | F56: 0 | G56: 0 | H56: 0 | I56: 0 | J56: 0 | K56: 0 | L56: 0 | M56: 0 | N56: 0 | O56: 306 | Q56: 0 | R56: 0
B57: Melaka Tengah | C57: 0 | D57: 26 | E57: 166 | F57: 2 | G57: 0 | H57: 0 | I57: 0 | J57: 0 | K57: 1 | L57: 12 | M57: 0 | N57: 3 | O57: 210 | Q57: 352 | R57: 4763
B59: MELAKA | C59: 0 | D59: 100 | E59: 440 | F59: 2 | G59: 0 | H59: 0 | I59: 0 | J59: 0 | K59: 1 | L59: 18 | M59: 0 | N59: 3 | O59: 564 | Q59: 352 | R59: 4763
A61: H1 2026 | B61: Alor Gajah | C61: 0 | D61: 0 | E61: 42 | F61: 0 | G61: 0 | H61: 0 | I61: 0 | J61: 0 | K61: 0 | L61: 6 | M61: 0 | N61: 0 | O61: 48 | Q61: 0 | R61: 0
B62: Jasin | C62: 0 | D62: 74 | E62: 109 | F62: 0 | G62: 0 | H62: 0 | I62: 0 | J62: 0 | K62: 0 | L62: 0 | M62: 0 | N62: 0 | O62: 183 | Q62: 0 | R62: 0
B63: Melaka Tengah | C63: 0 | D63: 26 | E63: 182 | F63: 2 | G63: 0 | H63: 0 | I63: 0 | J63: 0 | K63: 1 | L63: 12 | M63: 0 | N63: 3 | O63: 226 | Q63: 0 | R63: 4763
B65: MELAKA | C65: 0 | D65: 100 | E65: 333 | F65: 2 | G65: 0 | H65: 0 | I65: 0 | J65: 0 | K65: 1 | L65: 18 | M65: 0 | N65: 3 | O65: 457 | Q65: 0 | R65: 4763
B67: STARTS
A69: H1 2025 | B69: Alor Gajah | C69: 0 | D69: 0 | E69: 0 | F69: 0 | G69: 0 | H69: 0 | I69: 0 | J69: 0 | K69: 0 | L69: 0 | M69: 0 | N69: 0 | O69: 0 | Q69: 0 | R69: 0
B70: Jasin | C70: 0 | D70: 0 | E70: 12 | F70: 0 | G70: 0 | H70: 0 | I70: 0 | J70: 0 | K70: 0 | L70: 0 | M70: 0 | N70: 0 | O70: 12 | Q70: 0 | R70: 0
B71: Melaka Tengah | C71: 0 | D71: 0 | E71: 0 | F71: 0 | G71: 0 | H71: 0 | I71: 0 | J71: 0 | K71: 0 | L71: 12 | M71: 0 | N71: 0 | O71: 12 | Q71: 0 | R71: 0
B73: MELAKA | C73: 0 | D73: 0 | E73: 12 | F73: 0 | G73: 0 | H73: 0 | I73: 0 | J73: 0 | K73: 0 | L73: 12 | M73: 0 | N73: 0 | O73: 24 | Q73: 0 | R73: 0
A75: H2 2025 | B75: Alor Gajah | C75: 0 | D75: 0 | E75: 0 | F75: 0 | G75: 0 | H75: 0 | I75: 0 | J75: 0 | K75: 0 | L75: 0 | M75: 0 | N75: 0 | O75: 0 | Q75: 0 | R75: 0
B76: Jasin | C76: 0 | D76: 0 | E76: 34 | F76: 0 | G76: 0 | H76: 0 | I76: 0 | J76: 0 | K76: 0 | L76: 0 | M76: 0 | N76: 0 | O76: 34 | Q76: 0 | R76: 0
B77: Melaka Tengah | C77: 0 | D77: 0 | E77: 39 | F77: 0 | G77: 0 | H77: 0 | I77: 0 | J77: 0 | K77: 0 | L77: 0 | M77: 0 | N77: 0 | O77: 39 | Q77: 0 | R77: 0
B79: MELAKA | C79: 0 | D79: 0 | E79: 73 | F79: 0 | G79: 0 | H79: 0 | I79: 0 | J79: 0 | K79: 0 | L79: 0 | M79: 0 | N79: 0 | O79: 73 | Q79: 0 | R79: 0
A81: H1 2026 | B81: Alor Gajah | C81: 0 | D81: 0 | E81: 0 | F81: 0 | G81: 0 | H81: 0 | I81: 0 | J81: 0 | K81: 0 | L81: 0 | M81: 0 | N81: 0 | O81: 0 | Q81: 0 | R81: 0
B82: Jasin | C82: 0 | D82: 0 | E82: 0 | F82: 0 | G82: 0 | H82: 0 | I82: 0 | J82: 0 | K82: 0 | L82: 0 | M82: 0 | N82: 0 | O82: 0 | Q82: 0 | R82: 0
B83: Melaka Tengah | C83: 0 | D83: 0 | E83: 16 | F83: 0 | G83: 0 | H83: 0 | I83: 0 | J83: 0 | K83: 0 | L83: 0 | M83: 0 | N83: 0 | O83: 16 | Q83: 0 | R83: 0
B85: MELAKA | C85: 0 | D85: 0 | E85: 16 | F85: 0 | G85: 0 | H85: 0 | I85: 0 | J85: 0 | K85: 0 | L85: 0 | M85: 0 | N85: 0 | O85: 16 | Q85: 0 | R85: 0
A87: PLANNED SUPPLY
A89: H1 2025 | B89: Alor Gajah | C89: 0 | D89: 61 | E89: 261 | F89: 28 | G89: 0 | H89: 0 | I89: 0 | J89: 0 | K89: 0 | L89: 12 | M89: 0 | N89: 0 | O89: 362 | Q89: 0 | R89: 0
B90: Jasin | C90: 0 | D90: 41 | E90: 253 | F90: 2 | G90: 0 | H90: 0 | I90: 0 | J90: 0 | K90: 0 | L90: 0 | M90: 0 | N90: 0 | O90: 296 | Q90: 0 | R90: 0
B91: Melaka Tengah | C91: 0 | D91: 42 | E91: 225 | F91: 155 | G91: 178 | H91: 0 | I91: 0 | J91: 0 | K91: 0 | L91: 0 | M91: 0 | N91: 72 | O91: 672 | Q91: 0 | R91: 4255
B93: MELAKA | C93: 0 | D93: 144 | E93: 739 | F93: 185 | G93: 178 | H93: 0 | I93: 0 | J93: 0 | K93: 0 | L93: 12 | M93: 0 | N93: 72 | O93: 1330 | Q93: 0 | R93: 4255
A95: H2 2025 | B95: Alor Gajah | C95: 0 | D95: 12 | E95: 61 | F95: 20 | G95: 0 | H95: 0 | I95: 0 | J95: 0 | K95: 0 | L95: 6 | M95: 0 | N95: 0 | O95: 99 | Q95: 0 | R95: 0
B96: Jasin | C96: 0 | D96: 34 | E96: 233 | F96: 2 | G96: 0 | H96: 0 | I96: 0 | J96: 0 | K96: 0 | L96: 0 | M96: 0 | N96: 0 | O96: 269 | Q96: 0 | R96: 0
B97: Melaka Tengah | C97: 0 | D97: 0 | E97: 236 | F97: 157 | G97: 53 | H97: 0 | I97: 0 | J97: 0 | K97: 0 | L97: 0 | M97: 0 | N97: 29 | O97: 475 | Q97: 0 | R97: 2330
B99: MELAKA | C99: 0 | D99: 46 | E99: 530 | F99: 179 | G99: 53 | H99: 0 | I99: 0 | J99: 0 | K99: 0 | L99: 6 | M99: 0 | N99: 29 | O99: 843 | Q99: 0 | R99: 2330
A101: H1 2026 | B101: Alor Gajah | C101: 0 | D101: 0 | E101: 64 | F101: 20 | G101: 0 | H101: 0 | I101: 0 | J101: 0 | K101: 0 | L101: 6 | M101: 0 | N101: 0 | O101: 90 | Q101: 0 | R101: 0
B102: Jasin | C102: 0 | D102: 82 | E102: 245 | F102: 2 | G102: 0 | H102: 0 | I102: 0 | J102: 0 | K102: 0 | L102: 0 | M102: 0 | N102: 0 | O102: 329 | Q102: 0 | R102: 0
B103: Melaka Tengah | C103: 0 | D103: 0 | E103: 232 | F103: 267 | G103: 54 | H103: 0 | I103: 0 | J103: 0 | K103: 0 | L103: 8 | M103: 0 | N103: 29 | O103: 590 | Q103: 0 | R103: 2330
B105: MELAKA | C105: 0 | D105: 82 | E105: 541 | F105: 289 | G105: 54 | H105: 0 | I105: 0 | J105: 0 | K105: 0 | L105: 14 | M105: 0 | N105: 29 | O105: 1009 | Q105: 0 | R105: 2330
B107: NEW PLANNED SUPPLY
A109: H1 2025 | B109: Alor Gajah | C109: 0 | D109: 0 | E109: 0 | F109: 0 | G109: 0 | H109: 0 | I109: 0 | J109: 0 | K109: 0 | L109: 0 | M109: 0 | N109: 0 | O109: 0 | Q109: 0 | R109: 0
B110: Jasin | C110: 0 | D110: 0 | E110: 0 | F110: 0 | G110: 0 | H110: 0 | I110: 0 | J110: 0 | K110: 0 | L110: 0 | M110: 0 | N110: 0 | O110: 0 | Q110: 0 | R110: 0
B111: Melaka Tengah | C111: 0 | D111: 0 | E111: 0 | F111: 86 | G111: 0 | H111: 0 | I111: 0 | J111: 0 | K111: 0 | L111: 0 | M111: 0 | N111: 0 | O111: 86 | Q111: 0 | R111: 252
B113: MELAKA | C113: 0 | D113: 0 | E113: 0 | F113: 86 | G113: 0 | H113: 0 | I113: 0 | J113: 0 | K113: 0 | L113: 0 | M113: 0 | N113: 0 | O113: 86 | Q113: 0 | R113: 252
A115: H2 2025 | B115: Alor Gajah | C115: 0 | D115: 0 | E115: 0 | F115: 0 | G115: 0 | H115: 0 | I115: 0 | J115: 0 | K115: 0 | L115: 0 | M115: 0 | N115: 0 | O115: 0 | Q115: 0 | R115: 0
B116: Jasin | C116: 0 | D116: 0 | E116: 52 | F116: 0 | G116: 0 | H116: 0 | I116: 0 | J116: 0 | K116: 0 | L116: 0 | M116: 0 | N116: 0 | O116: 52 | Q116: 0 | R116: 0
B117: Melaka Tengah | C117: 0 | D117: 0 | E117: 91 | F117: 2 | G117: 0 | H117: 0 | I117: 0 | J117: 0 | K117: 0 | L117: 0 | M117: 0 | N117: 23 | O117: 116 | Q117: 0 | R117: 1765
B119: MELAKA | C119: 0 | D119: 0 | E119: 143 | F119: 2 | G119: 0 | H119: 0 | I119: 0 | J119: 0 | K119: 0 | L119: 0 | M119: 0 | N119: 23 | O119: 168 | Q119: 0 | R119: 1765
A121: H1 2026 | B121: Alor Gajah | C121: 0 | D121: 0 | E121: 0 | F121: 0 | G121: 0 | H121: 0 | I121: 0 | J121: 0 | K121: 0 | L121: 0 | M121: 0 | N121: 0 | O121: 0 | Q121: 0 | R121: 0
B122: Jasin | C122: 0 | D122: 0 | E122: 0 | F122: 0 | G122: 0 | H122: 0 | I122: 0 | J122: 0 | K122: 0 | L122: 0 | M122: 0 | N122: 0 | O122: 0 | Q122: 0 | R122: 0
B123: Melaka Tengah | C123: 0 | D123: 0 | E123: 0 | F123: 43 | G123: 1 | H123: 0 | I123: 0 | J123: 0 | K123: 0 | L123: 0 | M123: 0 | N123: 0 | O123: 44 | Q123: 0 | R123: 0
B125: MELAKA | C125: 0 | D125: 0 | E125: 0 | F125: 43 | G125: 1 | H125: 0 | I125: 0 | J125: 0 | K125: 0 | L125: 0 | M125: 0 | N125: 0 | O125: 44 | Q125: 0 | R125: 0

Sheet 2.10
A1: Table 2.10
A2: PENAWARAN UNIT KEDAI MENGIKUT JENIS DI KEDAH
A3: SUPPLY OF SHOP UNITS BY TYPE IN KEDAH
A5: Quarter Year | B5: Mukim | C5: Prewar | D5: 1 - 1 1/2 storey Terraced | E5: 2 - 2 1/2 storey Terraced | F5: 3 - 3 1/2 storey Terraced | G5: 4 - 4 1/2 storey Terraced | H5: 5 - 5 1/2 storey Terraced | I5: 6-6 1/2 storey Terraced | J5: > 6 1/2 storey Terraced | K5: Detached | L5: Semi-det. | M5: Cluster | N5: Stratified | O5: Total | Q5: Soho | R5: Serviced Apartment
A7: EXISTING STOCK
A9: H1 2025 | B9: Baling | C9: 184 | D9: 180 | E9: 468 | F9: 30 | G9: 0 | H9: 0 | I9: 0 | J9: 0 | K9: 1 | L9: 0 | M9: 0 | N9: 0 | O9: 863 | Q9: 0 | R9: 0
B10: Bandar Bharu | C10: 98 | D10: 70 | E10: 233 | F10: 3 | G10: 0 | H10: 0 | I10: 0 | J10: 0 | K10: 3 | L10: 0 | M10: 0 | N10: 0 | O10: 407 | Q10: 0 | R10: 0
B11: Kota Setar | C11: 454 | D11: 500 | E11: 4260 | F11: 1357 | G11: 65 | H11: 5 | I11: 8 | J11: 13 | K11: 63 | L11: 20 | M11: 0 | N11: 81 | O11: 6826 | Q11: 0 | R11: 0
B12: Kuala Muda | C12: 497 | D12: 2648 | E12: 4942 | F12: 1449 | G12: 63 | H12: 17 | I12: 0 | J12: 0 | K12: 12 | L12: 36 | M12: 0 | N12: 0 | O12: 9664 | Q12: 0 | R12: 0
B13: Kubang Pasu | C13: 45 | D13: 374 | E13: 1733 | F13: 305 | G13: 3 | H13: 0 | I13: 0 | J13: 0 | K13: 13 | L13: 0 | M13: 0 | N13: 6 | O13: 2479 | Q13: 0 | R13: 64
B14: Kulim | C14: 453 | D14: 1806 | E14: 4053 | F14: 916 | G14: 4 | H14: 0 | I14: 0 | J14: 0 | K14: 2 | L14: 0 | M14: 0 | N14: 28 | O14: 7262 | Q14: 0 | R14: 0
B15: Langkawi | C15: 22 | D15: 206 | E15: 945 | F15: 306 | G15: 63 | H15: 0 | I15: 0 | J15: 0 | K15: 158 | L15: 10 | M15: 0 | N15: 159 | O15: 1869 | Q15: 0 | R15: 573
B16: Padang Terap | C16: 38 | D16: 138 | E16: 164 | F16: 1 | G16: 1 | H16: 0 | I16: 0 | J16: 0 | K16: 3 | L16: 0 | M16: 0 | N16: 0 | O16: 345 | Q16: 0 | R16: 0
B17: Pendang | C17: 20 | D17: 84 | E17: 522 | F17: 0 | G17: 0 | H17: 0 | I17: 0 | J17: 0 | K17: 27 | L17: 0 | M17: 0 | N17: 0 | O17: 653 | Q17: 0 | R17: 0
B18: Pokok Sena | C18: 10 | D18: 37 | E18: 389 | F18: 3 | G18: 4 | H18: 0 | I18: 0 | J18: 0 | K18: 0 | L18: 0 | M18: 0 | N18: 0 | O18: 443 | Q18: 0 | R18: 0
B19: Sik | C19: 0 | D19: 117 | E19: 103 | F19: 4 | G19: 0 | H19: 0 | I19: 0 | J19: 0 | K19: 0 | L19: 10 | M19: 0 | N19: 0 | O19: 234 | Q19: 0 | R19: 0
B20: Yan | C20: 26 | D20: 50 | E20: 335 | F20: 2 | G20: 0 | H20: 0 | I20: 0 | J20: 0 | K20: 1 | L20: 0 | M20: 0 | N20: 0 | O20: 414 | Q20: 0 | R20: 0
B22: KEDAH | C22: 1847 | D22: 6210 | E22: 18147 | F22: 4376 | G22: 203 | H22: 22 | I22: 8 | J22: 13 | K22: 283 | L22: 76 | M22: 0 | N22: 274 | O22: 31459 | Q22: 0 | R22: 637
A24: H2 2025 | B24: Baling | C24: 184 | D24: 180 | E24: 459 | F24: 30 | G24: 0 | H24: 0 | I24: 0 | J24: 0 | K24: 1 | L24: 0 | M24: 0 | N24: 0 | O24: 854 | Q24: 0 | R24: 0
B25: Bandar Bharu | C25: 98 | D25: 70 | E25: 258 | F25: 3 | G25: 0 | H25: 0 | I25: 0 | J25: 0 | K25: 3 | L25: 0 | M25: 0 | N25: 0 | O25: 432 | Q25: 0 | R25: 0
B26: Kota Setar | C26: 454 | D26: 500 | E26: 4244 | F26: 1357 | G26: 65 | H26: 5 | I26: 8 | J26: 13 | K26: 63 | L26: 20 | M26: 0 | N26: 81 | O26: 6810 | Q26: 0 | R26: 0
B27: Kuala Muda | C27: 497 | D27: 2691 | E27: 4922 | F27: 1469 | G27: 63 | H27: 17 | I27: 0 | J27: 0 | K27: 13 | L27: 36 | M27: 0 | N27: 0 | O27: 9708 | Q27: 0 | R27: 0
B28: Kubang Pasu | C28: 45 | D28: 374 | E28: 1769 | F28: 326 | G28: 3 | H28: 0 | I28: 0 | J28: 0 | K28: 13 | L28: 0 | M28: 0 | N28: 6 | O28: 2536 | Q28: 0 | R28: 64
B29: Kulim | C29: 453 | D29: 1891 | E29: 4288 | F29: 944 | G29: 4 | H29: 0 | I29: 0 | J29: 0 | K29: 2 | L29: 14 | M29: 0 | N29: 28 | O29: 7624 | Q29: 0 | R29: 0
B30: Langkawi | C30: 22 | D30: 206 | E30: 945 | F30: 281 | G30: 63 | H30: 0 | I30: 0 | J30: 0 | K30: 159 | L30: 10 | M30: 0 | N30: 159 | O30: 1845 | Q30: 0 | R30: 573
B31: Padang Terap | C31: 38 | D31: 136 | E31: 164 | F31: 1 | G31: 1 | H31: 0 | I31: 0 | J31: 0 | K31: 3 | L31: 0 | M31: 0 | N31: 0 | O31: 343 | Q31: 0 | R31: 0
B32: Pendang | C32: 20 | D32: 84 | E32: 522 | F32: 0 | G32: 0 | H32: 0 | I32: 0 | J32: 0 | K32: 27 | L32: 0 | M32: 0 | N32: 0 | O32: 653 | Q32: 0 | R32: 0
B33: Pokok Sena | C33: 10 | D33: 37 | E33: 354 | F33: 4 | G33: 0 | H33: 0 | I33: 0 | J33: 0 | K33: 0 | L33: 0 | M33: 0 | N33: 0 | O33: 405 | Q33: 0 | R33: 0
B34: Sik | C34: 0 | D34: 117 | E34: 103 | F34: 4 | G34: 0 | H34: 0 | I34: 0 | J34: 0 | K34: 0 | L34: 0 | M34: 0 | N34: 0 | O34: 224 | Q34: 0 | R34: 0
B35: Yan | C35: 0 | D35: 19 | E35: 211 | F35: 3 | G35: 0 | H35: 0 | I35: 0 | J35: 0 | K35: 1 | L35: 0 | M35: 0 | N35: 0 | O35: 234 | Q35: 0 | R35: 0
B37: KEDAH | C37: 1821 | D37: 6305 | E37: 18239 | F37: 4422 | G37: 199 | H37: 22 | I37: 8 | J37: 13 | K37: 285 | L37: 80 | M37: 0 | N37: 274 | O37: 31668 | Q37: 0 | R37: 637
A39: H1 2026 | B39: Baling | C39: 184 | D39: 180 | E39: 467 | F39: 30 | G39: 0 | H39: 0 | I39: 0 | J39: 0 | K39: 1 | L39: 0 | M39: 0 | N39: 0 | O39: 862 | Q39: 0 | R39: 0
B40: Bandar Bharu | C40: 98 | D40: 70 | E40: 258 | F40: 3 | G40: 0 | H40: 0 | I40: 0 | J40: 0 | K40: 3 | L40: 0 | M40: 0 | N40: 0 | O40: 432 | Q40: 0 | R40: 0
B41: Kota Setar | C41: 454 | D41: 500 | E41: 4244 | F41: 1357 | G41: 65 | H41: 5 | I41: 8 | J41: 13 | K41: 56 | L41: 20 | M41: 0 | N41: 81 | O41: 6803 | Q41: 0 | R41: 0
B42: Kuala Muda | C42: 497 | D42: 2746 | E42: 4955 | F42: 1481 | G42: 63 | H42: 17 | I42: 0 | J42: 0 | K42: 13 | L42: 42 | M42: 0 | N42: 0 | O42: 9814 | Q42: 0 | R42: 0
B43: Kubang Pasu | C43: 45 | D43: 381 | E43: 1772 | F43: 329 | G43: 3 | H43: 0 | I43: 0 | J43: 0 | K43: 13 | L43: 0 | M43: 0 | N43: 6 | O43: 2549 | Q43: 0 | R43: 64
B44: Kulim | C44: 453 | D44: 1891 | E44: 4295 | F44: 944 | G44: 4 | H44: 0 | I44: 0 | J44: 0 | K44: 2 | L44: 14 | M44: 0 | N44: 28 | O44: 7631 | Q44: 0 | R44: 0
B45: Langkawi | C45: 22 | D45: 206 | E45: 951 | F45: 307 | G45: 63 | H45: 0 | I45: 0 | J45: 0 | K45: 159 | L45: 10 | M45: 0 | N45: 159 | O45: 1877 | Q45: 0 | R45: 1404
B46: Padang Terap | C46: 38 | D46: 136 | E46: 164 | F46: 1 | G46: 1 | H46: 0 | I46: 0 | J46: 0 | K46: 3 | L46: 0 | M46: 0 | N46: 0 | O46: 343 | Q46: 0 | R46: 0
B47: Pendang | C47: 20 | D47: 84 | E47: 522 | F47: 0 | G47: 0 | H47: 0 | I47: 0 | J47: 0 | K47: 27 | L47: 0 | M47: 0 | N47: 0 | O47: 653 | Q47: 0 | R47: 0
B48: Pokok Sena | C48: 10 | D48: 37 | E48: 389 | F48: 7 | G48: 0 | H48: 0 | I48: 0 | J48: 0 | K48: 0 | L48: 0 | M48: 0 | N48: 0 | O48: 443 | Q48: 0 | R48: 0
B49: Sik | C49: 0 | D49: 117 | E49: 103 | F49: 4 | G49: 0 | H49: 0 | I49: 0 | J49: 0 | K49: 0 | L49: 10 | M49: 0 | N49: 0 | O49: 234 | Q49: 0 | R49: 0
B50: Yan | C50: 26 | D50: 50 | E50: 334 | F50: 3 | G50: 0 | H50: 0 | I50: 0 | J50: 0 | K50: 1 | L50: 0 | M50: 0 | N50: 0 | O50: 414 | Q50: 0 | R50: 0
B52: KEDAH | C52: 1847 | D52: 6398 | E52: 18454 | F52: 4466 | G52: 199 | H52: 22 | I52: 8 | J52: 13 | K52: 278 | L52: 96 | M52: 0 | N52: 274 | O52: 32055 | Q52: 0 | R52: 1468
B54: COMPLETION
A56: H1 2025 | B56: Baling | C56: 0 | D56: 0 | E56: 0 | F56: 0 | G56: 0 | H56: 0 | I56: 0 | J56: 0 | K56: 0 | L56: 0 | M56: 0 | N56: 0 | O56: 0 | Q56: 0 | R56: 0
B57: Bandar Bharu | C57: 0 | D57: 0 | E57: 0 | F57: 0 | G57: 0 | H57: 0 | I57: 0 | J57: 0 | K57: 0 | L57: 0 | M57: 0 | N57: 0 | O57: 0 | Q57: 0 | R57: 0
B58: Kota Setar | C58: 0 | D58: 0 | E58: 0 | F58: 0 | G58: 0 | H58: 0 | I58: 0 | J58: 0 | K58: 0 | L58: 0 | M58: 0 | N58: 0 | O58: 0 | Q58: 0 | R58: 0
B59: Kuala Muda | C59: 0 | D59: 0 | E59: 0 | F59: 0 | G59: 0 | H59: 0 | I59: 0 | J59: 0 | K59: 0 | L59: 0 | M59: 0 | N59: 0 | O59: 0 | Q59: 0 | R59: 0
B60: Kubang Pasu | C60: 0 | D60: 7 | E60: 15 | F60: 3 | G60: 0 | H60: 0 | I60: 0 | J60: 0 | K60: 0 | L60: 0 | M60: 0 | N60: 0 | O60: 25 | Q60: 0 | R60: 0
B61: Kulim | C61: 0 | D61: 0 | E61: 0 | F61: 0 | G61: 0 | H61: 0 | I61: 0 | J61: 0 | K61: 0 | L61: 0 | M61: 0 | N61: 0 | O61: 0 | Q61: 0 | R61: 0
B62: Langkawi | C62: 0 | D62: 0 | E62: 0 | F62: 0 | G62: 0 | H62: 0 | I62: 0 | J62: 0 | K62: 0 | L62: 0 | M62: 0 | N62: 0 | O62: 0 | Q62: 0 | R62: 0
B63: Padang Terap | C63: 0 | D63: 0 | E63: 0 | F63: 0 | G63: 0 | H63: 0 | I63: 0 | J63: 0 | K63: 0 | L63: 0 | M63: 0 | N63: 0 | O63: 0 | Q63: 0 | R63: 0
B64: Pendang | C64: 0 | D64: 0 | E64: 0 | F64: 0 | G64: 0 | H64: 0 | I64: 0 | J64: 0 | K64: 0 | L64: 0 | M64: 0 | N64: 0 | O64: 0 | Q64: 0 | R64: 0
B65: Pokok Sena | C65: 0 | D65: 0 | E65: 0 | F65: 0 | G65: 0 | H65: 0 | I65: 0 | J65: 0 | K65: 0 | L65: 0 | M65: 0 | N65: 0 | O65: 0 | Q65: 0 | R65: 0
B66: Sik | C66: 0 | D66: 0 | E66: 0 | F66: 0 | G66: 0 | H66: 0 | I66: 0 | J66: 0 | K66: 0 | L66: 0 | M66: 0 | N66: 0 | O66: 0 | Q66: 0 | R66: 0
B67: Yan | C67: 0 | D67: 0 | E67: 0 | F67: 0 | G67: 0 | H67: 0 | I67: 0 | J67: 0 | K67: 0 | L67: 0 | M67: 0 | N67: 0 | O67: 0 | Q67: 0 | R67: 0
B69: KEDAH | C69: 0 | D69: 7 | E69: 15 | F69: 3 | G69: 0 | H69: 0 | I69: 0 | J69: 0 | K69: 0 | L69: 0 | M69: 0 | N69: 0 | O69: 25 | Q69: 0 | R69: 0
A71: H2 2025 | B71: Baling | C71: 0 | D71: 0 | E71: 0 | F71: 0 | G71: 0 | H71: 0 | I71: 0 | J71: 0 | K71: 0 | L71: 0 | M71: 0 | N71: 0 | O71: 0 | Q71: 0 | R71: 0
B72: Bandar Bharu | C72: 0 | D72: 0 | E72: 11 | F72: 0 | G72: 0 | H72: 0 | I72: 0 | J72: 0 | K72: 0 | L72: 0 | M72: 0 | N72: 0 | O72: 11 | Q72: 0 | R72: 0
B73: Kota Setar | C73: 0 | D73: 0 | E73: 0 | F73: 0 | G73: 0 | H73: 0 | I73: 0 | J73: 0 | K73: 0 | L73: 0 | M73: 0 | N73: 0 | O73: 0 | Q73: 0 | R73: 0
B74: Kuala Muda | C74: 0 | D74: 43 | E74: 0 | F74: 0 | G74: 0 | H74: 0 | I74: 0 | J74: 0 | K74: 0 | L74: 0 | M74: 0 | N74: 0 | O74: 43 | Q74: 0 | R74: 0
B75: Kubang Pasu | C75: 0 | D75: 0 | E75: 36 | F75: 21 | G75: 0 | H75: 0 | I75: 0 | J75: 0 | K75: 0 | L75: 0 | M75: 0 | N75: 0 | O75: 57 | Q75: 0 | R75: 0
B76: Kulim | C76: 0 | D76: 17 | E76: 25 | F76: 26 | G76: 0 | H76: 0 | I76: 0 | J76: 0 | K76: 0 | L76: 0 | M76: 0 | N76: 0 | O76: 68 | Q76: 0 | R76: 0
B77: Langkawi | C77: 0 | D77: 0 | E77: 0 | F77: 0 | G77: 0 | H77: 0 | I77: 0 | J77: 0 | K77: 0 | L77: 0 | M77: 0 | N77: 0 | O77: 0 | Q77: 0 | R77: 0
B78: Padang Terap | C78: 0 | D78: 0 | E78: 0 | F78: 0 | G78: 0 | H78: 0 | I78: 0 | J78: 0 | K78: 0 | L78: 0 | M78: 0 | N78: 0 | O78: 0 | Q78: 0 | R78: 0
B79: Pendang | C79: 0 | D79: 0 | E79: 0 | F79: 0 | G79: 0 | H79: 0 | I79: 0 | J79: 0 | K79: 0 | L79: 0 | M79: 0 | N79: 0 | O79: 0 | Q79: 0 | R79: 0
B80: Pokok Sena | C80: 0 | D80: 0 | E80: 0 | F80: 0 | G80: 0 | H80: 0 | I80: 0 | J80: 0 | K80: 0 | L80: 0 | M80: 0 | N80: 0 | O80: 0 | Q80: 0 | R80: 0
B81: Sik | C81: 0 | D81: 0 | E81: 0 | F81: 0 | G81: 0 | H81: 0 | I81: 0 | J81: 0 | K81: 0 | L81: 0 | M81: 0 | N81: 0 | O81: 0 | Q81: 0 | R81: 0
B82: Yan | C82: 0 | D82: 0 | E82: 0 | F82: 0 | G82: 0 | H82: 0 | I82: 0 | J82: 0 | K82: 0 | L82: 0 | M82: 0 | N82: 0 | O82: 0 | Q82: 0 | R82: 0
B84: KEDAH | C84: 0 | D84: 60 | E84: 72 | F84: 47 | G84: 0 | H84: 0 | I84: 0 | J84: 0 | K84: 0 | L84: 0 | M84: 0 | N84: 0 | O84: 179 | Q84: 0 | R84: 0
A86: H1 2026 | B86: Baling | C86: 0 | D86: 0 | E86: 0 | F86: 0 | G86: 0 | H86: 0 | I86: 0 | J86: 0 | K86: 0 | L86: 0 | M86: 0 | N86: 0 | O86: 0 | Q86: 0 | R86: 0
B87: Bandar Bharu | C87: 0 | D87: 0 | E87: 0 | F87: 0 | G87: 0 | H87: 0 | I87: 0 | J87: 0 | K87: 0 | L87: 0 | M87: 0 | N87: 0 | O87: 0 | Q87: 0 | R87: 0
B88: Kota Setar | C88: 0 | D88: 0 | E88: 0 | F88: 0 | G88: 0 | H88: 0 | I88: 0 | J88: 0 | K88: 0 | L88: 0 | M88: 0 | N88: 0 | O88: 0 | Q88: 0 | R88: 0
B89: Kuala Muda | C89: 0 | D89: 0 | E89: 20 | F89: 4 | G89: 0 | H89: 0 | I89: 0 | J89: 0 | K89: 0 | L89: 6 | M89: 0 | N89: 0 | O89: 30 | Q89: 0 | R89: 0
B90: Kubang Pasu | C90: 0 | D90: 0 | E90: 0 | F90: 0 | G90: 0 | H90: 0 | I90: 0 | J90: 0 | K90: 0 | L90: 0 | M90: 0 | N90: 0 | O90: 0 | Q90: 0 | R90: 0
B91: Kulim | C91: 0 | D91: 0 | E91: 23 | F91: 0 | G91: 0 | H91: 0 | I91: 0 | J91: 0 | K91: 0 | L91: 0 | M91: 0 | N91: 0 | O91: 23 | Q91: 0 | R91: 0
B92: Langkawi | C92: 0 | D92: 0 | E92: 0 | F92: 18 | G92: 0 | H92: 0 | I92: 0 | J92: 0 | K92: 0 | L92: 0 | M92: 0 | N92: 0 | O92: 18 | Q92: 0 | R92: 831
B93: Padang Terap | C93: 0 | D93: 0 | E93: 0 | F93: 0 | G93: 0 | H93: 0 | I93: 0 | J93: 0 | K93: 0 | L93: 0 | M93: 0 | N93: 0 | O93: 0 | Q93: 0 | R93: 0
B94: Pendang | C94: 0 | D94: 0 | E94: 0 | F94: 0 | G94: 0 | H94: 0 | I94: 0 | J94: 0 | K94: 0 | L94: 0 | M94: 0 | N94: 0 | O94: 0 | Q94: 0 | R94: 0
B95: Pokok Sena | C95: 0 | D95: 0 | E95: 0 | F95: 0 | G95: 0 | H95: 0 | I95: 0 | J95: 0 | K95: 0 | L95: 0 | M95: 0 | N95: 0 | O95: 0 | Q95: 0 | R95: 0
B96: Sik | C96: 0 | D96: 0 | E96: 0 | F96: 0 | G96: 0 | H96: 0 | I96: 0 | J96: 0 | K96: 0 | L96: 0 | M96: 0 | N96: 0 | O96: 0 | Q96: 0 | R96: 0
B97: Yan | C97: 0 | D97: 0 | E97: 0 | F97: 0 | G97: 0 | H97: 0 | I97: 0 | J97: 0 | K97: 0 | L97: 0 | M97: 0 | N97: 0 | O97: 0 | Q97: 0 | R97: 0
B99: KEDAH | C99: 0 | D99: 0 | E99: 43 | F99: 22 | G99: 0 | H99: 0 | I99: 0 | J99: 0 | K99: 0 | L99: 6 | M99: 0 | N99: 0 | O99: 71 | Q99: 0 | R99: 831
A101: INCOMING SUPPLY
A103: H1 2025 | B103: Baling | C103: 0 | D103: 0 | E103: 0 | F103: 0 | G103: 0 | H103: 0 | I103: 0 | J103: 0 | K103: 0 | L103: 0 | M103: 0 | N103: 0 | O103: 0 | Q103: 0 | R103: 0
B104: Bandar Bharu | C104: 0 | D104: 0 | E104: 25 | F104: 0 | G104: 0 | H104: 0 | I104: 0 | J104: 0 | K104: 0 | L104: 0 | M104: 0 | N104: 0 | O104: 25 | Q104: 0 | R104: 0
B105: Kota Setar | C105: 0 | D105: 0 | E105: 58 | F105: 4 | G105: 0 | H105: 0 | I105: 0 | J105: 0 | K105: 0 | L105: 0 | M105: 0 | N105: 0 | O105: 62 | Q105: 0 | R105: 0
B106: Kuala Muda | C106: 0 | D106: 36 | E106: 72 | F106: 18 | G106: 0 | H106: 0 | I106: 0 | J106: 0 | K106: 0 | L106: 0 | M106: 0 | N106: 0 | O106: 126 | Q106: 0 | R106: 0
B107: Kubang Pasu | C107: 0 | D107: 13 | E107: 129 | F107: 24 | G107: 0 | H107: 0 | I107: 0 | J107: 0 | K107: 0 | L107: 0 | M107: 0 | N107: 0 | O107: 166 | Q107: 0 | R107: 0
B108: Kulim | C108: 0 | D108: 85 | E108: 287 | F108: 28 | G108: 0 | H108: 0 | I108: 0 | J108: 0 | K108: 0 | L108: 14 | M108: 0 | N108: 0 | O108: 414 | Q108: 0 | R108: 0
B109: Langkawi | C109: 0 | D109: 0 | E109: 32 | F109: 18 | G109: 0 | H109: 0 | I109: 0 | J109: 0 | K109: 1 | L109: 0 | M109: 0 | N109: 0 | O109: 51 | Q109: 0 | R109: 0
B110: Padang Terap | C110: 0 | D110: 0 | E110: 0 | F110: 0 | G110: 0 | H110: 0 | I110: 0 | J110: 0 | K110: 0 | L110: 0 | M110: 0 | N110: 0 | O110: 0 | Q110: 0 | R110: 0
B111: Pendang | C111: 0 | D111: 0 | E111: 0 | F111: 0 | G111: 0 | H111: 0 | I111: 0 | J111: 0 | K111: 0 | L111: 0 | M111: 0 | N111: 0 | O111: 0 | Q111: 0 | R111: 0
B112: Pokok Sena | C112: 0 | D112: 0 | E112: 16 | F112: 0 | G112: 0 | H112: 0 | I112: 0 | J112: 0 | K112: 0 | L112: 0 | M112: 0 | N112: 0 | O112: 16 | Q112: 0 | R112: 0
B113: Sik | C113: 0 | D113: 0 | E113: 0 | F113: 0 | G113: 0 | H113: 0 | I113: 0 | J113: 0 | K113: 0 | L113: 0 | M113: 0 | N113: 0 | O113: 0 | Q113: 0 | R113: 0
B114: Yan | C114: 0 | D114: 0 | E114: 0 | F114: 0 | G114: 0 | H114: 0 | I114: 0 | J114: 0 | K114: 0 | L114: 0 | M114: 0 | N114: 0 | O114: 0 | Q114: 0 | R114: 0
B116: KEDAH | C116: 0 | D116: 134 | E116: 619 | F116: 92 | G116: 0 | H116: 0 | I116: 0 | J116: 0 | K116: 1 | L116: 14 | M116: 0 | N116: 0 | O116: 860 | Q116: 0 | R116: 0
A118: H2 2025 | B118: Baling | C118: 0 | D118: 0 | E118: 8 | F118: 0 | G118: 0 | H118: 0 | I118: 0 | J118: 0 | K118: 0 | L118: 0 | M118: 0 | N118: 0 | O118: 8 | Q118: 0 | R118: 0
B119: Bandar Bharu | C119: 0 | D119: 0 | E119: 0 | F119: 0 | G119: 0 | H119: 0 | I119: 0 | J119: 0 | K119: 0 | L119: 0 | M119: 0 | N119: 0 | O119: 0 | Q119: 0 | R119: 0
...

Sheet 2.11
A1: Table 2.11
A2: PENAWARAN UNIT KEDAI MENGIKUT JENIS DI PAHANG
A3: SUPPLY OF SHOP UNITS BY TYPE IN PAHANG
A5: Quarter Year | B5: Mukim | C5: Prewar | D5: 1 - 1 1/2 storey Terraced | E5: 2 - 2 1/2 storey Terraced | F5: 3 - 3 1/2 storey Terraced | G5: 4 - 4 1/2 storey Terraced | H5: 5 - 5 1/2 storey Terraced | I5: 6-6 1/2 storey Terraced | J5: > 6 1/2 storey Terraced | K5: Detached | L5: Semi-det. | M5: Cluster | N5: Stratified | O5: Total | Q5: Soho | R5: Serviced Apartment
A7: EXISTING STOCK
A9: H1 2025 | B9: Bentong | C9: 174 | D9: 155 | E9: 902 | F9: 317 | G9: 37 | H9: 0 | I9: 0 | J9: 0 | K9: 6 | L9: 2 | M9: 0 | N9: 14 | O9: 1607 | Q9: 0 | R9: 5019
B10: Bera | C10: 61 | D10: 202 | E10: 932 | F10: 580 | G10: 13 | H10: 0 | I10: 0 | J10: 0 | K10: 7 | L10: 0 | M10: 0 | N10: 0 | O10: 1795 | Q10: 0 | R10: 0
B11: Cameron Highlands | C11: 40 | D11: 44 | E11: 199 | F11: 283 | G11: 187 | H11: 31 | I11: 0 | J11: 0 | K11: 7 | L11: 0 | M11: 0 | N11: 375 | O11: 1166 | Q11: 0 | R11: 1371
B12: Daerah Kecil Genting | C12: 0 | D12: 0 | E12: 0 | F12: 0 | G12: 0 | H12: 0 | I12: 0 | J12: 0 | K12: 0 | L12: 0 | M12: 0 | N12: 0 | O12: 0 | Q12: 0 | R12: 0
B13: Jerantut | C13: 15 | D13: 217 | E13: 704 | F13: 288 | G13: 19 | H13: 0 | I13: 0 | J13: 0 | K13: 7 | L13: 0 | M13: 0 | N13: 0 | O13: 1250 | Q13: 0 | R13: 0
B14: Kuantan | C14: 136 | D14: 1063 | E14: 5084 | F14: 3436 | G14: 244 | H14: 9 | I14: 1 | J14: 0 | K14: 74 | L14: 6 | M14: 0 | N14: 430 | O14: 10483 | Q14: 0 | R14: 3653
B15: Lipis | C15: 58 | D15: 139 | E15: 404 | F15: 253 | G15: 11 | H15: 3 | I15: 0 | J15: 0 | K15: 4 | L15: 0 | M15: 0 | N15: 12 | O15: 884 | Q15: 0 | R15: 42
B16: Maran | C16: 0 | D16: 188 | E16: 957 | F16: 104 | G16: 0 | H16: 0 | I16: 0 | J16: 0 | K16: 6 | L16: 36 | M16: 0 | N16: 0 | O16: 1291 | Q16: 0 | R16: 0
B17: Pekan | C17: 52 | D17: 110 | E17: 395 | F17: 136 | G17: 0 | H17: 0 | I17: 0 | J17: 0 | K17: 20 | L17: 0 | M17: 0 | N17: 28 | O17: 741 | Q17: 0 | R17: 0
B18: Raub | C18: 126 | D18: 111 | E18: 901 | F18: 268 | G18: 30 | H18: 0 | I18: 0 | J18: 0 | K18: 25 | L18: 10 | M18: 0 | N18: 0 | O18: 1471 | Q18: 0 | R18: 0
B19: Rompin | C19: 0 | D19: 123 | E19: 951 | F19: 262 | G19: 1 | H19: 0 | I19: 0 | J19: 0 | K19: 3 | L19: 0 | M19: 0 | N19: 40 | O19: 1380 | Q19: 0 | R19: 0
B20: Temerloh | C20: 120 | D20: 541 | E20: 2108 | F20: 1207 | G20: 237 | H20: 14 | I20: 0 | J20: 0 | K20: 11 | L20: 2 | M20: 0 | N20: 77 | O20: 4317 | Q20: 0 | R20: 0
B22: PAHANG | C22: 782 | D22: 2893 | E22: 13537 | F22: 7134 | G22: 779 | H22: 57 | I22: 1 | J22: 0 | K22: 170 | L22: 56 | M22: 0 | N22: 976 | O22: 26385 | Q22: 0 | R22: 10085
A24: H2 2025 | B24: Bentong | C24: 174 | D24: 155 | E24: 902 | F24: 317 | G24: 37 | H24: 0 | I24: 0 | J24: 0 | K24: 6 | L24: 2 | M24: 0 | N24: 14 | O24: 1607 | Q24: 0 | R24: 6353
B25: Bera | C25: 61 | D25: 202 | E25: 932 | F25: 580 | G25: 13 | H25: 0 | I25: 0 | J25: 0 | K25: 7 | L25: 0 | M25: 0 | N25: 0 | O25: 1795 | Q25: 0 | R25: 0
B26: Cameron Highlands | C26: 40 | D26: 44 | E26: 199 | F26: 283 | G26: 187 | H26: 31 | I26: 0 | J26: 0 | K26: 7 | L26: 0 | M26: 0 | N26: 384 | O26: 1175 | Q26: 0 | R26: 1659
B27: Daerah Kecil Genting | C27: 0 | D27: 0 | E27: 16 | F27: 0 | G27: 0 | H27: 0 | I27: 0 | J27: 0 | K27: 0 | L27: 0 | M27: 0 | N27: 0 | O27: 16 | Q27: 0 | R27: 0
B28: Jerantut | C28: 15 | D28: 217 | E28: 696 | F28: 297 | G28: 19 | H28: 0 | I28: 0 | J28: 0 | K28: 6 | L28: 0 | M28: 0 | N28: 0 | O28: 1250 | Q28: 0 | R28: 0
B29: Kuantan | C29: 136 | D29: 1076 | E29: 5136 | F29: 3442 | G29: 246 | H29: 9 | I29: 1 | J29: 0 | K29: 51 | L29: 6 | M29: 0 | N29: 431 | O29: 10534 | Q29: 0 | R29: 3653
B30: Lipis | C30: 58 | D30: 139 | E30: 404 | F30: 253 | G30: 11 | H30: 3 | I30: 0 | J30: 0 | K30: 4 | L30: 0 | M30: 0 | N30: 12 | O30: 884 | Q30: 0 | R30: 42
B31: Maran | C31: 0 | D31: 188 | E31: 957 | F31: 104 | G31: 0 | H31: 0 | I31: 0 | J31: 0 | K31: 6 | L31: 36 | M31: 0 | N31: 0 | O31: 1291 | Q31: 0 | R31: 0
B32: Pekan | C32: 52 | D32: 110 | E32: 395 | F32: 149 | G32: 0 | H32: 0 | I32: 0 | J32: 0 | K32: 14 | L32: 0 | M32: 0 | N32: 28 | O32: 748 | Q32: 0 | R32: 0
B33: Raub | C33: 126 | D33: 111 | E33: 901 | F33: 268 | G33: 30 | H33: 0 | I33: 0 | J33: 0 | K33: 25 | L33: 10 | M33: 0 | N33: 0 | O33: 1471 | Q33: 0 | R33: 0
B34: Rompin | C34: 0 | D34: 123 | E34: 874 | F34: 264 | G34: 1 | H34: 0 | I34: 0 | J34: 0 | K34: 3 | L34: 0 | M34: 0 | N34: 40 | O34: 1305 | Q34: 0 | R34: 0
B35: Temerloh | C35: 120 | D35: 559 | E35: 2119 | F35: 1270 | G35: 237 | H35: 14 | I35: 0 | J35: 0 | K35: 11 | L35: 10 | M35: 0 | N35: 77 | O35: 4417 | Q35: 0 | R35: 0
B37: PAHANG | C37: 782 | D37: 2924 | E37: 13531 | F37: 7227 | G37: 781 | H37: 57 | I37: 1 | J37: 0 | K37: 140 | L37: 64 | M37: 0 | N37: 986 | O37: 26493 | Q37: 0 | R37: 11707
A39: H1 2026 | B39: Bentong | C39: 174 | D39: 155 | E39: 902 | F39: 317 | G39: 37 | H39: 0 | I39: 0 | J39: 0 | K39: 6 | L39: 2 | M39: 0 | N39: 14 | O39: 1607 | Q39: 0 | R39: 6829
B40: Bera | C40: 61 | D40: 202 | E40: 932 | F40: 580 | G40: 13 | H40: 0 | I40: 0 | J40: 0 | K40: 7 | L40: 0 | M40: 0 | N40: 0 | O40: 1795 | Q40: 0 | R40: 0
B41: Cameron Highlands | C41: 40 | D41: 44 | E41: 224 | F41: 285 | G41: 187 | H41: 31 | I41: 0 | J41: 0 | K41: 7 | L41: 0 | M41: 0 | N41: 384 | O41: 1202 | Q41: 0 | R41: 1659
B42: Daerah Kecil Genting | C42: 0 | D42: 0 | E42: 16 | F42: 0 | G42: 0 | H42: 0 | I42: 0 | J42: 0 | K42: 0 | L42: 0 | M42: 0 | N42: 0 | O42: 16 | Q42: 0 | R42: 0
B43: Jerantut | C43: 15 | D43: 217 | E43: 696 | F43: 297 | G43: 19 | H43: 0 | I43: 0 | J43: 0 | K43: 6 | L43: 0 | M43: 0 | N43: 0 | O43: 1250 | Q43: 0 | R43: 0
B44: Kuantan | C44: 136 | D44: 1085 | E44: 5180 | F44: 3442 | G44: 247 | H44: 9 | I44: 1 | J44: 0 | K44: 52 | L44: 6 | M44: 0 | N44: 431 | O44: 10589 | Q44: 0 | R44: 3653
B45: Lipis | C45: 58 | D45: 139 | E45: 419 | F45: 253 | G45: 11 | H45: 3 | I45: 0 | J45: 0 | K45: 4 | L45: 0 | M45: 0 | N45: 12 | O45: 899 | Q45: 0 | R45: 42
B46: Maran | C46: 0 | D46: 256 | E46: 972 | F46: 104 | G46: 0 | H46: 0 | I46: 0 | J46: 0 | K46: 6 | L46: 36 | M46: 0 | N46: 0 | O46: 1374 | Q46: 0 | R46: 0
B47: Pekan | C47: 52 | D47: 110 | E47: 409 | F47: 149 | G47: 0 | H47: 0 | I47: 0 | J47: 0 | K47: 14 | L47: 0 | M47: 0 | N47: 28 | O47: 762 | Q47: 0 | R47: 0
B48: Raub | C48: 126 | D48: 111 | E48: 987 | F48: 268 | G48: 30 | H48: 0 | I48: 0 | J48: 0 | K48: 25 | L48: 10 | M48: 0 | N48: 0 | O48: 1557 | Q48: 0 | R48: 0
B49: Rompin | C49: 0 | D49: 123 | E49: 951 | F49: 269 | G49: 1 | H49: 0 | I49: 0 | J49: 0 | K49: 3 | L49: 0 | M49: 0 | N49: 40 | O49: 1387 | Q49: 0 | R49: 0
B50: Temerloh | C50: 120 | D50: 559 | E50: 2119 | F50: 1270 | G50: 237 | H50: 14 | I50: 0 | J50: 0 | K50: 11 | L50: 10 | M50: 0 | N50: 77 | O50: 4417 | Q50: 0 | R50: 0
B52: PAHANG | C52: 782 | D52: 3001 | E52: 13807 | F52: 7234 | G52: 782 | H52: 57 | I52: 1 | J52: 0 | K52: 141 | L52: 64 | M52: 0 | N52: 986 | O52: 26855 | Q52: 0 | R52: 12183
B54: COMPLETION
A56: H1 2025 | B56: Bentong | C56: 0 | D56: 0 | E56: 0 | F56: 0 | G56: 0 | H56: 0 | I56: 0 | J56: 0 | K56: 0 | L56: 0 | M56: 0 | N56: 0 | O56: 0 | Q56: 0 | R56: 0
B57: Bera | C57: 0 | D57: 0 | E57: 0 | F57: 0 | G57: 0 | H57: 0 | I57: 0 | J57: 0 | K57: 0 | L57: 0 | M57: 0 | N57: 0 | O57: 0 | Q57: 0 | R57: 0
B58: Cameron Highlands | C58: 0 | D58: 0 | E58: 0 | F58: 0 | G58: 0 | H58: 0 | I58: 0 | J58: 0 | K58: 0 | L58: 0 | M58: 0 | N58: 15 | O58: 15 | Q58: 0 | R58: 0
B59: Daerah Kecil Genting | C59: 0 | D59: 0 | E59: 0 | F59: 0 | G59: 0 | H59: 0 | I59: 0 | J59: 0 | K59: 0 | L59: 0 | M59: 0 | N59: 0 | O59: 0 | Q59: 0 | R59: 0
B60: Jerantut | C60: 0 | D60: 0 | E60: 8 | F60: 6 | G60: 0 | H60: 0 | I60: 0 | J60: 0 | K60: 1 | L60: 0 | M60: 0 | N60: 0 | O60: 15 | Q60: 0 | R60: 0
B61: Kuantan | C61: 0 | D61: 0 | E61: 64 | F61: 2 | G61: 0 | H61: 0 | I61: 0 | J61: 0 | K61: 0 | L61: 0 | M61: 0 | N61: 0 | O61: 66 | Q61: 0 | R61: 0
B62: Lipis | C62: 0 | D62: 0 | E62: 0 | F62: 0 | G62: 0 | H62: 0 | I62: 0 | J62: 0 | K62: 0 | L62: 0 | M62: 0 | N62: 0 | O62: 0 | Q62: 0 | R62: 0
B63: Maran | C63: 0 | D63: 0 | E63: 0 | F63: 0 | G63: 0 | H63: 0 | I63: 0 | J63: 0 | K63: 0 | L63: 0 | M63: 0 | N63: 0 | O63: 0 | Q63: 0 | R63: 0
B64: Pekan | C64: 0 | D64: 0 | E64: 0 | F64: 0 | G64: 0 | H64: 0 | I64: 0 | J64: 0 | K64: 0 | L64: 0 | M64: 0 | N64: 0 | O64: 0 | Q64: 0 | R64: 0
B65: Raub | C65: 0 | D65: 0 | E65: 0 | F65: 0 | G65: 0 | H65: 0 | I65: 0 | J65: 0 | K65: 0 | L65: 0 | M65: 0 | N65: 0 | O65: 0 | Q65: 0 | R65: 0
B66: Rompin | C66: 0 | D66: 0 | E66: 0 | F66: 0 | G66: 0 | H66: 0 | I66: 0 | J66: 0 | K66: 0 | L66: 0 | M66: 0 | N66: 0 | O66: 0 | Q66: 0 | R66: 0
B67: Temerloh | C67: 0 | D67: 0 | E67: 0 | F67: 0 | G67: 0 | H67: 0 | I67: 0 | J67: 0 | K67: 0 | L67: 0 | M67: 0 | N67: 0 | O67: 0 | Q67: 0 | R67: 0
B69: PAHANG | C69: 0 | D69: 0 | E69: 72 | F69: 8 | G69: 0 | H69: 0 | I69: 0 | J69: 0 | K69: 1 | L69: 0 | M69: 0 | N69: 15 | O69: 96 | Q69: 0 | R69: 0
A71: H2 2025 | B71: Bentong | C71: 0 | D71: 0 | E71: 0 | F71: 0 | G71: 0 | H71: 0 | I71: 0 | J71: 0 | K71: 0 | L71: 0 | M71: 0 | N71: 0 | O71: 0 | Q71: 0 | R71: 1460
B72: Bera | C72: 0 | D72: 0 | E72: 0 | F72: 0 | G72: 0 | H72: 0 | I72: 0 | J72: 0 | K72: 0 | L72: 0 | M72: 0 | N72: 0 | O72: 0 | Q72: 0 | R72: 0
B73: Cameron Highlands | C73: 0 | D73: 0 | E73: 0 | F73: 0 | G73: 0 | H73: 0 | I73: 0 | J73: 0 | K73: 0 | L73: 0 | M73: 0 | N73: 0 | O73: 0 | Q73: 0 | R73: 288
B74: Daerah Kecil Genting | C74: 0 | D74: 0 | E74: 0 | F74: 0 | G74: 0 | H74: 0 | I74: 0 | J74: 0 | K74: 0 | L74: 0 | M74: 0 | N74: 0 | O74: 0 | Q74: 0 | R74: 0
B75: Jerantut | C75: 0 | D75: 0 | E75: 0 | F75: 3 | G75: 0 | H75: 0 | I75: 0 | J75: 0 | K75: 0 | L75: 0 | M75: 0 | N75: 0 | O75: 3 | Q75: 0 | R75: 0
B76: Kuantan | C76: 0 | D76: 13 | E76: 59 | F76: 0 | G76: 0 | H76: 0 | I76: 0 | J76: 0 | K76: 0 | L76: 0 | M76: 0 | N76: 0 | O76: 72 | Q76: 0 | R76: 0
B77: Lipis | C77: 0 | D77: 0 | E77: 0 | F77: 0 | G77: 0 | H77: 0 | I77: 0 | J77: 0 | K77: 0 | L77: 0 | M77: 0 | N77: 0 | O77: 0 | Q77: 0 | R77: 0
B78: Maran | C78: 0 | D78: 0 | E78: 0 | F78: 0 | G78: 0 | H78: 0 | I78: 0 | J78: 0 | K78: 0 | L78: 0 | M78: 0 | N78: 0 | O78: 0 | Q78: 0 | R78: 0
B79: Pekan | C79: 0 | D79: 0 | E79: 0 | F79: 0 | G79: 0 | H79: 0 | I79: 0 | J79: 0 | K79: 0 | L79: 0 | M79: 0 | N79: 0 | O79: 0 | Q79: 0 | R79: 0
B80: Raub | C80: 0 | D80: 0 | E80: 0 | F80: 0 | G80: 0 | H80: 0 | I80: 0 | J80: 0 | K80: 0 | L80: 0 | M80: 0 | N80: 0 | O80: 0 | Q80: 0 | R80: 0
B81: Rompin | C81: 0 | D81: 0 | E81: 0 | F81: 4 | G81: 0 | H81: 0 | I81: 0 | J81: 0 | K81: 0 | L81: 0 | M81: 0 | N81: 0 | O81: 4 | Q81: 0 | R81: 0
B82: Temerloh | C82: 0 | D82: 18 | E82: 11 | F82: 0 | G82: 0 | H82: 0 | I82: 0 | J82: 0 | K82: 0 | L82: 0 | M82: 0 | N82: 0 | O82: 29 | Q82: 0 | R82: 0
B84: PAHANG | C84: 0 | D84: 31 | E84: 70 | F84: 7 | G84: 0 | H84: 0 | I84: 0 | J84: 0 | K84: 0 | L84: 0 | M84: 0 | N84: 0 | O84: 108 | Q84: 0 | R84: 1748
A86: H1 2026 | B86: Bentong | C86: 0 | D86: 0 | E86: 0 | F86: 0 | G86: 0 | H86: 0 | I86: 0 | J86: 0 | K86: 0 | L86: 0 | M86: 0 | N86: 0 | O86: 0 | Q86: 0 | R86: 0
B87: Bera | C87: 0 | D87: 0 | E87: 0 | F87: 0 | G87: 0 | H87: 0 | I87: 0 | J87: 0 | K87: 0 | L87: 0 | M87: 0 | N87: 0 | O87: 0 | Q87: 0 | R87: 0
B88: Cameron Highlands | C88: 0 | D88: 0 | E88: 0 | F88: 0 | G88: 0 | H88: 0 | I88: 0 | J88: 0 | K88: 0 | L88: 0 | M88: 0 | N88: 0 | O88: 0 | Q88: 0 | R88: 0
B89: Daerah Kecil Genting | C89: 0 | D89: 0 | E89: 0 | F89: 0 | G89: 0 | H89: 0 | I89: 0 | J89: 0 | K89: 0 | L89: 0 | M89: 0 | N89: 0 | O89: 0 | Q89: 0 | R89: 0
B90: Jerantut | C90: 0 | D90: 0 | E90: 0 | F90: 0 | G90: 0 | H90: 0 | I90: 0 | J90: 0 | K90: 0 | L90: 0 | M90: 0 | N90: 0 | O90: 0 | Q90: 0 | R90: 0
B91: Kuantan | C91: 0 | D91: 4 | E91: 0 | F91: 0 | G91: 0 | H91: 0 | I91: 0 | J91: 0 | K91: 0 | L91: 0 | M91: 0 | N91: 0 | O91: 4 | Q91: 0 | R91: 0
B92: Lipis | C92: 0 | D92: 0 | E92: 15 | F92: 0 | G92: 0 | H92: 0 | I92: 0 | J92: 0 | K92: 0 | L92: 0 | M92: 0 | N92: 0 | O92: 15 | Q92: 0 | R92: 0
B93: Maran | C93: 0 | D93: 68 | E93: 15 | F93: 0 | G93: 0 | H93: 0 | I93: 0 | J93: 0 | K93: 0 | L93: 0 | M93: 0 | N93: 0 | O93: 83 | Q93: 0 | R93: 0
B94: Pekan | C94: 0 | D94: 0 | E94: 14 | F94: 0 | G94: 0 | H94: 0 | I94: 0 | J94: 0 | K94: 0 | L94: 0 | M94: 0 | N94: 0 | O94: 14 | Q94: 0 | R94: 0
B95: Raub | C95: 0 | D95: 0 | E95: 0 | F95: 0 | G95: 0 | H95: 0 | I95: 0 | J95: 0 | K95: 0 | L95: 0 | M95: 0 | N95: 0 | O95: 0 | Q95: 0 | R95: 0
B96: Rompin | C96: 0 | D96: 0 | E96: 0 | F96: 0 | G96: 0 | H96: 0 | I96: 0 | J96: 0 | K96: 0 | L96: 0 | M96: 0 | N96: 0 | O96: 0 | Q96: 0 | R96: 0
B97: Temerloh | C97: 0 | D97: 0 | E97: 0 | F97: 0 | G97: 0 | H97: 0 | I97: 0 | J97: 0 | K97: 0 | L97: 0 | M97: 0 | N97: 0 | O97: 0 | Q97: 0 | R97: 0
B99: PAHANG | C99: 0 | D99: 72 | E99: 44 | F99: 0 | G99: 0 | H99: 0 | I99: 0 | J99: 0 | K99: 0 | L99: 0 | M99: 0 | N99: 0 | O99: 116 | Q99: 0 | R99: 0
A101: INCOMING SUPPLY
A103: H1 2025 | B103: Bentong | C103: 0 | D103: 0 | E103: 0 | F103: 0 | G103: 0 | H103: 0 | I103: 0 | J103: 0 | K103: 0 | L103: 0 | M103: 0 | N103: 0 | O103: 0 | Q103: 0 | R103: 2224
B104: Bera | C104: 0 | D104: 0 | E104: 0 | F104: 0 | G104: 0 | H104: 0 | I104: 0 | J104: 0 | K104: 0 | L104: 0 | M104: 0 | N104: 0 | O104: 0 | Q104: 0 | R104: 0
B105: Cameron Highlands | C105: 0 | D105: 0 | E105: 65 | F105: 2 | G105: 0 | H105: 0 | I105: 0 | J105: 0 | K105: 0 | L105: 0 | M105: 0 | N105: 25 | O105: 92 | Q105: 0 | R105: 330
B106: Daerah Kecil Genting | C106: 0 | D106: 0 | E106: 0 | F106: 0 | G106: 0 | H106: 0 | I106: 0 | J106: 0 | K106: 0 | L106: 0 | M106: 0 | N106: 0 | O106: 0 | Q106: 0 | R106: 0
B107: Jerantut | C107: 0 | D107: 24 | E107: 89 | F107: 24 | G107: 0 | H107: 0 | I107: 0 | J107: 0 | K107: 0 | L107: 0 | M107: 0 | N107: 0 | O107: 137 | Q107: 0 | R107: 0
B108: Kuantan | C108: 0 | D108: 232 | E108: 451 | F108: 71 | G108: 14 | H108: 11 | I108: 4 | J108: 0 | K108: 3 | L108: 52 | M108: 0 | N108: 13 | O108: 851 | Q108: 0 | R108: 505
B109: Lipis | C109: 0 | D109: 1 | E109: 27 | F109: 0 | G109: 0 | H109: 0 | I109: 0 | J109: 0 | K109: 0 | L109: 0 | M109: 0 | N109: 0 | O109: 28 | Q109: 0 | R109: 0
B110: Maran | C110: 0 | D110: 68 | E110: 302 | F110: 37 | G110: 4 | H110: 0 | I110: 0 | J110: 0 | K110: 0 | L110: 0 | M110: 0 | N110: 0 | O110: 411 | Q110: 0 | R110: 0
B111: Pekan | C111: 0 | D111: 0 | E111: 57 | F111: 21 | G111: 0 | H111: 0 | I111: 0 | J111: 0 | K111: 0 | L111: 0 | M111: 0 | N111: 0 | O111: 78 | Q111: 0 | R111: 0
B112: Raub | C112: 0 | D112: 15 | E112: 153 | F112: 21 | G112: 0 | H112: 0 | I112: 0 | J112: 0 | K112: 1 | L112: 8 | M112: 0 | N112: 0 | O112: 198 | Q112: 0 | R112: 0
B113: Rompin | C113: 0 | D113: 0 | E113: 5 | F113: 12 | G113: 0 | H113: 0 | I113: 0 | J113: 0 | K113: 0 | L113: 0 | M113: 0 | N113: 0 | O113: 17 | Q113: 0 | R113: 0
B114: Temerloh | C114: 0 | D114: 32 | E114: 11 | F114: 104 | G114: 8 | H114: 0 | I114: 0 | J114: 0 | K114: 0 | L114: 12 | M114: 0 | N114: 0 | O114: 167 | Q114: 0 | R114: 0
B116: PAHANG | C116: 0 | D116: 372 | E116: 1160 | F116: 292 | G116: 26 | H116: 11 | I116: 4 | J116: 0 | K116: 4 | L116: 72 | M116: 0 | N116: 38 | O116: 1979 | Q116: 0 | R116: 3059
A118: H2 2025 | B118: Bentong | C118: 0 | D118: 0 | E118: 13 | F118: 0 | G118: 0 | H118: 0 | I118: 0 | J118: 0 | K118: 0 | L118: 0 | M118: 0 | N118: 0 | O118: 13 | Q118: 0 | R118: 3781
B119: Bera | C119: 0 | D119: 0 | E119: 13 | F119: 0 | G119: 0 | H119: 0 | I119: 0 | J119: 0 | K119: 0 | L119: 0 | M119: 0 | N119: 0 | O119: 13 | Q119: 0 | R119: 0
...

Sheet 2.12
A1: Table 2.12
A2: PENAWARAN UNIT KEDAI MENGIKUT JENIS DI TERENGGANU
A3: SUPPLY OF KSHOP UNITS BY TYPE IN TERENGGANU
A5: Quarter Year | B5: Mukim | C5: Prewar | D5: 1 - 1 1/2 storey Terraced | E5: 2 - 2 1/2 storey Terraced | F5: 3 - 3 1/2 storey Terraced | G5: 4 - 4 1/2 storey Terraced | H5: 5 - 5 1/2 storey Terraced | I5: 6-6 1/2 storey Terraced | J5: > 6 1/2 storey Terraced | K5: Detached | L5: Semi-det. | M5: Cluster | N5: Stratified | O5: Total | Q5: Soho | R5: Serviced Apartment
A7: EXISTING STOCK
A9: H1 2025 | B9: Besut | C9: 39 | D9: 191 | E9: 495 | F9: 95 | G9: 77 | H9: 0 | I9: 0 | J9: 0 | K9: 72 | L9: 26 | M9: 0 | N9: 10 | O9: 1005 | Q9: 0 | R9: 0
B10: Dungun | C10: 85 | D10: 48 | E10: 653 | F10: 289 | G10: 52 | H10: 0 | I10: 0 | J10: 0 | K10: 8 | L10: 0 | M10: 0 | N10: 0 | O10: 1135 | Q10: 0 | R10: 0
B11: Hulu Terengganu | C11: 0 | D11: 49 | E11: 243 | F11: 39 | G11: 19 | H11: 18 | I11: 0 | J11: 0 | K11: 9 | L11: 0 | M11: 0 | N11: 0 | O11: 377 | Q11: 0 | R11: 0
B12: Kemaman | C12: 25 | D12: 134 | E12: 1075 | F12: 587 | G12: 83 | H12: 11 | I12: 0 | J12: 0 | K12: 0 | L12: 2 | M12: 0 | N12: 110 | O12: 2027 | Q12: 0 | R12: 132
B13: Kuala Nerus | C13: 0 | D13: 54 | E13: 340 | F13: 327 | G13: 14 | H13: 0 | I13: 2 | J13: 0 | K13: 84 | L13: 12 | M13: 0 | N13: 0 | O13: 833 | Q13: 0 | R13: 0
B14: Kuala Terengganu | C14: 182 | D14: 25 | E14: 513 | F14: 476 | G14: 550 | H14: 91 | I14: 8 | J14: 0 | K14: 297 | L14: 24 | M14: 0 | N14: 150 | O14: 2316 | Q14: 0 | R14: 144
B15: Marang | C15: 0 | D15: 80 | E15: 406 | F15: 94 | G15: 0 | H15: 0 | I15: 0 | J15: 0 | K15: 12 | L15: 8 | M15: 0 | N15: 0 | O15: 600 | Q15: 0 | R15: 0
B16: Setiu | C16: 0 | D16: 56 | E16: 155 | F16: 13 | G16: 5 | H16: 0 | I16: 0 | J16: 0 | K16: 0 | L16: 0 | M16: 0 | N16: 0 | O16: 229 | Q16: 0 | R16: 0
B18: TERENGGANU | C18: 331 | D18: 637 | E18: 3880 | F18: 1920 | G18: 800 | H18: 120 | I18: 10 | J18: 0 | K18: 482 | L18: 72 | M18: 0 | N18: 270 | O18: 8522 | Q18: 0 | R18: 276
A20: H2 2025 | B20: Besut | C20: 39 | D20: 191 | E20: 511 | F20: 95 | G20: 77 | H20: 0 | I20: 0 | J20: 0 | K20: 74 | L20: 26 | M20: 0 | N20: 10 | O20: 1023 | Q20: 0 | R20: 0
B21: Dungun | C21: 85 | D21: 48 | E21: 694 | F21: 316 | G21: 53 | H21: 0 | I21: 0 | J21: 0 | K21: 8 | L21: 0 | M21: 0 | N21: 0 | O21: 1204 | Q21: 0 | R21: 0
B22: Hulu Terengganu | C22: 0 | D22: 49 | E22: 276 | F22: 52 | G22: 36 | H22: 19 | I22: 0 | J22: 0 | K22: 9 | L22: 0 | M22: 0 | N22: 0 | O22: 441 | Q22: 0 | R22: 0
B23: Kemaman | C23: 25 | D23: 134 | E23: 1138 | F23: 604 | G23: 83 | H23: 11 | I23: 0 | J23: 0 | K23: 1 | L23: 2 | M23: 0 | N23: 110 | O23: 2108 | Q23: 0 | R23: 132
B24: Kuala Nerus | C24: 0 | D24: 54 | E24: 352 | F24: 333 | G24: 14 | H24: 0 | I24: 2 | J24: 0 | K24: 84 | L24: 12 | M24: 0 | N24: 0 | O24: 851 | Q24: 0 | R24: 0
B25: Kuala Terengganu | C25: 182 | D25: 25 | E25: 517 | F25: 487 | G25: 564 | H25: 93 | I25: 8 | J25: 0 | K25: 298 | L25: 24 | M25: 0 | N25: 150 | O25: 2348 | Q25: 0 | R25: 144
B26: Marang | C26: 0 | D26: 109 | E26: 421 | F26: 100 | G26: 0 | H26: 0 | I26: 0 | J26: 0 | K26: 12 | L26: 10 | M26: 0 | N26: 0 | O26: 652 | Q26: 0 | R26: 0
B27: Setiu | C27: 0 | D27: 63 | E27: 169 | F27: 17 | G27: 5 | H27: 0 | I27: 0 | J27: 0 | K27: 2 | L27: 0 | M27: 0 | N27: 0 | O27: 256 | Q27: 0 | R27: 0
B29: TERENGGANU | C29: 331 | D29: 673 | E29: 4078 | F29: 2004 | G29: 832 | H29: 123 | I29: 10 | J29: 0 | K29: 488 | L29: 74 | M29: 0 | N29: 270 | O29: 8883 | Q29: 0 | R29: 276
A31: H1 2026 | B31: Besut | C31: 39 | D31: 191 | E31: 519 | F31: 95 | G31: 77 | H31: 0 | I31: 0 | J31: 0 | K31: 74 | L31: 26 | M31: 0 | N31: 10 | O31: 1031 | Q31: 0 | R31: 0
B32: Dungun | C32: 85 | D32: 48 | E32: 694 | F32: 316 | G32: 53 | H32: 0 | I32: 0 | J32: 0 | K32: 8 | L32: 0 | M32: 0 | N32: 0 | O32: 1204 | Q32: 0 | R32: 0
B33: Hulu Terengganu | C33: 0 | D33: 49 | E33: 282 | F33: 52 | G33: 36 | H33: 19 | I33: 0 | J33: 0 | K33: 9 | L33: 0 | M33: 0 | N33: 0 | O33: 447 | Q33: 0 | R33: 0
B34: Kemaman | C34: 25 | D34: 134 | E34: 1138 | F34: 604 | G34: 83 | H34: 11 | I34: 0 | J34: 0 | K34: 1 | L34: 2 | M34: 0 | N34: 110 | O34: 2108 | Q34: 0 | R34: 132
B35: Kuala Nerus | C35: 0 | D35: 54 | E35: 352 | F35: 333 | G35: 14 | H35: 0 | I35: 2 | J35: 0 | K35: 84 | L35: 12 | M35: 0 | N35: 0 | O35: 851 | Q35: 0 | R35: 0
B36: Kuala Terengganu | C36: 182 | D36: 25 | E36: 517 | F36: 487 | G36: 564 | H36: 93 | I36: 8 | J36: 0 | K36: 298 | L36: 24 | M36: 0 | N36: 150 | O36: 2348 | Q36: 0 | R36: 144
B37: Marang | C37: 0 | D37: 109 | E37: 426 | F37: 100 | G37: 0 | H37: 0 | I37: 0 | J37: 0 | K37: 12 | L37: 10 | M37: 0 | N37: 0 | O37: 657 | Q37: 0 | R37: 0
B38: Setiu | C38: 0 | D38: 63 | E38: 169 | F38: 17 | G38: 5 | H38: 0 | I38: 0 | J38: 0 | K38: 2 | L38: 0 | M38: 0 | N38: 0 | O38: 256 | Q38: 0 | R38: 0
B40: TERENGGANU | C40: 331 | D40: 673 | E40: 4097 | F40: 2004 | G40: 832 | H40: 123 | I40: 10 | J40: 0 | K40: 488 | L40: 74 | M40: 0 | N40: 270 | O40: 8902 | Q40: 0 | R40: 276
B42: COMPLETION
A44: H1 2025 | B44: Besut | C44: 0 | D44: 5 | E44: 0 | F44: 2 | G44: 0 | H44: 0 | I44: 0 | J44: 0 | K44: 0 | L44: 0 | M44: 0 | N44: 0 | O44: 7 | Q44: 0 | R44: 0
B45: Dungun | C45: 0 | D45: 0 | E45: 0 | F45: 0 | G45: 0 | H45: 0 | I45: 0 | J45: 0 | K45: 0 | L45: 0 | M45: 0 | N45: 0 | O45: 0 | Q45: 0 | R45: 0
B46: Hulu Terengganu | C46: 0 | D46: 0 | E46: 0 | F46: 0 | G46: 0 | H46: 0 | I46: 0 | J46: 0 | K46: 0 | L46: 0 | M46: 0 | N46: 0 | O46: 0 | Q46: 0 | R46: 0
B47: Kemaman | C47: 0 | D47: 0 | E47: 0 | F47: 0 | G47: 0 | H47: 0 | I47: 0 | J47: 0 | K47: 0 | L47: 0 | M47: 0 | N47: 0 | O47: 0 | Q47: 0 | R47: 0
B48: Kuala Nerus | C48: 0 | D48: 0 | E48: 0 | F48: 0 | G48: 0 | H48: 0 | I48: 0 | J48: 0 | K48: 0 | L48: 0 | M48: 0 | N48: 0 | O48: 0 | Q48: 0 | R48: 0
